| Back to Multiple platform build/check report for BioC 3.20: simplified long |
|
This page was generated on 2025-04-02 19:30 -0400 (Wed, 02 Apr 2025).
| Hostname | OS | Arch (*) | R version | Installed pkgs |
|---|---|---|---|---|
| nebbiolo2 | Linux (Ubuntu 24.04.1 LTS) | x86_64 | 4.4.3 (2025-02-28) -- "Trophy Case" | 4764 |
| palomino8 | Windows Server 2022 Datacenter | x64 | 4.4.3 (2025-02-28 ucrt) -- "Trophy Case" | 4495 |
| merida1 | macOS 12.7.5 Monterey | x86_64 | 4.4.3 (2025-02-28) -- "Trophy Case" | 4522 |
| kjohnson1 | macOS 13.6.6 Ventura | arm64 | 4.4.3 (2025-02-28) -- "Trophy Case" | 4449 |
| taishan | Linux (openEuler 24.03 LTS) | aarch64 | 4.4.3 (2025-02-28) -- "Trophy Case" | 4426 |
| Click on any hostname to see more info about the system (e.g. compilers) (*) as reported by 'uname -p', except on Windows and Mac OS X | ||||
| Package 1330/2289 | Hostname | OS / Arch | INSTALL | BUILD | CHECK | BUILD BIN | ||||||||
| MsBackendMetaboLights 1.0.0 (landing page) Johannes Rainer
| nebbiolo2 | Linux (Ubuntu 24.04.1 LTS) / x86_64 | OK | OK | ERROR | |||||||||
| palomino8 | Windows Server 2022 Datacenter / x64 | OK | OK | OK | OK | |||||||||
| merida1 | macOS 12.7.5 Monterey / x86_64 | OK | OK | ERROR | OK | |||||||||
| kjohnson1 | macOS 13.6.6 Ventura / arm64 | OK | OK | OK | OK | |||||||||
| taishan | Linux (openEuler 24.03 LTS) / aarch64 | OK | OK | OK | ||||||||||
|
To the developers/maintainers of the MsBackendMetaboLights package: - Allow up to 24 hours (and sometimes 48 hours) for your latest push to git@git.bioconductor.org:packages/MsBackendMetaboLights.git to reflect on this report. See Troubleshooting Build Report for more information. - Use the following Renviron settings to reproduce errors and warnings. - If 'R CMD check' started to fail recently on the Linux builder(s) over a missing dependency, add the missing dependency to 'Suggests:' in your DESCRIPTION file. See Renviron.bioc for more information. |
| Package: MsBackendMetaboLights |
| Version: 1.0.0 |
| Command: F:\biocbuild\bbs-3.20-bioc\R\bin\R.exe CMD check --no-multiarch --install=check:MsBackendMetaboLights.install-out.txt --library=F:\biocbuild\bbs-3.20-bioc\R\library --no-vignettes --timings MsBackendMetaboLights_1.0.0.tar.gz |
| StartedAt: 2025-04-01 03:45:12 -0400 (Tue, 01 Apr 2025) |
| EndedAt: 2025-04-01 03:53:20 -0400 (Tue, 01 Apr 2025) |
| EllapsedTime: 487.5 seconds |
| RetCode: 0 |
| Status: OK |
| CheckDir: MsBackendMetaboLights.Rcheck |
| Warnings: 0 |
##############################################################################
##############################################################################
###
### Running command:
###
### F:\biocbuild\bbs-3.20-bioc\R\bin\R.exe CMD check --no-multiarch --install=check:MsBackendMetaboLights.install-out.txt --library=F:\biocbuild\bbs-3.20-bioc\R\library --no-vignettes --timings MsBackendMetaboLights_1.0.0.tar.gz
###
##############################################################################
##############################################################################
* using log directory 'F:/biocbuild/bbs-3.20-bioc/meat/MsBackendMetaboLights.Rcheck'
* using R version 4.4.3 (2025-02-28 ucrt)
* using platform: x86_64-w64-mingw32
* R was compiled by
gcc.exe (GCC) 13.3.0
GNU Fortran (GCC) 13.3.0
* running under: Windows Server 2022 x64 (build 20348)
* using session charset: UTF-8
* using option '--no-vignettes'
* checking for file 'MsBackendMetaboLights/DESCRIPTION' ... OK
* this is package 'MsBackendMetaboLights' version '1.0.0'
* package encoding: UTF-8
* checking package namespace information ... OK
* checking package dependencies ... OK
* checking if this is a source package ... OK
* checking if there is a namespace ... OK
* checking for hidden files and directories ... OK
* checking for portable file names ... OK
* checking whether package 'MsBackendMetaboLights' can be installed ... OK
* checking installed package size ... OK
* checking package directory ... OK
* checking 'build' directory ... OK
* checking DESCRIPTION meta-information ... OK
* checking top-level files ... OK
* checking for left-over files ... OK
* checking index information ... OK
* checking package subdirectories ... OK
* checking code files for non-ASCII characters ... OK
* checking R files for syntax errors ... OK
* checking whether the package can be loaded ... OK
* checking whether the package can be loaded with stated dependencies ... OK
* checking whether the package can be unloaded cleanly ... OK
* checking whether the namespace can be loaded with stated dependencies ... OK
* checking whether the namespace can be unloaded cleanly ... OK
* checking dependencies in R code ... OK
* checking S3 generic/method consistency ... OK
* checking replacement functions ... OK
* checking foreign function calls ... OK
* checking R code for possible problems ... OK
* checking Rd files ... OK
* checking Rd metadata ... OK
* checking Rd cross-references ... OK
* checking for missing documentation entries ... OK
* checking for code/documentation mismatches ... OK
* checking Rd \usage sections ... OK
* checking Rd contents ... OK
* checking for unstated dependencies in examples ... OK
* checking files in 'vignettes' ... OK
* checking examples ... OK
Examples with CPU (user + system) or elapsed time > 5s
user system elapsed
MsBackendMetaboLights 11.93 1.62 120.39
MetaboLights-utils 0.44 0.03 7.17
* checking for unstated dependencies in 'tests' ... OK
* checking tests ...
Running 'testthat.R'
OK
* checking for unstated dependencies in vignettes ... OK
* checking package vignettes ... OK
* checking running R code from vignettes ... SKIPPED
* checking re-building of vignette outputs ... SKIPPED
* checking PDF version of manual ... OK
* DONE
Status: OK
MsBackendMetaboLights.Rcheck/00install.out
############################################################################## ############################################################################## ### ### Running command: ### ### F:\biocbuild\bbs-3.20-bioc\R\bin\R.exe CMD INSTALL MsBackendMetaboLights ### ############################################################################## ############################################################################## * installing to library 'F:/biocbuild/bbs-3.20-bioc/R/library' * installing *source* package 'MsBackendMetaboLights' ... ** using staged installation ** R ** byte-compile and prepare package for lazy loading ** help *** installing help indices ** building package indices ** installing vignettes ** testing if installed package can be loaded from temporary location ** testing if installed package can be loaded from final location ** testing if installed package keeps a record of temporary installation path * DONE (MsBackendMetaboLights)
MsBackendMetaboLights.Rcheck/tests/testthat.Rout
R version 4.4.3 (2025-02-28 ucrt) -- "Trophy Case"
Copyright (C) 2025 The R Foundation for Statistical Computing
Platform: x86_64-w64-mingw32/x64
R is free software and comes with ABSOLUTELY NO WARRANTY.
You are welcome to redistribute it under certain conditions.
Type 'license()' or 'licence()' for distribution details.
R is a collaborative project with many contributors.
Type 'contributors()' for more information and
'citation()' on how to cite R or R packages in publications.
Type 'demo()' for some demos, 'help()' for on-line help, or
'help.start()' for an HTML browser interface to help.
Type 'q()' to quit R.
> #' MetaboLights ID: MTBLS8735
> #' ftp://ftp.ebi.ac.uk/pub/databases/metabolights/studies/public/MTBLS8735
>
> library(testthat)
> library(MsBackendMetaboLights)
Loading required package: Spectra
Loading required package: S4Vectors
Loading required package: stats4
Loading required package: BiocGenerics
Attaching package: 'BiocGenerics'
The following objects are masked from 'package:stats':
IQR, mad, sd, var, xtabs
The following objects are masked from 'package:base':
Filter, Find, Map, Position, Reduce, anyDuplicated, aperm, append,
as.data.frame, basename, cbind, colnames, dirname, do.call,
duplicated, eval, evalq, get, grep, grepl, intersect, is.unsorted,
lapply, mapply, match, mget, order, paste, pmax, pmax.int, pmin,
pmin.int, rank, rbind, rownames, sapply, saveRDS, setdiff, table,
tapply, union, unique, unsplit, which.max, which.min
Attaching package: 'S4Vectors'
The following object is masked from 'package:utils':
findMatches
The following objects are masked from 'package:base':
I, expand.grid, unname
Loading required package: BiocParallel
>
> test_check("MsBackendMetaboLights")
[ FAIL 0 | WARN 3 | SKIP 0 | PASS 67 ]
[ FAIL 0 | WARN 3 | SKIP 0 | PASS 67 ]
>
> ## Run tests with the unit test suite defined in the Spectra package to ensure
> ## compliance with the definitions of the MsBackend interface/class.
> be <- backendInitialize(MsBackendMetaboLights(), mtblsId = "MTBLS39",
+ filePattern = "63A.cdf", offline = TRUE)
>
> library(Spectra)
> test_suite <- system.file("test_backends", "test_MsBackend",
+ package = "Spectra")
> res <- test_dir(test_suite, stop_on_failure = TRUE)
✔ | F W S OK | Context
⠏ | 0 | peaks_variables
⠙ | 2 | peaks_variables
⠸ | 4 | peaks_variables
✔ | 4 | peaks_variables
⠏ | 0 | spectra_subsetting
⠋ | 1 | spectra_subsetting
⠏ | 10 | spectra_subsetting
⠋ | 21 | spectra_subsetting
⠙ | 32 | spectra_subsetting
⠹ | 43 | spectra_subsetting
⠋ | 51 | spectra_subsetting
⠋ | 61 | spectra_subsetting
⠹ | 73 | spectra_subsetting
⠼ | 85 | spectra_subsetting
⠦ | 97 | spectra_subsetting
⠇ | 109 | spectra_subsetting
⠇ | 119 | spectra_subsetting
⠦ | 127 | spectra_subsetting
⠸ | 134 | spectra_subsetting
⠙ | 142 | spectra_subsetting
⠙ | 152 | spectra_subsetting
⠹ | 163 | spectra_subsetting
⠹ | 173 | spectra_subsetting
⠙ | 182 | spectra_subsetting
⠏ | 190 | spectra_subsetting
⠦ | 197 | spectra_subsetting
⠼ | 205 | spectra_subsetting
⠸ | 214 | spectra_subsetting
⠙ | 222 | spectra_subsetting
⠇ | 229 | spectra_subsetting
⠋ | 241 | spectra_subsetting
⠋ | 251 | spectra_subsetting
⠙ | 262 | spectra_subsetting
⠸ | 274 | spectra_subsetting
⠼ | 285 | spectra_subsetting
⠼ | 295 | spectra_subsetting
⠋ | 301 | spectra_subsetting
⠏ | 310 | spectra_subsetting
⠇ | 319 | spectra_subsetting
⠧ | 328 | spectra_subsetting
⠦ | 337 | spectra_subsetting
⠴ | 346 | spectra_subsetting
⠸ | 354 | spectra_subsetting
⠋ | 361 | spectra_subsetting
⠇ | 369 | spectra_subsetting
⠴ | 376 | spectra_subsetting
⠼ | 385 | spectra_subsetting
⠸ | 394 | spectra_subsetting
⠙ | 402 | spectra_subsetting
⠇ | 409 | spectra_subsetting
⠴ | 416 | spectra_subsetting
⠴ | 426 | spectra_subsetting
⠴ | 436 | spectra_subsetting
⠴ | 446 | spectra_subsetting
⠧ | 458 | spectra_subsetting
⠇ | 469 | spectra_subsetting
⠧ | 478 | spectra_subsetting
⠦ | 487 | spectra_subsetting
⠇ | 499 | spectra_subsetting
⠦ | 507 | spectra_subsetting
⠴ | 516 | spectra_subsetting
⠴ | 526 | spectra_subsetting
⠹ | 533 | spectra_subsetting
⠋ | 541 | spectra_subsetting
⠏ | 550 | spectra_subsetting
⠇ | 559 | spectra_subsetting
⠧ | 568 | spectra_subsetting
⠦ | 577 | spectra_subsetting
⠦ | 587 | spectra_subsetting
⠼ | 595 | spectra_subsetting
⠸ | 604 | spectra_subsetting
⠙ | 612 | spectra_subsetting
⠇ | 619 | spectra_subsetting
⠧ | 628 | spectra_subsetting
⠦ | 637 | spectra_subsetting
⠴ | 646 | spectra_subsetting
⠦ | 657 | spectra_subsetting
⠦ | 667 | spectra_subsetting
⠹ | 673 | spectra_subsetting
⠙ | 682 | spectra_subsetting
⠋ | 691 | spectra_subsetting
⠧ | 698 | spectra_subsetting
⠦ | 707 | spectra_subsetting
⠧ | 718 | spectra_subsetting
⠏ | 730 | spectra_subsetting
⠇ | 739 | spectra_subsetting
⠴ | 746 | spectra_subsetting
⠸ | 754 | spectra_subsetting
⠹ | 763 | spectra_subsetting
⠙ | 772 | spectra_subsetting
⠋ | 781 | spectra_subsetting
⠹ | 793 | spectra_subsetting
⠙ | 802 | spectra_subsetting
⠋ | 811 | spectra_subsetting
⠧ | 818 | spectra_subsetting
⠇ | 829 | spectra_subsetting
⠧ | 838 | spectra_subsetting
⠦ | 847 | spectra_subsetting
⠦ | 857 | spectra_subsetting
⠴ | 866 | spectra_subsetting
⠴ | 876 | spectra_subsetting
⠹ | 883 | spectra_subsetting
⠙ | 892 | spectra_subsetting
⠸ | 904 | spectra_subsetting
⠹ | 913 | spectra_subsetting
⠇ | 919 | spectra_subsetting
⠧ | 928 | spectra_subsetting
⠦ | 937 | spectra_subsetting
⠴ | 946 | spectra_subsetting
⠼ | 955 | spectra_subsetting
⠦ | 967 | spectra_subsetting
⠴ | 976 | spectra_subsetting
⠹ | 983 | spectra_subsetting
⠙ | 992 | spectra_subsetting
⠹ | 1003 | spectra_subsetting
⠼ | 1015 | spectra_subsetting
⠹ | 1023 | spectra_subsetting
⠏ | 1030 | spectra_subsetting
⠇ | 1039 | spectra_subsetting
⠧ | 1048 | spectra_subsetting
⠦ | 1057 | spectra_subsetting
⠹ | 1063 | spectra_subsetting
⠏ | 1070 | spectra_subsetting
⠧ | 1078 | spectra_subsetting
⠼ | 1085 | spectra_subsetting
⠹ | 1093 | spectra_subsetting
⠇ | 1099 | spectra_subsetting
⠧ | 1108 | spectra_subsetting
⠦ | 1117 | spectra_subsetting
⠹ | 1123 | spectra_subsetting
⠹ | 1133 | spectra_subsetting
⠙ | 1142 | spectra_subsetting
⠹ | 1153 | spectra_subsetting
⠋ | 1161 | spectra_subsetting
⠧ | 1168 | spectra_subsetting
⠼ | 1175 | spectra_subsetting
⠹ | 1183 | spectra_subsetting
⠋ | 1191 | spectra_subsetting
⠋ | 1201 | spectra_subsetting
⠏ | 1210 | spectra_subsetting
⠋ | 1221 | spectra_subsetting
⠋ | 1231 | spectra_subsetting
⠹ | 1243 | spectra_subsetting
⠹ | 1253 | spectra_subsetting
⠋ | 1261 | spectra_subsetting
⠹ | 1273 | spectra_subsetting
⠏ | 1280 | spectra_subsetting
⠋ | 1291 | spectra_subsetting
⠏ | 1300 | spectra_subsetting
⠦ | 1307 | spectra_subsetting
⠸ | 1314 | spectra_subsetting
⠋ | 1321 | spectra_subsetting
⠏ | 1330 | spectra_subsetting
⠇ | 1339 | spectra_subsetting
⠧ | 1348 | spectra_subsetting
⠧ | 1358 | spectra_subsetting
⠇ | 1369 | spectra_subsetting
⠧ | 1378 | spectra_subsetting
⠦ | 1387 | spectra_subsetting
⠇ | 1399 | spectra_subsetting
⠇ | 1409 | spectra_subsetting
⠧ | 1418 | spectra_subsetting
⠇ | 1429 | spectra_subsetting
⠧ | 1438 | spectra_subsetting
⠏ | 1450 | spectra_subsetting
⠇ | 1459 | spectra_subsetting
⠧ | 1468 | spectra_subsetting
⠏ | 1480 | spectra_subsetting
⠇ | 1489 | spectra_subsetting
⠴ | 1496 | spectra_subsetting
⠸ | 1504 | spectra_subsetting
⠋ | 1511 | spectra_subsetting
⠙ | 1522 | spectra_subsetting
⠋ | 1531 | spectra_subsetting
⠇ | 1539 | spectra_subsetting
⠇ | 1549 | spectra_subsetting
⠋ | 1561 | spectra_subsetting
⠏ | 1570 | spectra_subsetting
⠇ | 1579 | spectra_subsetting
⠧ | 1588 | spectra_subsetting
⠏ | 1600 | spectra_subsetting
⠇ | 1609 | spectra_subsetting
⠧ | 1618 | spectra_subsetting
⠦ | 1627 | spectra_subsetting
⠴ | 1636 | spectra_subsetting
⠼ | 1645 | spectra_subsetting
⠦ | 1657 | spectra_subsetting
⠹ | 1663 | spectra_subsetting
⠸ | 1664 | spectra_subsetting
⠼ | 1665 | spectra_subsetting
⠴ | 1666 | spectra_subsetting
⠦ | 1667 | spectra_subsetting
⠧ | 1668 | spectra_subsetting
⠇ | 1669 | spectra_subsetting
⠏ | 1670 | spectra_subsetting
⠋ | 1671 | spectra_subsetting
⠙ | 1672 | spectra_subsetting
⠹ | 1673 | spectra_subsetting
⠸ | 1674 | spectra_subsetting
⠼ | 1675 | spectra_subsetting
⠴ | 1676 | spectra_subsetting
⠦ | 1677 | spectra_subsetting
⠧ | 1678 | spectra_subsetting
⠇ | 1679 | spectra_subsetting
⠏ | 1680 | spectra_subsetting
⠋ | 1681 | spectra_subsetting
⠙ | 1682 | spectra_subsetting
⠹ | 1683 | spectra_subsetting
⠸ | 1684 | spectra_subsetting
⠼ | 1685 | spectra_subsetting
⠴ | 1686 | spectra_subsetting
⠦ | 1687 | spectra_subsetting
⠧ | 1688 | spectra_subsetting
⠇ | 1689 | spectra_subsetting
⠏ | 1690 | spectra_subsetting
⠋ | 1691 | spectra_subsetting
⠙ | 1692 | spectra_subsetting
⠹ | 1693 | spectra_subsetting
⠸ | 1694 | spectra_subsetting
⠼ | 1695 | spectra_subsetting
⠴ | 1696 | spectra_subsetting
⠦ | 1697 | spectra_subsetting
⠧ | 1698 | spectra_subsetting
⠇ | 1699 | spectra_subsetting
⠏ | 1700 | spectra_subsetting
⠋ | 1701 | spectra_subsetting
⠙ | 1702 | spectra_subsetting
⠹ | 1703 | spectra_subsetting
⠸ | 1704 | spectra_subsetting
⠼ | 1705 | spectra_subsetting
⠴ | 1706 | spectra_subsetting
⠦ | 1707 | spectra_subsetting
⠧ | 1708 | spectra_subsetting
⠇ | 1709 | spectra_subsetting
⠏ | 1710 | spectra_subsetting
⠋ | 1711 | spectra_subsetting
⠙ | 1712 | spectra_subsetting
⠹ | 1713 | spectra_subsetting
⠸ | 1714 | spectra_subsetting
⠼ | 1715 | spectra_subsetting
⠴ | 1716 | spectra_subsetting
⠦ | 1717 | spectra_subsetting
⠧ | 1718 | spectra_subsetting
⠇ | 1719 | spectra_subsetting
⠏ | 1720 | spectra_subsetting
⠋ | 1721 | spectra_subsetting
⠙ | 1722 | spectra_subsetting
⠹ | 1723 | spectra_subsetting
⠸ | 1724 | spectra_subsetting
⠼ | 1725 | spectra_subsetting
⠴ | 1726 | spectra_subsetting
⠦ | 1727 | spectra_subsetting
⠧ | 1728 | spectra_subsetting
⠇ | 1729 | spectra_subsetting
⠏ | 1730 | spectra_subsetting
⠋ | 1731 | spectra_subsetting
⠙ | 1732 | spectra_subsetting
⠹ | 1733 | spectra_subsetting
⠸ | 1734 | spectra_subsetting
⠼ | 1735 | spectra_subsetting
⠴ | 1736 | spectra_subsetting
⠦ | 1737 | spectra_subsetting
⠧ | 1738 | spectra_subsetting
⠇ | 1739 | spectra_subsetting
⠏ | 1740 | spectra_subsetting
⠋ | 1741 | spectra_subsetting
⠙ | 1742 | spectra_subsetting
⠹ | 1743 | spectra_subsetting
⠸ | 1744 | spectra_subsetting
⠼ | 1745 | spectra_subsetting
⠴ | 1746 | spectra_subsetting
⠦ | 1747 | spectra_subsetting
⠧ | 1748 | spectra_subsetting
⠇ | 1749 | spectra_subsetting
⠏ | 1750 | spectra_subsetting
⠋ | 1751 | spectra_subsetting
⠙ | 1752 | spectra_subsetting
⠹ | 1753 | spectra_subsetting
⠸ | 1754 | spectra_subsetting
⠼ | 1755 | spectra_subsetting
⠴ | 1756 | spectra_subsetting
⠦ | 1757 | spectra_subsetting
⠧ | 1758 | spectra_subsetting
⠇ | 1759 | spectra_subsetting
⠏ | 1760 | spectra_subsetting
⠋ | 1761 | spectra_subsetting
⠙ | 1762 | spectra_subsetting
⠹ | 1763 | spectra_subsetting
⠸ | 1764 | spectra_subsetting
⠼ | 1765 | spectra_subsetting
⠴ | 1766 | spectra_subsetting
⠦ | 1767 | spectra_subsetting
⠧ | 1768 | spectra_subsetting
⠇ | 1769 | spectra_subsetting
⠏ | 1770 | spectra_subsetting
⠋ | 1771 | spectra_subsetting
⠙ | 1772 | spectra_subsetting
⠹ | 1773 | spectra_subsetting
⠸ | 1774 | spectra_subsetting
⠼ | 1775 | spectra_subsetting
⠴ | 1776 | spectra_subsetting
⠦ | 1777 | spectra_subsetting
⠧ | 1778 | spectra_subsetting
⠇ | 1779 | spectra_subsetting
⠏ | 1780 | spectra_subsetting
⠋ | 1781 | spectra_subsetting
⠙ | 1782 | spectra_subsetting
⠹ | 1783 | spectra_subsetting
⠸ | 1784 | spectra_subsetting
⠼ | 1785 | spectra_subsetting
⠴ | 1786 | spectra_subsetting
⠦ | 1787 | spectra_subsetting
⠧ | 1788 | spectra_subsetting
⠇ | 1789 | spectra_subsetting
⠏ | 1790 | spectra_subsetting
⠋ | 1791 | spectra_subsetting
⠙ | 1792 | spectra_subsetting
⠹ | 1793 | spectra_subsetting
⠸ | 1794 | spectra_subsetting
⠼ | 1795 | spectra_subsetting
⠴ | 1796 | spectra_subsetting
⠦ | 1797 | spectra_subsetting
⠧ | 1798 | spectra_subsetting
⠇ | 1799 | spectra_subsetting
⠏ | 1800 | spectra_subsetting
⠋ | 1801 | spectra_subsetting
⠙ | 1802 | spectra_subsetting
⠹ | 1803 | spectra_subsetting
⠸ | 1804 | spectra_subsetting
⠼ | 1805 | spectra_subsetting
⠴ | 1806 | spectra_subsetting
⠦ | 1807 | spectra_subsetting
⠧ | 1808 | spectra_subsetting
⠇ | 1809 | spectra_subsetting
⠏ | 1810 | spectra_subsetting
⠋ | 1811 | spectra_subsetting
⠙ | 1812 | spectra_subsetting
⠹ | 1813 | spectra_subsetting
⠸ | 1814 | spectra_subsetting
⠼ | 1815 | spectra_subsetting
⠴ | 1816 | spectra_subsetting
⠦ | 1817 | spectra_subsetting
⠧ | 1818 | spectra_subsetting
⠇ | 1819 | spectra_subsetting
⠏ | 1820 | spectra_subsetting
⠋ | 1821 | spectra_subsetting
⠙ | 1822 | spectra_subsetting
⠹ | 1823 | spectra_subsetting
⠸ | 1824 | spectra_subsetting
⠼ | 1825 | spectra_subsetting
⠴ | 1826 | spectra_subsetting
⠦ | 1827 | spectra_subsetting
⠧ | 1828 | spectra_subsetting
⠇ | 1829 | spectra_subsetting
⠏ | 1830 | spectra_subsetting
⠋ | 1831 | spectra_subsetting
⠙ | 1832 | spectra_subsetting
⠹ | 1833 | spectra_subsetting
⠸ | 1834 | spectra_subsetting
⠼ | 1835 | spectra_subsetting
⠴ | 1836 | spectra_subsetting
⠦ | 1837 | spectra_subsetting
⠧ | 1838 | spectra_subsetting
⠇ | 1839 | spectra_subsetting
⠏ | 1840 | spectra_subsetting
⠋ | 1841 | spectra_subsetting
⠙ | 1842 | spectra_subsetting
⠹ | 1843 | spectra_subsetting
⠸ | 1844 | spectra_subsetting
⠼ | 1845 | spectra_subsetting
⠴ | 1846 | spectra_subsetting
⠦ | 1847 | spectra_subsetting
⠧ | 1848 | spectra_subsetting
⠇ | 1849 | spectra_subsetting
⠏ | 1850 | spectra_subsetting
⠋ | 1851 | spectra_subsetting
⠙ | 1852 | spectra_subsetting
⠹ | 1853 | spectra_subsetting
⠸ | 1854 | spectra_subsetting
⠼ | 1855 | spectra_subsetting
⠴ | 1856 | spectra_subsetting
⠦ | 1857 | spectra_subsetting
⠧ | 1858 | spectra_subsetting
⠇ | 1859 | spectra_subsetting
⠏ | 1860 | spectra_subsetting
⠋ | 1861 | spectra_subsetting
⠙ | 1862 | spectra_subsetting
⠹ | 1863 | spectra_subsetting
⠸ | 1864 | spectra_subsetting
⠼ | 1865 | spectra_subsetting
⠴ | 1866 | spectra_subsetting
⠦ | 1867 | spectra_subsetting
⠧ | 1868 | spectra_subsetting
⠇ | 1869 | spectra_subsetting
⠏ | 1870 | spectra_subsetting
⠋ | 1871 | spectra_subsetting
⠙ | 1872 | spectra_subsetting
⠹ | 1873 | spectra_subsetting
⠸ | 1874 | spectra_subsetting
⠼ | 1875 | spectra_subsetting
⠴ | 1876 | spectra_subsetting
⠦ | 1877 | spectra_subsetting
⠧ | 1878 | spectra_subsetting
⠇ | 1879 | spectra_subsetting
⠏ | 1880 | spectra_subsetting
⠋ | 1881 | spectra_subsetting
⠙ | 1882 | spectra_subsetting
⠹ | 1883 | spectra_subsetting
⠸ | 1884 | spectra_subsetting
⠼ | 1885 | spectra_subsetting
⠴ | 1886 | spectra_subsetting
⠦ | 1887 | spectra_subsetting
⠧ | 1888 | spectra_subsetting
⠇ | 1889 | spectra_subsetting
⠏ | 1890 | spectra_subsetting
⠋ | 1891 | spectra_subsetting
⠙ | 1892 | spectra_subsetting
⠹ | 1893 | spectra_subsetting
⠸ | 1894 | spectra_subsetting
⠼ | 1895 | spectra_subsetting
⠴ | 1896 | spectra_subsetting
⠦ | 1897 | spectra_subsetting
⠧ | 1898 | spectra_subsetting
⠇ | 1899 | spectra_subsetting
⠏ | 1900 | spectra_subsetting
⠋ | 1901 | spectra_subsetting
⠙ | 1902 | spectra_subsetting
⠹ | 1903 | spectra_subsetting
⠸ | 1904 | spectra_subsetting
⠼ | 1905 | spectra_subsetting
⠴ | 1906 | spectra_subsetting
⠦ | 1907 | spectra_subsetting
⠧ | 1908 | spectra_subsetting
⠇ | 1909 | spectra_subsetting
⠏ | 1910 | spectra_subsetting
⠋ | 1911 | spectra_subsetting
⠙ | 1912 | spectra_subsetting
⠹ | 1913 | spectra_subsetting
⠸ | 1914 | spectra_subsetting
⠼ | 1915 | spectra_subsetting
⠴ | 1916 | spectra_subsetting
⠦ | 1917 | spectra_subsetting
⠧ | 1918 | spectra_subsetting
⠇ | 1919 | spectra_subsetting
⠏ | 1920 | spectra_subsetting
⠋ | 1921 | spectra_subsetting
⠙ | 1922 | spectra_subsetting
⠹ | 1923 | spectra_subsetting
⠸ | 1924 | spectra_subsetting
⠼ | 1925 | spectra_subsetting
⠴ | 1926 | spectra_subsetting
⠦ | 1927 | spectra_subsetting
⠧ | 1928 | spectra_subsetting
⠇ | 1929 | spectra_subsetting
⠏ | 1930 | spectra_subsetting
⠋ | 1931 | spectra_subsetting
⠙ | 1932 | spectra_subsetting
⠹ | 1933 | spectra_subsetting
⠸ | 1934 | spectra_subsetting
⠼ | 1935 | spectra_subsetting
⠴ | 1936 | spectra_subsetting
⠦ | 1937 | spectra_subsetting
⠧ | 1938 | spectra_subsetting
⠇ | 1939 | spectra_subsetting
⠏ | 1940 | spectra_subsetting
⠋ | 1941 | spectra_subsetting
⠙ | 1942 | spectra_subsetting
⠹ | 1943 | spectra_subsetting
⠸ | 1944 | spectra_subsetting
⠼ | 1945 | spectra_subsetting
⠴ | 1946 | spectra_subsetting
⠦ | 1947 | spectra_subsetting
⠧ | 1948 | spectra_subsetting
⠇ | 1949 | spectra_subsetting
⠏ | 1950 | spectra_subsetting
⠋ | 1951 | spectra_subsetting
⠙ | 1952 | spectra_subsetting
⠹ | 1953 | spectra_subsetting
⠸ | 1954 | spectra_subsetting
⠼ | 1955 | spectra_subsetting
⠴ | 1956 | spectra_subsetting
⠦ | 1957 | spectra_subsetting
⠧ | 1958 | spectra_subsetting
⠇ | 1959 | spectra_subsetting
⠏ | 1960 | spectra_subsetting
⠋ | 1961 | spectra_subsetting
⠙ | 1962 | spectra_subsetting
⠹ | 1963 | spectra_subsetting
⠸ | 1964 | spectra_subsetting
⠼ | 1965 | spectra_subsetting
⠴ | 1966 | spectra_subsetting
⠦ | 1967 | spectra_subsetting
⠧ | 1968 | spectra_subsetting
⠇ | 1969 | spectra_subsetting
⠏ | 1970 | spectra_subsetting
⠋ | 1971 | spectra_subsetting
⠙ | 1972 | spectra_subsetting
⠹ | 1973 | spectra_subsetting
⠸ | 1974 | spectra_subsetting
⠼ | 1975 | spectra_subsetting
⠴ | 1976 | spectra_subsetting
⠦ | 1977 | spectra_subsetting
⠧ | 1978 | spectra_subsetting
⠇ | 1979 | spectra_subsetting
⠏ | 1980 | spectra_subsetting
⠋ | 1981 | spectra_subsetting
⠙ | 1982 | spectra_subsetting
⠹ | 1983 | spectra_subsetting
⠸ | 1984 | spectra_subsetting
⠼ | 1985 | spectra_subsetting
⠴ | 1986 | spectra_subsetting
⠦ | 1987 | spectra_subsetting
⠧ | 1988 | spectra_subsetting
⠇ | 1989 | spectra_subsetting
⠏ | 1990 | spectra_subsetting
⠋ | 1991 | spectra_subsetting
⠙ | 1992 | spectra_subsetting
⠹ | 1993 | spectra_subsetting
⠸ | 1994 | spectra_subsetting
⠼ | 1995 | spectra_subsetting
⠴ | 1996 | spectra_subsetting
⠦ | 1997 | spectra_subsetting
⠧ | 1998 | spectra_subsetting
⠇ | 1999 | spectra_subsetting
⠏ | 2000 | spectra_subsetting
⠋ | 2001 | spectra_subsetting
⠙ | 2002 | spectra_subsetting
⠹ | 2003 | spectra_subsetting
⠸ | 2004 | spectra_subsetting
⠼ | 2005 | spectra_subsetting
⠴ | 2006 | spectra_subsetting
⠦ | 2007 | spectra_subsetting
⠧ | 2008 | spectra_subsetting
⠇ | 2009 | spectra_subsetting
⠏ | 2010 | spectra_subsetting
⠋ | 2011 | spectra_subsetting
⠙ | 2012 | spectra_subsetting
⠹ | 2013 | spectra_subsetting
⠸ | 2014 | spectra_subsetting
⠼ | 2015 | spectra_subsetting
⠴ | 2016 | spectra_subsetting
⠦ | 2017 | spectra_subsetting
⠧ | 2018 | spectra_subsetting
⠇ | 2019 | spectra_subsetting
⠏ | 2020 | spectra_subsetting
⠋ | 2021 | spectra_subsetting
⠙ | 2022 | spectra_subsetting
⠹ | 2023 | spectra_subsetting
⠸ | 2024 | spectra_subsetting
⠼ | 2025 | spectra_subsetting
⠴ | 2026 | spectra_subsetting
⠦ | 2027 | spectra_subsetting
⠧ | 2028 | spectra_subsetting
⠇ | 2029 | spectra_subsetting
⠏ | 2030 | spectra_subsetting
⠋ | 2031 | spectra_subsetting
⠙ | 2032 | spectra_subsetting
⠹ | 2033 | spectra_subsetting
⠸ | 2034 | spectra_subsetting
⠼ | 2035 | spectra_subsetting
⠴ | 2036 | spectra_subsetting
⠦ | 2037 | spectra_subsetting
⠧ | 2038 | spectra_subsetting
⠇ | 2039 | spectra_subsetting
⠏ | 2040 | spectra_subsetting
⠋ | 2041 | spectra_subsetting
⠙ | 2042 | spectra_subsetting
⠹ | 2043 | spectra_subsetting
⠸ | 2044 | spectra_subsetting
⠼ | 2045 | spectra_subsetting
⠴ | 2046 | spectra_subsetting
⠦ | 2047 | spectra_subsetting
⠧ | 2048 | spectra_subsetting
⠇ | 2049 | spectra_subsetting
⠏ | 2050 | spectra_subsetting
⠋ | 2051 | spectra_subsetting
⠙ | 2052 | spectra_subsetting
⠹ | 2053 | spectra_subsetting
⠸ | 2054 | spectra_subsetting
⠼ | 2055 | spectra_subsetting
⠴ | 2056 | spectra_subsetting
⠦ | 2057 | spectra_subsetting
⠧ | 2058 | spectra_subsetting
⠇ | 2059 | spectra_subsetting
⠏ | 2060 | spectra_subsetting
⠋ | 2061 | spectra_subsetting
⠙ | 2062 | spectra_subsetting
⠹ | 2063 | spectra_subsetting
⠸ | 2064 | spectra_subsetting
⠼ | 2065 | spectra_subsetting
⠴ | 2066 | spectra_subsetting
⠦ | 2067 | spectra_subsetting
⠧ | 2068 | spectra_subsetting
⠇ | 2069 | spectra_subsetting
⠏ | 2070 | spectra_subsetting
⠋ | 2071 | spectra_subsetting
⠙ | 2072 | spectra_subsetting
⠹ | 2073 | spectra_subsetting
⠸ | 2074 | spectra_subsetting
⠼ | 2075 | spectra_subsetting
⠴ | 2076 | spectra_subsetting
⠦ | 2077 | spectra_subsetting
⠧ | 2078 | spectra_subsetting
⠇ | 2079 | spectra_subsetting
⠏ | 2080 | spectra_subsetting
⠋ | 2081 | spectra_subsetting
⠙ | 2082 | spectra_subsetting
⠹ | 2083 | spectra_subsetting
⠸ | 2084 | spectra_subsetting
⠼ | 2085 | spectra_subsetting
⠴ | 2086 | spectra_subsetting
⠦ | 2087 | spectra_subsetting
⠧ | 2088 | spectra_subsetting
⠇ | 2089 | spectra_subsetting
⠏ | 2090 | spectra_subsetting
⠋ | 2091 | spectra_subsetting
⠙ | 2092 | spectra_subsetting
⠹ | 2093 | spectra_subsetting
⠸ | 2094 | spectra_subsetting
⠼ | 2095 | spectra_subsetting
⠴ | 2096 | spectra_subsetting
⠦ | 2097 | spectra_subsetting
⠧ | 2098 | spectra_subsetting
⠇ | 2099 | spectra_subsetting
⠏ | 2100 | spectra_subsetting
⠋ | 2101 | spectra_subsetting
⠙ | 2102 | spectra_subsetting
⠹ | 2103 | spectra_subsetting
⠸ | 2104 | spectra_subsetting
⠼ | 2105 | spectra_subsetting
⠴ | 2106 | spectra_subsetting
⠦ | 2107 | spectra_subsetting
⠧ | 2108 | spectra_subsetting
⠇ | 2109 | spectra_subsetting
⠏ | 2110 | spectra_subsetting
⠋ | 2111 | spectra_subsetting
⠙ | 2112 | spectra_subsetting
⠹ | 2113 | spectra_subsetting
⠸ | 2114 | spectra_subsetting
⠼ | 2115 | spectra_subsetting
⠴ | 2116 | spectra_subsetting
⠦ | 2117 | spectra_subsetting
⠧ | 2118 | spectra_subsetting
⠇ | 2119 | spectra_subsetting
⠏ | 2120 | spectra_subsetting
⠋ | 2121 | spectra_subsetting
⠙ | 2122 | spectra_subsetting
⠹ | 2123 | spectra_subsetting
⠸ | 2124 | spectra_subsetting
⠼ | 2125 | spectra_subsetting
⠴ | 2126 | spectra_subsetting
⠦ | 2127 | spectra_subsetting
⠧ | 2128 | spectra_subsetting
⠇ | 2129 | spectra_subsetting
⠏ | 2130 | spectra_subsetting
⠋ | 2131 | spectra_subsetting
⠙ | 2132 | spectra_subsetting
⠹ | 2133 | spectra_subsetting
⠸ | 2134 | spectra_subsetting
⠼ | 2135 | spectra_subsetting
⠴ | 2136 | spectra_subsetting
⠦ | 2137 | spectra_subsetting
⠧ | 2138 | spectra_subsetting
⠇ | 2139 | spectra_subsetting
⠏ | 2140 | spectra_subsetting
⠋ | 2141 | spectra_subsetting
⠙ | 2142 | spectra_subsetting
⠹ | 2143 | spectra_subsetting
⠸ | 2144 | spectra_subsetting
⠼ | 2145 | spectra_subsetting
⠴ | 2146 | spectra_subsetting
⠦ | 2147 | spectra_subsetting
⠧ | 2148 | spectra_subsetting
⠇ | 2149 | spectra_subsetting
⠏ | 2150 | spectra_subsetting
⠋ | 2151 | spectra_subsetting
⠙ | 2152 | spectra_subsetting
⠹ | 2153 | spectra_subsetting
⠸ | 2154 | spectra_subsetting
⠼ | 2155 | spectra_subsetting
⠴ | 2156 | spectra_subsetting
⠦ | 2157 | spectra_subsetting
⠧ | 2158 | spectra_subsetting
⠇ | 2159 | spectra_subsetting
⠏ | 2160 | spectra_subsetting
⠋ | 2161 | spectra_subsetting
⠙ | 2162 | spectra_subsetting
⠹ | 2163 | spectra_subsetting
⠸ | 2164 | spectra_subsetting
⠼ | 2165 | spectra_subsetting
⠴ | 2166 | spectra_subsetting
⠦ | 2167 | spectra_subsetting
⠧ | 2168 | spectra_subsetting
⠇ | 2169 | spectra_subsetting
⠏ | 2170 | spectra_subsetting
⠋ | 2171 | spectra_subsetting
⠙ | 2172 | spectra_subsetting
⠹ | 2173 | spectra_subsetting
⠸ | 2174 | spectra_subsetting
⠼ | 2175 | spectra_subsetting
⠴ | 2176 | spectra_subsetting
⠦ | 2177 | spectra_subsetting
⠧ | 2178 | spectra_subsetting
⠇ | 2179 | spectra_subsetting
⠏ | 2180 | spectra_subsetting
⠋ | 2181 | spectra_subsetting
⠙ | 2182 | spectra_subsetting
⠹ | 2183 | spectra_subsetting
⠸ | 2184 | spectra_subsetting
⠼ | 2185 | spectra_subsetting
⠴ | 2186 | spectra_subsetting
⠦ | 2187 | spectra_subsetting
⠧ | 2188 | spectra_subsetting
⠇ | 2189 | spectra_subsetting
⠏ | 2190 | spectra_subsetting
⠋ | 2191 | spectra_subsetting
⠙ | 2192 | spectra_subsetting
⠹ | 2193 | spectra_subsetting
⠸ | 2194 | spectra_subsetting
⠼ | 2195 | spectra_subsetting
⠴ | 2196 | spectra_subsetting
⠦ | 2197 | spectra_subsetting
⠧ | 2198 | spectra_subsetting
⠇ | 2199 | spectra_subsetting
⠏ | 2200 | spectra_subsetting
⠋ | 2201 | spectra_subsetting
⠙ | 2202 | spectra_subsetting
⠹ | 2203 | spectra_subsetting
⠸ | 2204 | spectra_subsetting
⠼ | 2205 | spectra_subsetting
⠴ | 2206 | spectra_subsetting
⠦ | 2207 | spectra_subsetting
⠧ | 2208 | spectra_subsetting
⠇ | 2209 | spectra_subsetting
⠏ | 2210 | spectra_subsetting
⠋ | 2211 | spectra_subsetting
⠙ | 2212 | spectra_subsetting
⠹ | 2213 | spectra_subsetting
⠸ | 2214 | spectra_subsetting
⠼ | 2215 | spectra_subsetting
⠴ | 2216 | spectra_subsetting
⠇ | 2219 | spectra_subsetting
⠋ | 2221 | spectra_subsetting
⠧ | 2228 | spectra_subsetting
⠙ | 2232 | spectra_subsetting
⠼ | 2235 | spectra_subsetting
⠏ | 2240 | spectra_subsetting
✔ | 2240 | spectra_subsetting [132.2s]
⠏ | 0 | spectra_variables
⠴ | 6 | spectra_variables
⠙ | 12 | spectra_variables
⠸ | 14 | spectra_variables
⠴ | 16 | spectra_variables
⠦ | 27 | spectra_variables
⠇ | 29 | spectra_variables
⠋ | 31 | spectra_variables
⠹ | 43 | spectra_variables
⠸ | 54 | spectra_variables
✔ | 1 62 | spectra_variables [2.7s]
══ Results ═════════════════════════════════════════════════════════════════════
Duration: 135.3 s
── Skipped tests (1) ───────────────────────────────────────────────────────────
• empty test (1): 'test_spectra_variables.R:262:1'
[ FAIL 0 | WARN 0 | SKIP 1 | PASS 2306 ]
>
> proc.time()
user system elapsed
142.48 11.46 257.73
MsBackendMetaboLights.Rcheck/MsBackendMetaboLights-Ex.timings
| name | user | system | elapsed | |
| MetaboLights-utils | 0.44 | 0.03 | 7.17 | |
| MsBackendMetaboLights | 11.93 | 1.62 | 120.39 | |