| Back to Multiple platform build/check report for BioC 3.20: simplified long |
|
This page was generated on 2025-04-02 19:34 -0400 (Wed, 02 Apr 2025).
| Hostname | OS | Arch (*) | R version | Installed pkgs |
|---|---|---|---|---|
| nebbiolo2 | Linux (Ubuntu 24.04.1 LTS) | x86_64 | 4.4.3 (2025-02-28) -- "Trophy Case" | 4764 |
| palomino8 | Windows Server 2022 Datacenter | x64 | 4.4.3 (2025-02-28 ucrt) -- "Trophy Case" | 4495 |
| merida1 | macOS 12.7.5 Monterey | x86_64 | 4.4.3 (2025-02-28) -- "Trophy Case" | 4522 |
| kjohnson1 | macOS 13.6.6 Ventura | arm64 | 4.4.3 (2025-02-28) -- "Trophy Case" | 4449 |
| taishan | Linux (openEuler 24.03 LTS) | aarch64 | 4.4.3 (2025-02-28) -- "Trophy Case" | 4426 |
| Click on any hostname to see more info about the system (e.g. compilers) (*) as reported by 'uname -p', except on Windows and Mac OS X | ||||
| Package 1256/2289 | Hostname | OS / Arch | INSTALL | BUILD | CHECK | BUILD BIN | ||||||||
| MicrobiotaProcess 1.18.0 (landing page) Shuangbin Xu
| nebbiolo2 | Linux (Ubuntu 24.04.1 LTS) / x86_64 | OK | OK | OK | |||||||||
| palomino8 | Windows Server 2022 Datacenter / x64 | OK | OK | OK | OK | |||||||||
| merida1 | macOS 12.7.5 Monterey / x86_64 | OK | OK | OK | OK | |||||||||
| kjohnson1 | macOS 13.6.6 Ventura / arm64 | OK | OK | OK | OK | |||||||||
| taishan | Linux (openEuler 24.03 LTS) / aarch64 | OK | OK | OK | ||||||||||
|
To the developers/maintainers of the MicrobiotaProcess package: - Allow up to 24 hours (and sometimes 48 hours) for your latest push to git@git.bioconductor.org:packages/MicrobiotaProcess.git to reflect on this report. See Troubleshooting Build Report for more information. - Use the following Renviron settings to reproduce errors and warnings. - If 'R CMD check' started to fail recently on the Linux builder(s) over a missing dependency, add the missing dependency to 'Suggests:' in your DESCRIPTION file. See Renviron.bioc for more information. |
| Package: MicrobiotaProcess |
| Version: 1.18.0 |
| Command: /Library/Frameworks/R.framework/Resources/bin/R CMD check --install=check:MicrobiotaProcess.install-out.txt --library=/Library/Frameworks/R.framework/Resources/library --no-vignettes --timings MicrobiotaProcess_1.18.0.tar.gz |
| StartedAt: 2025-04-02 00:47:01 -0400 (Wed, 02 Apr 2025) |
| EndedAt: 2025-04-02 00:52:34 -0400 (Wed, 02 Apr 2025) |
| EllapsedTime: 333.4 seconds |
| RetCode: 0 |
| Status: OK |
| CheckDir: MicrobiotaProcess.Rcheck |
| Warnings: 0 |
##############################################################################
##############################################################################
###
### Running command:
###
### /Library/Frameworks/R.framework/Resources/bin/R CMD check --install=check:MicrobiotaProcess.install-out.txt --library=/Library/Frameworks/R.framework/Resources/library --no-vignettes --timings MicrobiotaProcess_1.18.0.tar.gz
###
##############################################################################
##############################################################################
* using log directory ‘/Users/biocbuild/bbs-3.20-bioc/meat/MicrobiotaProcess.Rcheck’
* using R version 4.4.3 (2025-02-28)
* using platform: aarch64-apple-darwin20
* R was compiled by
Apple clang version 14.0.0 (clang-1400.0.29.202)
GNU Fortran (GCC) 12.2.0
* running under: macOS Ventura 13.7.1
* using session charset: UTF-8
* using option ‘--no-vignettes’
* checking for file ‘MicrobiotaProcess/DESCRIPTION’ ... OK
* checking extension type ... Package
* this is package ‘MicrobiotaProcess’ version ‘1.18.0’
* package encoding: UTF-8
* checking package namespace information ... OK
* checking package dependencies ... OK
* checking if this is a source package ... OK
* checking if there is a namespace ... OK
* checking for hidden files and directories ... OK
* checking for portable file names ... OK
* checking for sufficient/correct file permissions ... OK
* checking whether package ‘MicrobiotaProcess’ can be installed ... OK
* checking installed package size ... NOTE
installed size is 5.8Mb
sub-directories of 1Mb or more:
R 2.6Mb
figures 1.9Mb
* checking package directory ... OK
* checking ‘build’ directory ... OK
* checking DESCRIPTION meta-information ... OK
* checking top-level files ... OK
* checking for left-over files ... OK
* checking index information ... OK
* checking package subdirectories ... OK
* checking code files for non-ASCII characters ... OK
* checking R files for syntax errors ... OK
* checking whether the package can be loaded ... OK
* checking whether the package can be loaded with stated dependencies ... OK
* checking whether the package can be unloaded cleanly ... OK
* checking whether the namespace can be loaded with stated dependencies ... OK
* checking whether the namespace can be unloaded cleanly ... OK
* checking whether startup messages can be suppressed ... OK
* checking dependencies in R code ... OK
* checking S3 generic/method consistency ... OK
* checking replacement functions ... OK
* checking foreign function calls ... OK
* checking R code for possible problems ... OK
* checking Rd files ... OK
* checking Rd metadata ... OK
* checking Rd cross-references ... OK
* checking for missing documentation entries ... OK
* checking for code/documentation mismatches ... OK
* checking Rd \usage sections ... OK
* checking Rd contents ... OK
* checking for unstated dependencies in examples ... OK
* checking contents of ‘data’ directory ... OK
* checking data for non-ASCII characters ... OK
* checking data for ASCII and uncompressed saves ... OK
* checking files in ‘vignettes’ ... OK
* checking examples ... OK
Examples with CPU (user + system) or elapsed time > 5s
user system elapsed
mp_cal_abundance-methods 8.229 0.191 8.047
mp_cal_rarecurve-methods 6.007 0.093 6.145
mp_plot_diff_boxplot-methods 5.731 0.121 5.441
mp_diff_analysis-methods 5.721 0.121 5.250
* checking for unstated dependencies in ‘tests’ ... OK
* checking tests ...
Running ‘testthat.R’
OK
* checking for unstated dependencies in vignettes ... OK
* checking package vignettes ... OK
* checking running R code from vignettes ... SKIPPED
* checking re-building of vignette outputs ... SKIPPED
* checking PDF version of manual ... OK
* DONE
Status: 1 NOTE
See
‘/Users/biocbuild/bbs-3.20-bioc/meat/MicrobiotaProcess.Rcheck/00check.log’
for details.
MicrobiotaProcess.Rcheck/00install.out
############################################################################## ############################################################################## ### ### Running command: ### ### /Library/Frameworks/R.framework/Resources/bin/R CMD INSTALL MicrobiotaProcess ### ############################################################################## ############################################################################## * installing to library ‘/Library/Frameworks/R.framework/Versions/4.4-arm64/Resources/library’ * installing *source* package ‘MicrobiotaProcess’ ... ** using staged installation ** R ** data ** inst ** byte-compile and prepare package for lazy loading in method for ‘taxonomy<-’ with signature ‘x="MPSE",value="taxonomyTable"’: no definition for class “taxonomyTable” Creating a generic function for ‘rownames<-’ from package ‘base’ in package ‘MicrobiotaProcess’ in method for ‘get_alltaxadf’ with signature ‘"phyloseq"’: no definition for class “phyloseq” in method for ‘get_taxadf’ with signature ‘"phyloseq"’: no definition for class “phyloseq” in method for ‘get_alphaindex’ with signature ‘"phyloseq"’: no definition for class “phyloseq” in method for ‘get_NRI_NTI’ with signature ‘"phyloseq"’: no definition for class “phyloseq” in method for ‘get_rarecurve’ with signature ‘"phyloseq"’: no definition for class “phyloseq” in method for ‘get_upset’ with signature ‘"phyloseq"’: no definition for class “phyloseq” in method for ‘get_vennlist’ with signature ‘"phyloseq"’: no definition for class “phyloseq” in method for ‘drop_taxa’ with signature ‘"phyloseq"’: no definition for class “phyloseq” ** help *** installing help indices ** building package indices ** installing vignettes ** testing if installed package can be loaded from temporary location ** testing if installed package can be loaded from final location ** testing if installed package keeps a record of temporary installation path * DONE (MicrobiotaProcess)
MicrobiotaProcess.Rcheck/tests/testthat.Rout
R version 4.4.3 (2025-02-28) -- "Trophy Case"
Copyright (C) 2025 The R Foundation for Statistical Computing
Platform: aarch64-apple-darwin20
R is free software and comes with ABSOLUTELY NO WARRANTY.
You are welcome to redistribute it under certain conditions.
Type 'license()' or 'licence()' for distribution details.
R is a collaborative project with many contributors.
Type 'contributors()' for more information and
'citation()' on how to cite R or R packages in publications.
Type 'demo()' for some demos, 'help()' for on-line help, or
'help.start()' for an HTML browser interface to help.
Type 'q()' to quit R.
> library("testthat")
> library("MicrobiotaProcess")
MicrobiotaProcess v1.18.0 For help:
https://github.com/YuLab-SMU/MicrobiotaProcess/issues
If you use MicrobiotaProcess in published research, please cite the
paper:
Shuangbin Xu, Li Zhan, Wenli Tang, Qianwen Wang, Zehan Dai, Lang Zhou,
Tingze Feng, Meijun Chen, Tianzhi Wu, Erqiang Hu, Guangchuang Yu.
MicrobiotaProcess: A comprehensive R package for deep mining
microbiome. The Innovation. 2023, 4(2):100388. doi:
10.1016/j.xinn.2023.100388
Export the citation to BibTex by citation('MicrobiotaProcess')
This message can be suppressed by:
suppressPackageStartupMessages(library(MicrobiotaProcess))
Attaching package: 'MicrobiotaProcess'
The following object is masked from 'package:stats':
filter
> test_check("MicrobiotaProcess")
[ FAIL 0 | WARN 9 | SKIP 0 | PASS 13 ]
[ FAIL 0 | WARN 9 | SKIP 0 | PASS 13 ]
>
> proc.time()
user system elapsed
14.049 0.605 14.650
MicrobiotaProcess.Rcheck/MicrobiotaProcess-Ex.timings
| name | user | system | elapsed | |
| ImportDada2 | 1.412 | 0.049 | 1.479 | |
| ImportQiime2 | 4.064 | 0.099 | 4.215 | |
| MPSE | 0.100 | 0.001 | 0.101 | |
| as.treedata | 0.001 | 0.000 | 0.000 | |
| build_tree | 0 | 0 | 0 | |
| convert_to_treedata | 0.000 | 0.001 | 0.000 | |
| data-hmp_aerobiosis_small | 0.015 | 0.002 | 0.018 | |
| data-kostic2012crc | 0.037 | 0.004 | 0.041 | |
| data-test_otu_data | 0.003 | 0.002 | 0.004 | |
| diff_analysis | 0.001 | 0.000 | 0.001 | |
| dr_extract | 0.000 | 0.000 | 0.001 | |
| drop_taxa | 0.000 | 0.001 | 0.001 | |
| generalizedFC | 0.006 | 0.000 | 0.007 | |
| get_alltaxadf | 0 | 0 | 0 | |
| get_alphaindex | 0.000 | 0.000 | 0.001 | |
| get_clust | 0 | 0 | 0 | |
| get_coord | 0 | 0 | 0 | |
| get_count | 0 | 0 | 0 | |
| get_dist | 0 | 0 | 0 | |
| get_mean_median | 0.000 | 0.001 | 0.001 | |
| get_pca | 0 | 0 | 0 | |
| get_pcoa | 0 | 0 | 0 | |
| get_pvalue | 0.072 | 0.002 | 0.076 | |
| get_rarecurve | 0 | 0 | 0 | |
| get_sampledflist | 0 | 0 | 0 | |
| get_taxadf | 0.000 | 0.001 | 0.000 | |
| get_upset | 0 | 0 | 0 | |
| get_varct | 0 | 0 | 0 | |
| get_vennlist | 0 | 0 | 0 | |
| ggbartax | 0.000 | 0.001 | 0.000 | |
| ggbox | 0.000 | 0.000 | 0.001 | |
| ggclust | 0.000 | 0.001 | 0.000 | |
| ggdiffbox | 0.000 | 0.000 | 0.001 | |
| ggdiffclade | 0.000 | 0.001 | 0.001 | |
| ggdifftaxbar | 0.000 | 0.000 | 0.001 | |
| ggeffectsize | 0.001 | 0.001 | 0.001 | |
| ggordpoint | 0 | 0 | 0 | |
| ggrarecurve | 0.001 | 0.000 | 0.000 | |
| mp_adonis-methods | 0.107 | 0.004 | 0.111 | |
| mp_aggregate-methods | 0.000 | 0.001 | 0.000 | |
| mp_aggregate_clade-methods | 0.000 | 0.000 | 0.001 | |
| mp_anosim-methods | 0.995 | 0.021 | 1.019 | |
| mp_balance_clade-methods | 0.000 | 0.000 | 0.001 | |
| mp_cal_abundance-methods | 8.229 | 0.191 | 8.047 | |
| mp_cal_alpha-methods | 1.107 | 0.016 | 1.148 | |
| mp_cal_cca-methods | 0.988 | 0.020 | 1.030 | |
| mp_cal_clust-methods | 0.410 | 0.010 | 0.437 | |
| mp_cal_dist-methods | 3.138 | 0.035 | 3.225 | |
| mp_cal_divergence-methods | 0.000 | 0.000 | 0.001 | |
| mp_cal_nmds-methods | 0.276 | 0.011 | 0.287 | |
| mp_cal_pca-methods | 1.471 | 0.017 | 1.494 | |
| mp_cal_pcoa-methods | 0.551 | 0.008 | 0.559 | |
| mp_cal_pd_metric-methods | 0 | 0 | 0 | |
| mp_cal_rarecurve-methods | 6.007 | 0.093 | 6.145 | |
| mp_cal_rda-methods | 0.640 | 0.008 | 0.649 | |
| mp_cal_upset-methods | 1.132 | 0.036 | 0.983 | |
| mp_cal_venn-methods | 0.651 | 0.037 | 0.497 | |
| mp_decostand-methods | 0.341 | 0.007 | 0.347 | |
| mp_diff_analysis-methods | 5.721 | 0.121 | 5.250 | |
| mp_diff_clade-methods | 0.000 | 0.000 | 0.001 | |
| mp_dmn-methods | 0.000 | 0.000 | 0.001 | |
| mp_dmngroup-methods | 0 | 0 | 0 | |
| mp_envfit-methods | 1.869 | 0.085 | 2.043 | |
| mp_filter_taxa-methods | 0.865 | 0.011 | 0.993 | |
| mp_import_metaphlan | 3.038 | 0.016 | 3.224 | |
| mp_mantel-methods | 0.309 | 0.008 | 0.322 | |
| mp_mrpp-methods | 0.174 | 0.008 | 0.183 | |
| mp_plot_abundance-methods | 0.000 | 0.001 | 0.001 | |
| mp_plot_alpha-methods | 0.000 | 0.001 | 0.000 | |
| mp_plot_diff_boxplot-methods | 5.731 | 0.121 | 5.441 | |
| mp_plot_diff_cladogram | 0.000 | 0.000 | 0.001 | |
| mp_plot_diff_manhattan-methods | 3.280 | 0.103 | 2.754 | |
| mp_plot_dist-methods | 0.001 | 0.000 | 0.000 | |
| mp_plot_ord-methods | 0.000 | 0.001 | 0.000 | |
| mp_plot_rarecurve-methods | 0.001 | 0.001 | 0.001 | |
| mp_plot_upset-methods | 0 | 0 | 0 | |
| mp_plot_venn-methods | 0 | 0 | 0 | |
| mp_rrarefy-methods | 0.324 | 0.006 | 0.334 | |
| mp_select_as_tip-methods | 0.000 | 0.000 | 0.001 | |
| mp_stat_taxa-methods | 0.986 | 0.030 | 1.010 | |
| multi_compare | 0.009 | 0.001 | 0.011 | |
| read_qza | 0.000 | 0.001 | 0.000 | |
| show-methods | 0.000 | 0.001 | 0.001 | |
| split_data | 0.002 | 0.002 | 0.004 | |
| split_str_to_list | 0.000 | 0.000 | 0.001 | |
| theme_taxbar | 0.000 | 0.000 | 0.001 | |