| Back to Multiple platform build/check report for BioC 3.20: simplified long |
|
This page was generated on 2024-10-22 13:49 -0400 (Tue, 22 Oct 2024).
| Hostname | OS | Arch (*) | R version | Installed pkgs |
|---|---|---|---|---|
| teran2 | Linux (Ubuntu 24.04.1 LTS) | x86_64 | 4.4.1 (2024-06-14) -- "Race for Your Life" | 4482 |
| nebbiolo2 | Linux (Ubuntu 24.04.1 LTS) | x86_64 | 4.4.1 (2024-06-14) -- "Race for Your Life" | 4741 |
| palomino8 | Windows Server 2022 Datacenter | x64 | 4.4.1 (2024-06-14 ucrt) -- "Race for Your Life" | 4486 |
| lconway | macOS 12.7.1 Monterey | x86_64 | 4.4.1 (2024-06-14) -- "Race for Your Life" | 4517 |
| kunpeng2 | Linux (openEuler 22.03 LTS-SP1) | aarch64 | 4.4.1 (2024-06-14) -- "Race for Your Life" | 4463 |
| Click on any hostname to see more info about the system (e.g. compilers) (*) as reported by 'uname -p', except on Windows and Mac OS X | ||||
| Package 1218/2280 | Hostname | OS / Arch | INSTALL | BUILD | CHECK | BUILD BIN | ||||||||
| MethReg 1.15.0 (landing page) Tiago Silva
| teran2 | Linux (Ubuntu 24.04.1 LTS) / x86_64 | OK | ERROR | skipped | |||||||||
| nebbiolo2 | Linux (Ubuntu 24.04.1 LTS) / x86_64 | OK | ERROR | skipped | ||||||||||
| palomino8 | Windows Server 2022 Datacenter / x64 | OK | OK | OK | OK | |||||||||
| lconway | macOS 12.7.1 Monterey / x86_64 | OK | OK | OK | OK | |||||||||
| kunpeng2 | Linux (openEuler 22.03 LTS-SP1) / aarch64 | OK | OK | TIMEOUT | ||||||||||
|
To the developers/maintainers of the MethReg package: - Allow up to 24 hours (and sometimes 48 hours) for your latest push to git@git.bioconductor.org:packages/MethReg.git to reflect on this report. See Troubleshooting Build Report for more information. - Use the following Renviron settings to reproduce errors and warnings. - If 'R CMD check' started to fail recently on the Linux builder(s) over a missing dependency, add the missing dependency to 'Suggests:' in your DESCRIPTION file. See Renviron.bioc for more information. - See Martin Grigorov's blog post for how to debug Linux ARM64 related issues on a x86_64 host. |
| Package: MethReg |
| Version: 1.15.0 |
| Command: /home/biocbuild/R/R/bin/R CMD check --install=check:MethReg.install-out.txt --library=/home/biocbuild/R/R/site-library --no-vignettes --timings MethReg_1.15.0.tar.gz |
| StartedAt: 2024-10-22 06:48:28 -0000 (Tue, 22 Oct 2024) |
| EndedAt: 2024-10-22 07:28:28 -0000 (Tue, 22 Oct 2024) |
| EllapsedTime: 2400.3 seconds |
| RetCode: None |
| Status: TIMEOUT |
| CheckDir: MethReg.Rcheck |
| Warnings: NA |
##############################################################################
##############################################################################
###
### Running command:
###
### /home/biocbuild/R/R/bin/R CMD check --install=check:MethReg.install-out.txt --library=/home/biocbuild/R/R/site-library --no-vignettes --timings MethReg_1.15.0.tar.gz
###
##############################################################################
##############################################################################
* using log directory ‘/home/biocbuild/bbs-3.20-bioc/meat/MethReg.Rcheck’
* using R version 4.4.1 (2024-06-14)
* using platform: aarch64-unknown-linux-gnu
* R was compiled by
gcc (GCC) 12.2.1 20220819 (openEuler 12.2.1-14)
GNU Fortran (GCC) 10.3.1
* running under: openEuler 22.03 (LTS-SP1)
* using session charset: UTF-8
* using option ‘--no-vignettes’
* checking for file ‘MethReg/DESCRIPTION’ ... OK
* checking extension type ... Package
* this is package ‘MethReg’ version ‘1.15.0’
* package encoding: UTF-8
* checking package namespace information ... OK
* checking package dependencies ... OK
* checking if this is a source package ... OK
* checking if there is a namespace ... OK
* checking for hidden files and directories ... OK
* checking for portable file names ... OK
* checking for sufficient/correct file permissions ... OK
* checking whether package ‘MethReg’ can be installed ... OK
* checking installed package size ... OK
* checking package directory ... OK
* checking ‘build’ directory ... OK
* checking DESCRIPTION meta-information ... OK
* checking top-level files ... OK
* checking for left-over files ... OK
* checking index information ... OK
* checking package subdirectories ... OK
* checking code files for non-ASCII characters ... OK
* checking R files for syntax errors ... OK
* checking whether the package can be loaded ... OK
* checking whether the package can be loaded with stated dependencies ... OK
* checking whether the package can be unloaded cleanly ... OK
* checking whether the namespace can be loaded with stated dependencies ... OK
* checking whether the namespace can be unloaded cleanly ... OK
* checking loading without being on the library search path ... OK
* checking dependencies in R code ... OK
* checking S3 generic/method consistency ... OK
* checking replacement functions ... OK
* checking foreign function calls ... OK
* checking R code for possible problems ... NOTE
readRemap2022: no visible binding for global variable ‘biotype’
Undefined global functions or variables:
biotype
* checking Rd files ... OK
* checking Rd metadata ... OK
* checking Rd cross-references ... OK
* checking for missing documentation entries ... OK
* checking for code/documentation mismatches ... OK
* checking Rd \usage sections ... OK
* checking Rd contents ... OK
* checking for unstated dependencies in examples ... OK
* checking contents of ‘data’ directory ... OK
* checking data for non-ASCII characters ... OK
* checking LazyData ... OK
* checking data for ASCII and uncompressed saves ... OK
* checking R/sysdata.rda ... OK
* checking files in ‘vignettes’ ... OK
* checking examples ... OK
Examples with CPU (user + system) or elapsed time > 5s
user system elapsed
create_triplet_distance_based 62.577 0.567 63.351
get_tf_in_region 52.485 0.175 52.748
create_triplet_regulon_based 51.233 0.683 52.003
* checking for unstated dependencies in ‘tests’ ... OK
* checking tests ...
Running ‘testthat.R’
MethReg.Rcheck/00install.out
############################################################################## ############################################################################## ### ### Running command: ### ### /home/biocbuild/R/R/bin/R CMD INSTALL MethReg ### ############################################################################## ############################################################################## * installing to library ‘/home/biocbuild/R/R-4.4.1/site-library’ * installing *source* package ‘MethReg’ ... ** using staged installation ** R ** data *** moving datasets to lazyload DB ** inst ** byte-compile and prepare package for lazy loading ** help *** installing help indices ** building package indices ** installing vignettes ** testing if installed package can be loaded from temporary location ** testing if installed package can be loaded from final location ** testing if installed package keeps a record of temporary installation path * DONE (MethReg)
MethReg.Rcheck/tests/testthat.Rout
R version 4.4.1 (2024-06-14) -- "Race for Your Life"
Copyright (C) 2024 The R Foundation for Statistical Computing
Platform: aarch64-unknown-linux-gnu
R is free software and comes with ABSOLUTELY NO WARRANTY.
You are welcome to redistribute it under certain conditions.
Type 'license()' or 'licence()' for distribution details.
R is a collaborative project with many contributors.
Type 'contributors()' for more information and
'citation()' on how to cite R or R packages in publications.
Type 'demo()' for some demos, 'help()' for on-line help, or
'help.start()' for an HTML browser interface to help.
Type 'q()' to quit R.
> library(testthat)
> library(MethReg)
>
> test_check("MethReg")
| | 0%
|====================================================|100% ~0 s remaining
|====================================================|100% Completed after 0 s
| | 0%
|====================================================|100% ~0 s remaining
|====================================================|100% Completed after 0 s
| | 0%
|====================================================|100% ~0 s remaining
|====================================================|100% Completed after 0 s
| | 0%
|====================================================|100% ~0 s remaining
|====================================================|100% Completed after 0 s
Status freq
1 Regions below threshold 1
2 Regions above threshold 1
Status freq
1 Regions below threshold 1
2 Regions above threshold 1
Status freq
1 Regions below threshold 1
2 Regions above threshold 1
| | 0%
|========================== | 50% ~0 s remaining
|====================================================|100% ~0 s remaining
|====================================================|100% Completed after 0 s
Status freq
1 Genes above threshold 1
2 <NA> 1
| | 0%
|================= |33.33333% ~0 s remaining
|================================== |66.66667% ~0 s remaining
|====================================================|100% ~0 s remaining
|====================================================|100% Completed after 0 s
| | 0%
|========================== | 50% ~0 s remaining
|====================================================|100% ~0 s remaining
|====================================================|100% Completed after 0 s
| | 0%
|================= |33.33333% ~0 s remaining
|================================== |66.66667% ~0 s remaining
|====================================================|100% ~0 s remaining
|====================================================|100% Completed after 0 s
| | 0%
| |0.8928571% ~0 s remaining
| |1.785714% ~0 s remaining
|= |2.678571% ~0 s remaining
|= |3.571429% ~0 s remaining
|== |4.464286% ~0 s remaining
|== |5.357143% ~0 s remaining
|=== |6.25% ~0 s remaining
|=== |7.142857% ~0 s remaining
|==== |8.035714% ~0 s remaining
|==== |8.928571% ~0 s remaining
|===== |9.821429% ~0 s remaining
|===== |10.71429% ~0 s remaining
|====== |11.60714% ~0 s remaining
|====== |12.5% ~0 s remaining
|====== |13.39286% ~0 s remaining
|======= |14.28571% ~0 s remaining
|======= |15.17857% ~0 s remaining
|======== |16.07143% ~0 s remaining
|======== |16.96429% ~0 s remaining
|========= |17.85714% ~0 s remaining
|========= |18.75% ~0 s remaining
|========== |19.64286% ~0 s remaining
|========== |20.53571% ~0 s remaining
|=========== |21.42857% ~0 s remaining
|=========== |22.32143% ~0 s remaining
|============ |23.21429% ~0 s remaining
|============ |24.10714% ~0 s remaining
|============= | 25% ~0 s remaining
|============= |25.89286% ~0 s remaining
|============= |26.78571% ~0 s remaining
|============== |27.67857% ~0 s remaining
|============== |28.57143% ~0 s remaining
|=============== |29.46429% ~0 s remaining
|=============== |30.35714% ~0 s remaining
|================ |31.25% ~0 s remaining
|================ |32.14286% ~0 s remaining
|================= |33.03571% ~0 s remaining
|================= |33.92857% ~0 s remaining
|================== |34.82143% ~0 s remaining
|================== |35.71429% ~0 s remaining
|=================== |36.60714% ~0 s remaining
|=================== |37.5% ~0 s remaining
|=================== |38.39286% ~0 s remaining
|==================== |39.28571% ~0 s remaining
|==================== |40.17857% ~0 s remaining
|===================== |41.07143% ~0 s remaining
|===================== |41.96429% ~0 s remaining
|====================== |42.85714% ~0 s remaining
|====================== |43.75% ~0 s remaining
|======================= |44.64286% ~0 s remaining
|======================= |45.53571% ~0 s remaining
|======================== |46.42857% ~0 s remaining
|======================== |47.32143% ~0 s remaining
|========================= |48.21429% ~0 s remaining
|========================= |49.10714% ~0 s remaining
|========================== | 50% ~0 s remaining
|========================== |50.89286% ~0 s remaining
|========================== |51.78571% ~0 s remaining
|=========================== |52.67857% ~0 s remaining
|=========================== |53.57143% ~0 s remaining
|============================ |54.46429% ~0 s remaining
|============================ |55.35714% ~0 s remaining
|============================= |56.25% ~0 s remaining
|============================= |57.14286% ~0 s remaining
|============================== |58.03571% ~0 s remaining
|============================== |58.92857% ~0 s remaining
|=============================== |59.82143% ~0 s remaining
|=============================== |60.71429% ~0 s remaining
|================================ |61.60714% ~0 s remaining
|================================ |62.5% ~0 s remaining
|================================ |63.39286% ~0 s remaining
|================================= |64.28571% ~0 s remaining
|================================= |65.17857% ~0 s remaining
|================================== |66.07143% ~0 s remaining
|================================== |66.96429% ~0 s remaining
|=================================== |67.85714% ~0 s remaining
|=================================== |68.75% ~0 s remaining
|==================================== |69.64286% ~0 s remaining
|==================================== |70.53571% ~0 s remaining
|===================================== |71.42857% ~0 s remaining
|===================================== |72.32143% ~0 s remaining
|====================================== |73.21429% ~0 s remaining
|====================================== |74.10714% ~0 s remaining
|======================================= | 75% ~0 s remaining
|======================================= |75.89286% ~0 s remaining
|======================================= |76.78571% ~0 s remaining
|======================================== |77.67857% ~0 s remaining
|======================================== |78.57143% ~0 s remaining
|========================================= |79.46429% ~0 s remaining
|========================================= |80.35714% ~0 s remaining
|========================================== |81.25% ~0 s remaining
|========================================== |82.14286% ~0 s remaining
|=========================================== |83.03571% ~0 s remaining
|=========================================== |83.92857% ~0 s remaining
|============================================ |84.82143% ~0 s remaining
|============================================ |85.71429% ~0 s remaining
|============================================= |86.60714% ~0 s remaining
|============================================= |87.5% ~0 s remaining
|============================================= |88.39286% ~0 s remaining
|============================================== |89.28571% ~0 s remaining
|============================================== |90.17857% ~0 s remaining
|=============================================== |91.07143% ~0 s remaining
|=============================================== |91.96429% ~0 s remaining
|================================================ |92.85714% ~0 s remaining
|================================================ |93.75% ~0 s remaining
|================================================= |94.64286% ~0 s remaining
|================================================= |95.53571% ~0 s remaining
|================================================== |96.42857% ~0 s remaining
|================================================== |97.32143% ~0 s remaining
|=================================================== |98.21429% ~0 s remaining
|=================================================== |99.10714% ~0 s remaining
|====================================================|100% ~0 s remaining
|====================================================|100% Completed after 0 s
| | 0%
|====================================================|100% ~0 s remaining
|====================================================|100% Completed after 0 s
| | 0%
|====================================================|100% ~0 s remaining
|====================================================|100% Completed after 0 s
| | 0%
|====================================================|100% ~0 s remaining
|====================================================|100% Completed after 0 s
| | 0%
|====================================================|100% ~0 s remaining
|====================================================|100% Completed after 0 s
MethReg.Rcheck/MethReg-Ex.timings
| name | user | system | elapsed | |
| cor_dnam_target_gene | 0.043 | 0.004 | 0.046 | |
| cor_tf_target_gene | 0.02 | 0.00 | 0.02 | |
| create_triplet_distance_based | 62.577 | 0.567 | 63.351 | |
| create_triplet_regulon_based | 51.233 | 0.683 | 52.003 | |
| export_results_to_table | 1.944 | 0.020 | 1.968 | |
| filter_dnam_by_quant_diff | 0.127 | 0.004 | 0.132 | |
| filter_exp_by_quant_mean_FC | 1.137 | 0.012 | 1.151 | |
| get_human_tfs | 0.765 | 0.026 | 0.778 | |
| get_met_probes_info | 0.019 | 0.000 | 0.018 | |
| get_promoter_avg | 0 | 0 | 0 | |
| get_region_target_gene | 3.864 | 0.020 | 3.890 | |
| get_residuals | 0.051 | 0.000 | 0.051 | |
| get_tf_ES | 3.108 | 0.208 | 3.345 | |
| get_tf_in_region | 52.485 | 0.175 | 52.748 | |
| interaction_model | 0.267 | 0.004 | 0.272 | |
| make_dnam_se | 0.079 | 0.008 | 0.088 | |
| make_exp_se | 0.101 | 0.008 | 0.109 | |
| make_granges_from_names | 0.018 | 0.000 | 0.019 | |
| make_names_from_granges | 0.02 | 0.00 | 0.02 | |
| plot_interaction_model | 2.107 | 0.064 | 2.176 | |
| stratified_model | 0.05 | 0.00 | 0.05 | |