| Back to Multiple platform build/check report for BioC 3.20: simplified long |
|
This page was generated on 2024-11-09 21:31 -0500 (Sat, 09 Nov 2024).
| Hostname | OS | Arch (*) | R version | Installed pkgs |
|---|---|---|---|---|
| teran2 | Linux (Ubuntu 24.04.1 LTS) | x86_64 | 4.4.1 (2024-06-14) -- "Race for Your Life" | 4505 |
| palomino8 | Windows Server 2022 Datacenter | x64 | 4.4.1 (2024-06-14 ucrt) -- "Race for Your Life" | 4506 |
| lconway | macOS 12.7.1 Monterey | x86_64 | 4.4.1 (2024-06-14) -- "Race for Your Life" | 4538 |
| kjohnson3 | macOS 13.6.5 Ventura | arm64 | 4.4.1 (2024-06-14) -- "Race for Your Life" | 4486 |
| kunpeng2 | Linux (openEuler 22.03 LTS-SP1) | aarch64 | 4.4.1 (2024-06-14) -- "Race for Your Life" | 4493 |
| Click on any hostname to see more info about the system (e.g. compilers) (*) as reported by 'uname -p', except on Windows and Mac OS X | ||||
| Package 1205/2289 | Hostname | OS / Arch | INSTALL | BUILD | CHECK | BUILD BIN | ||||||||
| MetaCyto 1.28.0 (landing page) Zicheng Hu
| teran2 | Linux (Ubuntu 24.04.1 LTS) / x86_64 | OK | OK | OK | |||||||||
| palomino8 | Windows Server 2022 Datacenter / x64 | OK | OK | OK | OK | |||||||||
| lconway | macOS 12.7.1 Monterey / x86_64 | OK | OK | OK | OK | |||||||||
| kjohnson3 | macOS 13.6.5 Ventura / arm64 | OK | OK | OK | OK | |||||||||
| kunpeng2 | Linux (openEuler 22.03 LTS-SP1) / aarch64 | OK | OK | OK | ||||||||||
|
To the developers/maintainers of the MetaCyto package: - Allow up to 24 hours (and sometimes 48 hours) for your latest push to git@git.bioconductor.org:packages/MetaCyto.git to reflect on this report. See Troubleshooting Build Report for more information. - Use the following Renviron settings to reproduce errors and warnings. - If 'R CMD check' started to fail recently on the Linux builder(s) over a missing dependency, add the missing dependency to 'Suggests:' in your DESCRIPTION file. See Renviron.bioc for more information. |
| Package: MetaCyto |
| Version: 1.28.0 |
| Command: /Library/Frameworks/R.framework/Resources/bin/R CMD check --install=check:MetaCyto.install-out.txt --library=/Library/Frameworks/R.framework/Resources/library --no-vignettes --timings MetaCyto_1.28.0.tar.gz |
| StartedAt: 2024-11-09 06:38:33 -0500 (Sat, 09 Nov 2024) |
| EndedAt: 2024-11-09 06:44:46 -0500 (Sat, 09 Nov 2024) |
| EllapsedTime: 372.7 seconds |
| RetCode: 0 |
| Status: OK |
| CheckDir: MetaCyto.Rcheck |
| Warnings: 0 |
##############################################################################
##############################################################################
###
### Running command:
###
### /Library/Frameworks/R.framework/Resources/bin/R CMD check --install=check:MetaCyto.install-out.txt --library=/Library/Frameworks/R.framework/Resources/library --no-vignettes --timings MetaCyto_1.28.0.tar.gz
###
##############################################################################
##############################################################################
* using log directory ‘/Users/biocbuild/bbs-3.20-bioc/meat/MetaCyto.Rcheck’
* using R version 4.4.1 (2024-06-14)
* using platform: aarch64-apple-darwin20
* R was compiled by
Apple clang version 14.0.0 (clang-1400.0.29.202)
GNU Fortran (GCC) 12.2.0
* running under: macOS Ventura 13.6.7
* using session charset: UTF-8
* using option ‘--no-vignettes’
* checking for file ‘MetaCyto/DESCRIPTION’ ... OK
* checking extension type ... Package
* this is package ‘MetaCyto’ version ‘1.28.0’
* checking package namespace information ... OK
* checking package dependencies ...Warning: unable to access index for repository https://CRAN.R-project.org/src/contrib:
cannot open URL 'https://CRAN.R-project.org/src/contrib/PACKAGES'
OK
* checking if this is a source package ... OK
* checking if there is a namespace ... OK
* checking for hidden files and directories ... OK
* checking for portable file names ... OK
* checking for sufficient/correct file permissions ... OK
* checking whether package ‘MetaCyto’ can be installed ... OK
* checking installed package size ... OK
* checking package directory ... OK
* checking ‘build’ directory ... OK
* checking DESCRIPTION meta-information ... OK
* checking top-level files ... OK
* checking for left-over files ... OK
* checking index information ... OK
* checking package subdirectories ... OK
* checking code files for non-ASCII characters ... OK
* checking R files for syntax errors ... OK
* checking whether the package can be loaded ... OK
* checking whether the package can be loaded with stated dependencies ... OK
* checking whether the package can be unloaded cleanly ... OK
* checking whether the namespace can be loaded with stated dependencies ... OK
* checking whether the namespace can be unloaded cleanly ... OK
* checking dependencies in R code ... OK
* checking S3 generic/method consistency ... OK
* checking replacement functions ... OK
* checking foreign function calls ... OK
* checking R code for possible problems ... NOTE
collectData: no visible binding for global variable ‘parameter_name’
collectData: no visible binding for global variable ‘value’
panelSummary: no visible binding for global variable ‘antibodies’
panelSummary: no visible binding for global variable ‘value’
plotGA: no visible binding for global variable ‘lower’
plotGA: no visible binding for global variable ‘upper’
searchCluster : <anonymous>: no visible binding for global variable
‘triS’
Undefined global functions or variables:
antibodies lower parameter_name triS upper value
* checking Rd files ... OK
* checking Rd metadata ... OK
* checking Rd cross-references ... OK
* checking for missing documentation entries ... OK
* checking for code/documentation mismatches ... OK
* checking Rd \usage sections ... OK
* checking Rd contents ... OK
* checking for unstated dependencies in examples ... OK
* checking files in ‘vignettes’ ... OK
* checking examples ... OK
Examples with CPU (user + system) or elapsed time > 5s
user system elapsed
autoCluster.batch 41.606 11.001 52.612
labelCluster 29.438 7.016 36.454
searchCluster.batch 9.367 1.934 11.301
* checking for unstated dependencies in vignettes ... OK
* checking package vignettes ... OK
* checking running R code from vignettes ... SKIPPED
* checking re-building of vignette outputs ... SKIPPED
* checking PDF version of manual ... OK
* DONE
Status: 1 NOTE
See
‘/Users/biocbuild/bbs-3.20-bioc/meat/MetaCyto.Rcheck/00check.log’
for details.
MetaCyto.Rcheck/00install.out
############################################################################## ############################################################################## ### ### Running command: ### ### /Library/Frameworks/R.framework/Resources/bin/R CMD INSTALL MetaCyto ### ############################################################################## ############################################################################## * installing to library ‘/Library/Frameworks/R.framework/Versions/4.4-arm64/Resources/library’ * installing *source* package ‘MetaCyto’ ... ** using staged installation ** R ** inst ** byte-compile and prepare package for lazy loading ** help *** installing help indices ** building package indices ** installing vignettes ** testing if installed package can be loaded from temporary location ** testing if installed package can be loaded from final location ** testing if installed package keeps a record of temporary installation path * DONE (MetaCyto)
MetaCyto.Rcheck/MetaCyto-Ex.timings
| name | user | system | elapsed | |
| autoCluster.batch | 41.606 | 11.001 | 52.612 | |
| clusterStats | 3.382 | 0.642 | 4.027 | |
| collectData | 0.011 | 0.001 | 0.012 | |
| densityPlot | 3.303 | 0.752 | 4.055 | |
| fcsInfoParser | 0.024 | 0.001 | 0.025 | |
| filterLabels | 0.000 | 0.001 | 0.001 | |
| findCutoff | 0.822 | 0.291 | 1.114 | |
| flowHC | 0.572 | 0.035 | 0.607 | |
| flowSOM.MC | 3.110 | 0.452 | 3.563 | |
| glmAnalysis | 0.083 | 0.004 | 0.088 | |
| labelCluster | 29.438 | 7.016 | 36.454 | |
| labelSummary | 0.079 | 0.005 | 0.083 | |
| markerFinder | 0.007 | 0.000 | 0.008 | |
| metaAnalysis | 0.029 | 0.003 | 0.031 | |
| nameUpdator | 0.276 | 0.010 | 0.287 | |
| panelSummary | 0.005 | 0.001 | 0.006 | |
| plotGA | 0.160 | 0.006 | 0.167 | |
| preprocessing | 0.114 | 0.004 | 0.119 | |
| preprocessing.batch | 0.289 | 0.013 | 0.302 | |
| sampleInfoParser | 0.001 | 0.001 | 0.001 | |
| searchCluster | 3.270 | 0.611 | 3.882 | |
| searchCluster.batch | 9.367 | 1.934 | 11.301 | |
| set2Frame | 0.033 | 0.002 | 0.035 | |