| Back to Multiple platform build/check report for BioC 3.20: simplified long |
|
This page was generated on 2025-04-02 19:32 -0400 (Wed, 02 Apr 2025).
| Hostname | OS | Arch (*) | R version | Installed pkgs |
|---|---|---|---|---|
| nebbiolo2 | Linux (Ubuntu 24.04.1 LTS) | x86_64 | 4.4.3 (2025-02-28) -- "Trophy Case" | 4764 |
| palomino8 | Windows Server 2022 Datacenter | x64 | 4.4.3 (2025-02-28 ucrt) -- "Trophy Case" | 4495 |
| merida1 | macOS 12.7.5 Monterey | x86_64 | 4.4.3 (2025-02-28) -- "Trophy Case" | 4522 |
| kjohnson1 | macOS 13.6.6 Ventura | arm64 | 4.4.3 (2025-02-28) -- "Trophy Case" | 4449 |
| taishan | Linux (openEuler 24.03 LTS) | aarch64 | 4.4.3 (2025-02-28) -- "Trophy Case" | 4426 |
| Click on any hostname to see more info about the system (e.g. compilers) (*) as reported by 'uname -p', except on Windows and Mac OS X | ||||
| Package 1191/2289 | Hostname | OS / Arch | INSTALL | BUILD | CHECK | BUILD BIN | ||||||||
| Mergeomics 1.34.0 (landing page) Zeyneb Kurt
| nebbiolo2 | Linux (Ubuntu 24.04.1 LTS) / x86_64 | OK | OK | OK | |||||||||
| palomino8 | Windows Server 2022 Datacenter / x64 | OK | OK | OK | OK | |||||||||
| merida1 | macOS 12.7.5 Monterey / x86_64 | OK | OK | OK | OK | |||||||||
| kjohnson1 | macOS 13.6.6 Ventura / arm64 | OK | OK | OK | OK | |||||||||
| taishan | Linux (openEuler 24.03 LTS) / aarch64 | OK | OK | OK | ||||||||||
|
To the developers/maintainers of the Mergeomics package: - Allow up to 24 hours (and sometimes 48 hours) for your latest push to git@git.bioconductor.org:packages/Mergeomics.git to reflect on this report. See Troubleshooting Build Report for more information. - Use the following Renviron settings to reproduce errors and warnings. - If 'R CMD check' started to fail recently on the Linux builder(s) over a missing dependency, add the missing dependency to 'Suggests:' in your DESCRIPTION file. See Renviron.bioc for more information. |
| Package: Mergeomics |
| Version: 1.34.0 |
| Command: /Library/Frameworks/R.framework/Resources/bin/R CMD check --install=check:Mergeomics.install-out.txt --library=/Library/Frameworks/R.framework/Resources/library --no-vignettes --timings Mergeomics_1.34.0.tar.gz |
| StartedAt: 2025-04-01 05:17:18 -0400 (Tue, 01 Apr 2025) |
| EndedAt: 2025-04-01 05:34:37 -0400 (Tue, 01 Apr 2025) |
| EllapsedTime: 1039.2 seconds |
| RetCode: 0 |
| Status: OK |
| CheckDir: Mergeomics.Rcheck |
| Warnings: 0 |
##############################################################################
##############################################################################
###
### Running command:
###
### /Library/Frameworks/R.framework/Resources/bin/R CMD check --install=check:Mergeomics.install-out.txt --library=/Library/Frameworks/R.framework/Resources/library --no-vignettes --timings Mergeomics_1.34.0.tar.gz
###
##############################################################################
##############################################################################
* using log directory ‘/Users/biocbuild/bbs-3.20-bioc/meat/Mergeomics.Rcheck’
* using R version 4.4.3 (2025-02-28)
* using platform: x86_64-apple-darwin20
* R was compiled by
Apple clang version 14.0.0 (clang-1400.0.29.202)
GNU Fortran (GCC) 12.2.0
* running under: macOS Monterey 12.7.6
* using session charset: UTF-8
* using option ‘--no-vignettes’
* checking for file ‘Mergeomics/DESCRIPTION’ ... OK
* checking extension type ... Package
* this is package ‘Mergeomics’ version ‘1.34.0’
* checking package namespace information ... OK
* checking package dependencies ... OK
* checking if this is a source package ... OK
* checking if there is a namespace ... OK
* checking for hidden files and directories ... OK
* checking for portable file names ... OK
* checking for sufficient/correct file permissions ... OK
* checking whether package ‘Mergeomics’ can be installed ... OK
* checking installed package size ... NOTE
installed size is 8.3Mb
sub-directories of 1Mb or more:
extdata 7.5Mb
* checking package directory ... OK
* checking ‘build’ directory ... OK
* checking DESCRIPTION meta-information ... OK
* checking top-level files ... OK
* checking for left-over files ... OK
* checking index information ... OK
* checking package subdirectories ... OK
* checking code files for non-ASCII characters ... OK
* checking R files for syntax errors ... OK
* checking whether the package can be loaded ... OK
* checking whether the package can be loaded with stated dependencies ... OK
* checking whether the package can be unloaded cleanly ... OK
* checking whether the namespace can be loaded with stated dependencies ... OK
* checking whether the namespace can be unloaded cleanly ... OK
* checking dependencies in R code ... OK
* checking S3 generic/method consistency ... OK
* checking replacement functions ... OK
* checking foreign function calls ... OK
* checking R code for possible problems ... NOTE
kda.analyze: no visible global function definition for ‘p.adjust’
kda.analyze.exec: no visible global function definition for ‘pnorm’
kda.analyze.simulate: no visible global function definition for ‘rnorm’
kda.prepare: no visible global function definition for ‘quantile’
kda.prepare: no visible global function definition for ‘object.size’
kda.prepare.screen: no visible global function definition for
‘quantile’
kda.prepare.screen: no visible global function definition for ‘median’
kda.start: no visible global function definition for ‘object.size’
kda2cytoscape: no visible global function definition for ‘write.table’
kda2cytoscape.colormap: no visible global function definition for
‘rainbow’
kda2cytoscape.colormap: no visible global function definition for
‘col2rgb’
kda2himmeli: no visible global function definition for ‘quantile’
kda2himmeli: no visible global function definition for ‘write.table’
kda2himmeli.colormap: no visible global function definition for
‘rainbow’
kda2himmeli.colormap: no visible global function definition for
‘col2rgb’
ssea.analyze: no visible global function definition for ‘qnorm’
ssea.analyze: no visible global function definition for ‘approx’
ssea.analyze: no visible global function definition for ‘pnorm’
ssea.analyze.simulate: no visible global function definition for
‘quantile’
ssea.control: no visible global function definition for ‘median’
ssea.control: no visible global function definition for ‘object.size’
ssea.meta: no visible global function definition for ‘qnorm’
ssea.meta: no visible global function definition for ‘quantile’
ssea.meta: no visible global function definition for ‘pnorm’
ssea.meta: no visible global function definition for ‘median’
ssea.meta: no visible global function definition for ‘na.omit’
ssea.prepare: no visible global function definition for ‘median’
ssea.prepare: no visible global function definition for ‘object.size’
ssea.start: no visible global function definition for ‘na.omit’
ssea.start: no visible global function definition for ‘object.size’
ssea.start.configure: no visible global function definition for
‘write.table’
ssea2kda: no visible global function definition for ‘na.omit’
ssea2kda.import: no visible global function definition for ‘na.omit’
tool.aggregate: no visible global function definition for ‘na.omit’
tool.cluster: no visible global function definition for ‘as.dist’
tool.cluster: no visible global function definition for ‘hclust’
tool.fdr.bh: no visible global function definition for ‘qnorm’
tool.fdr.bh: no visible global function definition for ‘p.adjust’
tool.fdr.bh: no visible global function definition for ‘approx’
tool.fdr.empirical: no visible global function definition for ‘qnorm’
tool.fdr.empirical: no visible global function definition for ‘approx’
tool.metap: no visible global function definition for ‘qnorm’
tool.metap: no visible global function definition for ‘pnorm’
tool.normalize: no visible global function definition for ‘sd’
tool.normalize: no visible global function definition for ‘median’
tool.normalize: no visible global function definition for ‘optim’
tool.normalize: no visible global function definition for ‘ks.test’
tool.normalize.quality: no visible global function definition for ‘sd’
tool.normalize.quality: no visible global function definition for
‘ks.test’
tool.overlap: no visible global function definition for ‘phyper’
tool.read: no visible global function definition for ‘read.delim’
tool.read: no visible global function definition for ‘na.omit’
tool.save: no visible global function definition for ‘write.table’
tool.unify: no visible global function definition for ‘sd’
tool.unify: no visible global function definition for ‘quantile’
tool.unify: no visible global function definition for ‘approx’
Undefined global functions or variables:
approx as.dist col2rgb hclust ks.test median na.omit object.size
optim p.adjust phyper pnorm qnorm quantile rainbow read.delim rnorm
sd write.table
Consider adding
importFrom("grDevices", "col2rgb", "rainbow")
importFrom("stats", "approx", "as.dist", "hclust", "ks.test", "median",
"na.omit", "optim", "p.adjust", "phyper", "pnorm", "qnorm",
"quantile", "rnorm", "sd")
importFrom("utils", "object.size", "read.delim", "write.table")
to your NAMESPACE file.
* checking Rd files ... OK
* checking Rd metadata ... OK
* checking Rd cross-references ... OK
* checking for missing documentation entries ... OK
* checking for code/documentation mismatches ... OK
* checking Rd \usage sections ... OK
* checking Rd contents ... OK
* checking for unstated dependencies in examples ... OK
* checking contents of ‘data’ directory ... OK
* checking data for non-ASCII characters ... OK
* checking data for ASCII and uncompressed saves ... OK
* checking sizes of PDF files under ‘inst/doc’ ... OK
* checking files in ‘vignettes’ ... OK
* checking examples ... OK
Examples with CPU (user + system) or elapsed time > 5s
user system elapsed
kda.analyze.exec 17.787 0.356 18.842
kda.analyze.simulate 17.291 0.317 17.932
kda.analyze.test 16.985 0.292 17.371
kda.prepare 16.427 0.237 16.706
ssea2kda 11.674 0.351 12.087
ssea2kda.analyze 11.374 0.315 11.728
ssea.meta 9.591 0.181 9.796
ssea.finish.details 9.469 0.212 9.768
ssea.analyze 9.291 0.285 9.638
ssea2kda.import 9.356 0.164 9.750
ssea.finish.genes 9.275 0.205 9.542
ssea.finish 9.193 0.189 9.490
ssea.finish.fdr 9.100 0.195 9.324
ssea.analyze.simulate 8.665 0.206 9.016
ssea.analyze.randgenes 7.127 0.076 7.682
ssea.prepare 7.114 0.063 7.202
ssea.analyze.observe 6.943 0.060 7.099
ssea.prepare.structure 6.860 0.066 6.978
ssea.control 6.842 0.062 7.012
ssea.start 6.829 0.065 7.060
ssea.prepare.counts 6.827 0.054 6.914
ssea.analyze.randloci 6.757 0.062 6.974
ssea.start.relabel 6.582 0.064 6.659
* checking for unstated dependencies in ‘tests’ ... OK
* checking tests ...
Running ‘runTests.R’
OK
* checking for unstated dependencies in vignettes ... OK
* checking package vignettes ... OK
* checking running R code from vignettes ... SKIPPED
* checking re-building of vignette outputs ... SKIPPED
* checking PDF version of manual ... OK
* DONE
Status: 2 NOTEs
See
‘/Users/biocbuild/bbs-3.20-bioc/meat/Mergeomics.Rcheck/00check.log’
for details.
Mergeomics.Rcheck/00install.out
############################################################################## ############################################################################## ### ### Running command: ### ### /Library/Frameworks/R.framework/Resources/bin/R CMD INSTALL Mergeomics ### ############################################################################## ############################################################################## * installing to library ‘/Library/Frameworks/R.framework/Versions/4.4-x86_64/Resources/library’ * installing *source* package ‘Mergeomics’ ... ** using staged installation ** R ** data ** inst ** byte-compile and prepare package for lazy loading ** help *** installing help indices ** building package indices ** installing vignettes ** testing if installed package can be loaded from temporary location ** testing if installed package can be loaded from final location ** testing if installed package keeps a record of temporary installation path * DONE (Mergeomics)
Mergeomics.Rcheck/tests/runTests.Rout
R version 4.4.3 (2025-02-28) -- "Trophy Case"
Copyright (C) 2025 The R Foundation for Statistical Computing
Platform: x86_64-apple-darwin20
R is free software and comes with ABSOLUTELY NO WARRANTY.
You are welcome to redistribute it under certain conditions.
Type 'license()' or 'licence()' for distribution details.
R is a collaborative project with many contributors.
Type 'contributors()' for more information and
'citation()' on how to cite R or R packages in publications.
Type 'demo()' for some demos, 'help()' for on-line help, or
'help.start()' for an HTML browser interface to help.
Type 'q()' to quit R.
> BiocGenerics:::testPackage("Mergeomics")
KDA Version:12.7.2015
Parameters:
Search depth: 1
Search direction: 1
Maximum overlap: 0.33
Minimum module size: 20
Minimum degree: automatic
Maximum degree: automatic
Edge factor: 0
Random seed: 1
Importing edges...
TAIL HEAD WEIGHT
Length:140663 Length:140663 Min. :1
Class :character Class :character 1st Qu.:1
Mode :character Mode :character Median :1
Mean :1
3rd Qu.:1
Max. :1
Importing modules...
MODULE NODE
Length:1643 Length:1643
Class :character Class :character
Mode :character Mode :character
Graph: 7.694687 Mb
Minimum degree set to 20
Maximum degree set to 278
Collecting hubs...
4876 hubs (25.21%)
Graph: 13.28768 Mb
Analyzing network...
6675: Dhcr7, n=114, p=2.24e-17
6648: Cit, n=20, p=7.89e-01
6643: Pbx4, n=23, p=2.32e-05
5582: Sypl, n=319, p=2.02e-02
4746: Tcf7l2, n=73, p=2.63e-02
4708: Tpte, n=86, p=5.05e-02
4511: Pzp, n=160, p=8.85e-03
4464: Tsc22d3, n=487, p=4.28e-13
4407: Dntt, n=93, p=2.40e-20
4360: Amica1, n=132, p=1.06e-06
4588,..: Lrg1, n=86, p=5.76e-12
MSEA Version:01.04.2016
Parameters:
Permutation type: gene
Permutations: 100
Random seed: 1
Minimum gene count: 10
Maximum gene count: 500
Maximum overlap between genes: 0.33
Importing modules...
MODULE DESCR
Length:20 Length:20
Class :character Class :character
Mode :character Mode :character
MODULE GENE
Length:2906 Length:2906
Class :character Class :character
Mode :character Mode :character
Importing marker values...
MARKER VALUE
Length:76866 Min. : 0.8094
Class :character 1st Qu.: 0.9450
Mode :character Median : 1.1374
Mean : 1.3944
3rd Qu.: 1.4688
Max. :323.0100
Importing mapping data...
GENE MARKER
Length:132705 Length:132705
Class :character Class :character
Mode :character Mode :character
Merging genes containing shared markers...
WARNING! Limited overlap analysis due to large number of groups.
53352/1673535
112382/1673535
170738/1673535
225783/1673535
287993/1673535
348725/1673535
411436/1673535
474341/1673535
538019/1673535
602068/1673535
665042/1673535
729559/1673535
792542/1673535
855102/1673535
918011/1673535
981687/1673535
1045439/1673535
1109020/1673535
1171780/1673535
1233792/1673535
1295683/1673535
1357486/1673535
1419113/1673535
1482394/1673535
1544460/1673535
1607493/1673535
1669906/1673535
1673535 comparisons
21115 comparisons
13861 comparisons
12880 comparisons
Job: 11.66892 Mb
Preparing data structures...
Job: 17.11777 Mb
Adding positive controls...
Job: 17.42039 Mb
Estimating enrichment...
100/100 cycles
Normalizing scores...
RUNIT TEST PROTOCOL -- Tue Apr 1 05:34:14 2025
***********************************************
Number of test functions: 2
Number of errors: 0
Number of failures: 0
1 Test Suite :
Mergeomics RUnit Tests - 2 test functions, 0 errors, 0 failures
Number of test functions: 2
Number of errors: 0
Number of failures: 0
>
> proc.time()
user system elapsed
680.251 15.837 716.717
Mergeomics.Rcheck/Mergeomics-Ex.timings
| name | user | system | elapsed | |
| MSEA.KDA.onestep | 0.004 | 0.003 | 0.008 | |
| job.kda | 0.029 | 0.008 | 0.037 | |
| kda.analyze | 0.017 | 0.005 | 0.023 | |
| kda.analyze.exec | 17.787 | 0.356 | 18.842 | |
| kda.analyze.simulate | 17.291 | 0.317 | 17.932 | |
| kda.analyze.test | 16.985 | 0.292 | 17.371 | |
| kda.configure | 0.001 | 0.001 | 0.003 | |
| kda.finish | 0.211 | 0.018 | 0.229 | |
| kda.finish.estimate | 0.124 | 0.011 | 0.136 | |
| kda.finish.save | 0.121 | 0.012 | 0.133 | |
| kda.finish.summarize | 0.127 | 0.011 | 0.139 | |
| kda.finish.trim | 0.118 | 0.011 | 0.129 | |
| kda.prepare | 16.427 | 0.237 | 16.706 | |
| kda.prepare.overlap | 0.001 | 0.002 | 0.003 | |
| kda.prepare.screen | 0.001 | 0.001 | 0.002 | |
| kda.start | 2.264 | 0.083 | 2.358 | |
| kda.start.edges | 0.003 | 0.003 | 0.006 | |
| kda.start.identify | 0.008 | 0.002 | 0.009 | |
| kda.start.modules | 0.002 | 0.001 | 0.003 | |
| kda2cytoscape | 0.627 | 0.023 | 0.652 | |
| kda2cytoscape.colorize | 0.000 | 0.000 | 0.001 | |
| kda2cytoscape.colormap | 0.001 | 0.000 | 0.001 | |
| kda2cytoscape.drivers | 0.281 | 0.026 | 0.310 | |
| kda2cytoscape.edges | 0.210 | 0.019 | 0.229 | |
| kda2cytoscape.exec | 0.254 | 0.022 | 0.276 | |
| kda2cytoscape.identify | 0.006 | 0.001 | 0.008 | |
| kda2himmeli | 0.679 | 0.029 | 0.710 | |
| kda2himmeli.colorize | 0.000 | 0.001 | 0.001 | |
| kda2himmeli.colormap | 0.001 | 0.000 | 0.001 | |
| kda2himmeli.drivers | 0.206 | 0.019 | 0.225 | |
| kda2himmeli.edges | 0.224 | 0.021 | 0.245 | |
| kda2himmeli.exec | 0.342 | 0.023 | 0.366 | |
| kda2himmeli.identify | 0.007 | 0.001 | 0.008 | |
| ssea.analyze | 9.291 | 0.285 | 9.638 | |
| ssea.analyze.observe | 6.943 | 0.060 | 7.099 | |
| ssea.analyze.randgenes | 7.127 | 0.076 | 7.682 | |
| ssea.analyze.randloci | 6.757 | 0.062 | 6.974 | |
| ssea.analyze.simulate | 8.665 | 0.206 | 9.016 | |
| ssea.analyze.statistic | 0.000 | 0.001 | 0.001 | |
| ssea.control | 6.842 | 0.062 | 7.012 | |
| ssea.finish | 9.193 | 0.189 | 9.490 | |
| ssea.finish.details | 9.469 | 0.212 | 9.768 | |
| ssea.finish.fdr | 9.100 | 0.195 | 9.324 | |
| ssea.finish.genes | 9.275 | 0.205 | 9.542 | |
| ssea.meta | 9.591 | 0.181 | 9.796 | |
| ssea.prepare | 7.114 | 0.063 | 7.202 | |
| ssea.prepare.counts | 6.827 | 0.054 | 6.914 | |
| ssea.prepare.structure | 6.860 | 0.066 | 6.978 | |
| ssea.start | 6.829 | 0.065 | 7.060 | |
| ssea.start.configure | 0.580 | 0.025 | 0.606 | |
| ssea.start.identify | 0.007 | 0.002 | 0.009 | |
| ssea.start.relabel | 6.582 | 0.064 | 6.659 | |
| ssea2kda | 11.674 | 0.351 | 12.087 | |
| ssea2kda.analyze | 11.374 | 0.315 | 11.728 | |
| ssea2kda.import | 9.356 | 0.164 | 9.750 | |
| tool.aggregate | 0.003 | 0.003 | 0.006 | |
| tool.cluster | 0.032 | 0.002 | 0.040 | |
| tool.cluster.static | 0.001 | 0.001 | 0.002 | |
| tool.coalesce | 0.083 | 0.002 | 0.093 | |
| tool.coalesce.exec | 0.255 | 0.002 | 0.277 | |
| tool.coalesce.find | 0.238 | 0.003 | 0.245 | |
| tool.coalesce.merge | 0.241 | 0.002 | 0.244 | |
| tool.fdr | 0.002 | 0.001 | 0.002 | |
| tool.fdr.bh | 0.001 | 0.001 | 0.002 | |
| tool.fdr.empirical | 0.001 | 0.001 | 0.002 | |
| tool.graph | 2.141 | 0.051 | 2.206 | |
| tool.graph.degree | 2.359 | 0.064 | 2.559 | |
| tool.graph.list | 2.255 | 0.069 | 2.354 | |
| tool.metap | 0.007 | 0.002 | 0.009 | |
| tool.normalize | 0.027 | 0.001 | 0.028 | |
| tool.normalize.quality | 0.021 | 0.001 | 0.022 | |
| tool.overlap | 0.014 | 0.002 | 0.016 | |
| tool.read | 0.388 | 0.012 | 0.416 | |
| tool.save | 0.002 | 0.001 | 0.003 | |
| tool.subgraph | 0.129 | 0.011 | 0.150 | |
| tool.subgraph.find | 0.129 | 0.011 | 0.155 | |
| tool.subgraph.search | 0.127 | 0.012 | 0.161 | |
| tool.subgraph.stats | 0.162 | 0.012 | 0.196 | |
| tool.translate | 0.072 | 0.006 | 0.088 | |
| tool.unify | 0.002 | 0.000 | 0.003 | |