| Back to Multiple platform build/check report for BioC 3.20: simplified long |
|
This page was generated on 2025-04-02 19:32 -0400 (Wed, 02 Apr 2025).
| Hostname | OS | Arch (*) | R version | Installed pkgs |
|---|---|---|---|---|
| nebbiolo2 | Linux (Ubuntu 24.04.1 LTS) | x86_64 | 4.4.3 (2025-02-28) -- "Trophy Case" | 4764 |
| palomino8 | Windows Server 2022 Datacenter | x64 | 4.4.3 (2025-02-28 ucrt) -- "Trophy Case" | 4495 |
| merida1 | macOS 12.7.5 Monterey | x86_64 | 4.4.3 (2025-02-28) -- "Trophy Case" | 4522 |
| kjohnson1 | macOS 13.6.6 Ventura | arm64 | 4.4.3 (2025-02-28) -- "Trophy Case" | 4449 |
| taishan | Linux (openEuler 24.03 LTS) | aarch64 | 4.4.3 (2025-02-28) -- "Trophy Case" | 4426 |
| Click on any hostname to see more info about the system (e.g. compilers) (*) as reported by 'uname -p', except on Windows and Mac OS X | ||||
| Package 1311/2289 | Hostname | OS / Arch | INSTALL | BUILD | CHECK | BUILD BIN | ||||||||
| MOSClip 1.0.0 (landing page) Paolo Martini
| nebbiolo2 | Linux (Ubuntu 24.04.1 LTS) / x86_64 | OK | OK | OK | |||||||||
| palomino8 | Windows Server 2022 Datacenter / x64 | OK | OK | OK | OK | |||||||||
| merida1 | macOS 12.7.5 Monterey / x86_64 | OK | OK | OK | OK | |||||||||
| kjohnson1 | macOS 13.6.6 Ventura / arm64 | OK | OK | OK | OK | |||||||||
| taishan | Linux (openEuler 24.03 LTS) / aarch64 | OK | OK | OK | ||||||||||
|
To the developers/maintainers of the MOSClip package: - Allow up to 24 hours (and sometimes 48 hours) for your latest push to git@git.bioconductor.org:packages/MOSClip.git to reflect on this report. See Troubleshooting Build Report for more information. - Use the following Renviron settings to reproduce errors and warnings. - If 'R CMD check' started to fail recently on the Linux builder(s) over a missing dependency, add the missing dependency to 'Suggests:' in your DESCRIPTION file. See Renviron.bioc for more information. |
| Package: MOSClip |
| Version: 1.0.0 |
| Command: /Library/Frameworks/R.framework/Resources/bin/R CMD check --install=check:MOSClip.install-out.txt --library=/Library/Frameworks/R.framework/Resources/library --no-vignettes --timings MOSClip_1.0.0.tar.gz |
| StartedAt: 2025-04-01 05:56:06 -0400 (Tue, 01 Apr 2025) |
| EndedAt: 2025-04-01 06:11:56 -0400 (Tue, 01 Apr 2025) |
| EllapsedTime: 949.5 seconds |
| RetCode: 0 |
| Status: OK |
| CheckDir: MOSClip.Rcheck |
| Warnings: 0 |
##############################################################################
##############################################################################
###
### Running command:
###
### /Library/Frameworks/R.framework/Resources/bin/R CMD check --install=check:MOSClip.install-out.txt --library=/Library/Frameworks/R.framework/Resources/library --no-vignettes --timings MOSClip_1.0.0.tar.gz
###
##############################################################################
##############################################################################
* using log directory ‘/Users/biocbuild/bbs-3.20-bioc/meat/MOSClip.Rcheck’
* using R version 4.4.3 (2025-02-28)
* using platform: x86_64-apple-darwin20
* R was compiled by
Apple clang version 14.0.0 (clang-1400.0.29.202)
GNU Fortran (GCC) 12.2.0
* running under: macOS Monterey 12.7.6
* using session charset: UTF-8
* using option ‘--no-vignettes’
* checking for file ‘MOSClip/DESCRIPTION’ ... OK
* this is package ‘MOSClip’ version ‘1.0.0’
* package encoding: UTF-8
* checking package namespace information ... OK
* checking package dependencies ... OK
* checking if this is a source package ... OK
* checking if there is a namespace ... OK
* checking for hidden files and directories ... OK
* checking for portable file names ... OK
* checking for sufficient/correct file permissions ... OK
* checking whether package ‘MOSClip’ can be installed ... OK
* checking installed package size ... OK
* checking package directory ... OK
* checking ‘build’ directory ... OK
* checking DESCRIPTION meta-information ... OK
* checking top-level files ... OK
* checking for left-over files ... OK
* checking index information ... OK
* checking package subdirectories ... OK
* checking code files for non-ASCII characters ... OK
* checking R files for syntax errors ... OK
* checking whether the package can be loaded ... OK
* checking whether the package can be loaded with stated dependencies ... OK
* checking whether the package can be unloaded cleanly ... OK
* checking whether the namespace can be loaded with stated dependencies ... OK
* checking whether the namespace can be unloaded cleanly ... OK
* checking dependencies in R code ... OK
* checking S3 generic/method consistency ... OK
* checking replacement functions ... OK
* checking foreign function calls ... OK
* checking R code for possible problems ... OK
* checking Rd files ... OK
* checking Rd metadata ... OK
* checking Rd cross-references ... OK
* checking for missing documentation entries ... OK
* checking for code/documentation mismatches ... OK
* checking Rd \usage sections ... OK
* checking Rd contents ... OK
* checking for unstated dependencies in examples ... OK
* checking contents of ‘data’ directory ... OK
* checking data for non-ASCII characters ... OK
* checking data for ASCII and uncompressed saves ... OK
* checking files in ‘vignettes’ ... OK
* checking examples ... OK
Examples with CPU (user + system) or elapsed time > 5s
user system elapsed
evaluateResampling 13.328 0.280 13.982
annotePathwayToFather 12.726 0.508 13.474
plotModuleReport 12.137 0.105 12.508
resampling-Survival 10.917 0.082 12.504
resampling-TwoClass 10.779 0.083 11.094
plotModuleHeat 10.309 0.157 10.674
multiPathwayModuleReport 10.027 0.098 10.240
plotModuleKM 6.752 0.133 7.433
plotPathwayHeat 4.326 0.086 5.210
* checking for unstated dependencies in ‘tests’ ... OK
* checking tests ...
Running ‘testthat.R’
OK
* checking for unstated dependencies in vignettes ... OK
* checking package vignettes ... OK
* checking running R code from vignettes ... SKIPPED
* checking re-building of vignette outputs ... SKIPPED
* checking PDF version of manual ... OK
* DONE
Status: OK
MOSClip.Rcheck/00install.out
############################################################################## ############################################################################## ### ### Running command: ### ### /Library/Frameworks/R.framework/Resources/bin/R CMD INSTALL MOSClip ### ############################################################################## ############################################################################## * installing to library ‘/Library/Frameworks/R.framework/Versions/4.4-x86_64/Resources/library’ * installing *source* package ‘MOSClip’ ... ** using staged installation ** R ** data ** inst ** byte-compile and prepare package for lazy loading ** help *** installing help indices *** copying figures ** building package indices ** installing vignettes ** testing if installed package can be loaded from temporary location ** testing if installed package can be loaded from final location ** testing if installed package keeps a record of temporary installation path * DONE (MOSClip)
MOSClip.Rcheck/tests/testthat.Rout
R version 4.4.3 (2025-02-28) -- "Trophy Case"
Copyright (C) 2025 The R Foundation for Statistical Computing
Platform: x86_64-apple-darwin20
R is free software and comes with ABSOLUTELY NO WARRANTY.
You are welcome to redistribute it under certain conditions.
Type 'license()' or 'licence()' for distribution details.
R is a collaborative project with many contributors.
Type 'contributors()' for more information and
'citation()' on how to cite R or R packages in publications.
Type 'demo()' for some demos, 'help()' for on-line help, or
'help.start()' for an HTML browser interface to help.
Type 'q()' to quit R.
> library(testthat)
> library(MOSClip)
>
> test_check("MOSClip")
[ FAIL 0 | WARN 0 | SKIP 0 | PASS 198 ]
>
> proc.time()
user system elapsed
171.712 4.056 186.744
MOSClip.Rcheck/MOSClip-Ex.timings
| name | user | system | elapsed | |
| annotePathwayToFather | 12.726 | 0.508 | 13.474 | |
| availableOmicMethods | 0.000 | 0.001 | 0.001 | |
| computeFreqs | 0.005 | 0.001 | 0.006 | |
| computeOmicsIntersections | 0.007 | 0.001 | 0.008 | |
| downloadPathwayRelationFromReactome | 0.150 | 0.108 | 0.259 | |
| evaluateResampling | 13.328 | 0.280 | 13.982 | |
| makeOmics | 0.471 | 0.009 | 0.487 | |
| minOrNA | 0 | 0 | 0 | |
| multiOmicsSurvivalModuleTest | 3.872 | 0.089 | 4.021 | |
| multiOmicsSurvivalPathwayTest | 0.642 | 0.026 | 0.674 | |
| multiOmicsTwoClassModuleTest | 3.812 | 0.064 | 3.916 | |
| multiOmicsTwoClassPathwayTest | 0.652 | 0.032 | 0.686 | |
| multiPathwayModuleReport | 10.027 | 0.098 | 10.240 | |
| multiPathwayReport | 1.330 | 0.031 | 1.384 | |
| plotFrequencies | 0.639 | 0.023 | 0.675 | |
| plotModuleHeat | 10.309 | 0.157 | 10.674 | |
| plotModuleInGraph | 4.667 | 0.075 | 4.785 | |
| plotModuleKM | 6.752 | 0.133 | 7.433 | |
| plotModuleReport | 12.137 | 0.105 | 12.508 | |
| plotMultiPathwayReport | 3.117 | 0.039 | 3.215 | |
| plotPathwayHeat | 4.326 | 0.086 | 5.210 | |
| plotPathwayKM | 2.919 | 0.038 | 3.617 | |
| resampling-Survival | 10.917 | 0.082 | 12.504 | |
| resampling-TwoClass | 10.779 | 0.083 | 11.094 | |
| runSupertest | 0.260 | 0.004 | 0.311 | |
| showMOSpalette | 0.033 | 0.002 | 0.035 | |
| showModule | 3.990 | 0.058 | 4.161 | |
| showOmics | 0.075 | 0.010 | 0.087 | |
| showPathway | 0.662 | 0.023 | 0.696 | |
| stripModulesFromPathways | 0.001 | 0.001 | 0.001 | |
| summarizeOmicsResByMinPvalue | 0.000 | 0.000 | 0.001 | |