| Back to Multiple platform build/check report for BioC 3.20: simplified long | 
 | 
This page was generated on 2025-04-02 19:34 -0400 (Wed, 02 Apr 2025).
| Hostname | OS | Arch (*) | R version | Installed pkgs | 
|---|---|---|---|---|
| nebbiolo2 | Linux (Ubuntu 24.04.1 LTS) | x86_64 | 4.4.3 (2025-02-28) -- "Trophy Case" | 4764 | 
| palomino8 | Windows Server 2022 Datacenter | x64 | 4.4.3 (2025-02-28 ucrt) -- "Trophy Case" | 4495 | 
| merida1 | macOS 12.7.5 Monterey | x86_64 | 4.4.3 (2025-02-28) -- "Trophy Case" | 4522 | 
| kjohnson1 | macOS 13.6.6 Ventura | arm64 | 4.4.3 (2025-02-28) -- "Trophy Case" | 4449 | 
| taishan | Linux (openEuler 24.03 LTS) | aarch64 | 4.4.3 (2025-02-28) -- "Trophy Case" | 4426 | 
| Click on any hostname to see more info about the system (e.g. compilers) (*) as reported by 'uname -p', except on Windows and Mac OS X | ||||
| Package 1300/2289 | Hostname | OS / Arch | INSTALL | BUILD | CHECK | BUILD BIN | ||||||||
| MOFA2 1.16.0  (landing page) Ricard Argelaguet 
 | nebbiolo2 | Linux (Ubuntu 24.04.1 LTS) / x86_64 | OK | OK | WARNINGS |  | ||||||||
| palomino8 | Windows Server 2022 Datacenter / x64 | OK | OK | WARNINGS | OK |  | ||||||||
| merida1 | macOS 12.7.5 Monterey / x86_64 | OK | OK | WARNINGS | OK |  | ||||||||
| kjohnson1 | macOS 13.6.6 Ventura / arm64 | OK | OK | WARNINGS | OK |  | ||||||||
| taishan | Linux (openEuler 24.03 LTS) / aarch64 | OK | OK | WARNINGS | ||||||||||
| To the developers/maintainers of the MOFA2 package: - Allow up to 24 hours (and sometimes 48 hours) for your latest push to git@git.bioconductor.org:packages/MOFA2.git to reflect on this report. See Troubleshooting Build Report for more information. - Use the following Renviron settings to reproduce errors and warnings. - If 'R CMD check' started to fail recently on the Linux builder(s) over a missing dependency, add the missing dependency to 'Suggests:' in your DESCRIPTION file. See Renviron.bioc for more information. | 
| Package: MOFA2 | 
| Version: 1.16.0 | 
| Command: rm -rf MOFA2.buildbin-libdir && mkdir MOFA2.buildbin-libdir && /Users/biocbuild/BBS/utils/build-universal.sh MOFA2_1.16.0.tar.gz /Library/Frameworks/R.framework/Resources/bin/R MOFA2.buildbin-libdir | 
| StartedAt: 2025-04-02 15:14:40 -0400 (Wed, 02 Apr 2025) | 
| EndedAt: 2025-04-02 15:15:11 -0400 (Wed, 02 Apr 2025) | 
| EllapsedTime: 31.0 seconds | 
| RetCode: 0 | 
| Status: OK | 
| PackageFile: MOFA2_1.16.0.tgz | 
| PackageFileSize: 4.988 MiB | 
############################################################################## ############################################################################## ### ### Running command: ### ### rm -rf MOFA2.buildbin-libdir && mkdir MOFA2.buildbin-libdir && /Users/biocbuild/BBS/utils/build-universal.sh MOFA2_1.16.0.tar.gz /Library/Frameworks/R.framework/Resources/bin/R MOFA2.buildbin-libdir ### ############################################################################## ############################################################################## >>>>>>> >>>>>>> INSTALLATION WITH 'R CMD INSTALL --preclean --no-multiarch --library=MOFA2.buildbin-libdir MOFA2_1.16.0.tar.gz' >>>>>>> * installing *source* package ‘MOFA2’ ... ** using non-staged installation via StagedInstall field ** R ** inst ** byte-compile and prepare package for lazy loading Creating a generic function for ‘rownames’ from package ‘base’ in package ‘MOFA2’ Creating a generic function for ‘colnames’ from package ‘base’ in package ‘MOFA2’ Creating a generic function for ‘nrow’ from package ‘base’ in package ‘MOFA2’ Creating a generic function for ‘ncol’ from package ‘base’ in package ‘MOFA2’ Creating a generic function for ‘rownames<-’ from package ‘base’ in package ‘MOFA2’ Creating a generic function for ‘colnames<-’ from package ‘base’ in package ‘MOFA2’ ** help *** installing help indices ** building package indices ** installing vignettes ** testing if installed package can be loaded * DONE (MOFA2)