| Back to Multiple platform build/check report for BioC 3.20: simplified long |
|
This page was generated on 2025-04-02 19:28 -0400 (Wed, 02 Apr 2025).
| Hostname | OS | Arch (*) | R version | Installed pkgs |
|---|---|---|---|---|
| nebbiolo2 | Linux (Ubuntu 24.04.1 LTS) | x86_64 | 4.4.3 (2025-02-28) -- "Trophy Case" | 4764 |
| palomino8 | Windows Server 2022 Datacenter | x64 | 4.4.3 (2025-02-28 ucrt) -- "Trophy Case" | 4495 |
| merida1 | macOS 12.7.5 Monterey | x86_64 | 4.4.3 (2025-02-28) -- "Trophy Case" | 4522 |
| kjohnson1 | macOS 13.6.6 Ventura | arm64 | 4.4.3 (2025-02-28) -- "Trophy Case" | 4449 |
| taishan | Linux (openEuler 24.03 LTS) | aarch64 | 4.4.3 (2025-02-28) -- "Trophy Case" | 4426 |
| Click on any hostname to see more info about the system (e.g. compilers) (*) as reported by 'uname -p', except on Windows and Mac OS X | ||||
| Package 1138/2289 | Hostname | OS / Arch | INSTALL | BUILD | CHECK | BUILD BIN | ||||||||
| MAGAR 1.14.0 (landing page) Michael Scherer
| nebbiolo2 | Linux (Ubuntu 24.04.1 LTS) / x86_64 | OK | OK | OK | |||||||||
| palomino8 | Windows Server 2022 Datacenter / x64 | OK | OK | OK | OK | |||||||||
| merida1 | macOS 12.7.5 Monterey / x86_64 | OK | OK | OK | OK | |||||||||
| kjohnson1 | macOS 13.6.6 Ventura / arm64 | OK | OK | OK | OK | |||||||||
| taishan | Linux (openEuler 24.03 LTS) / aarch64 | OK | OK | OK | ||||||||||
|
To the developers/maintainers of the MAGAR package: - Allow up to 24 hours (and sometimes 48 hours) for your latest push to git@git.bioconductor.org:packages/MAGAR.git to reflect on this report. See Troubleshooting Build Report for more information. - Use the following Renviron settings to reproduce errors and warnings. - If 'R CMD check' started to fail recently on the Linux builder(s) over a missing dependency, add the missing dependency to 'Suggests:' in your DESCRIPTION file. See Renviron.bioc for more information. |
| Package: MAGAR |
| Version: 1.14.0 |
| Command: /home/biocbuild/bbs-3.20-bioc/R/bin/R CMD check --install=check:MAGAR.install-out.txt --library=/home/biocbuild/bbs-3.20-bioc/R/site-library --timings MAGAR_1.14.0.tar.gz |
| StartedAt: 2025-03-31 23:30:24 -0400 (Mon, 31 Mar 2025) |
| EndedAt: 2025-03-31 23:38:19 -0400 (Mon, 31 Mar 2025) |
| EllapsedTime: 475.5 seconds |
| RetCode: 0 |
| Status: OK |
| CheckDir: MAGAR.Rcheck |
| Warnings: 0 |
##############################################################################
##############################################################################
###
### Running command:
###
### /home/biocbuild/bbs-3.20-bioc/R/bin/R CMD check --install=check:MAGAR.install-out.txt --library=/home/biocbuild/bbs-3.20-bioc/R/site-library --timings MAGAR_1.14.0.tar.gz
###
##############################################################################
##############################################################################
* using log directory ‘/home/biocbuild/bbs-3.20-bioc/meat/MAGAR.Rcheck’
* using R version 4.4.3 (2025-02-28)
* using platform: x86_64-pc-linux-gnu
* R was compiled by
gcc (Ubuntu 13.3.0-6ubuntu2~24.04) 13.3.0
GNU Fortran (Ubuntu 13.3.0-6ubuntu2~24.04) 13.3.0
* running under: Ubuntu 24.04.2 LTS
* using session charset: UTF-8
* checking for file ‘MAGAR/DESCRIPTION’ ... OK
* checking extension type ... Package
* this is package ‘MAGAR’ version ‘1.14.0’
* package encoding: UTF-8
* checking package namespace information ... OK
* checking package dependencies ... OK
* checking if this is a source package ... OK
* checking if there is a namespace ... OK
* checking for hidden files and directories ... NOTE
Found the following hidden files and directories:
.travis.yml
These were most likely included in error. See section ‘Package
structure’ in the ‘Writing R Extensions’ manual.
* checking for portable file names ... OK
* checking for sufficient/correct file permissions ... OK
* checking whether package ‘MAGAR’ can be installed ... OK
* checking installed package size ... OK
* checking package directory ... OK
* checking ‘build’ directory ... OK
* checking DESCRIPTION meta-information ... OK
* checking top-level files ... OK
* checking for left-over files ... OK
* checking index information ... OK
* checking package subdirectories ... OK
* checking code files for non-ASCII characters ... OK
* checking R files for syntax errors ... OK
* checking whether the package can be loaded ... OK
* checking whether the package can be loaded with stated dependencies ... OK
* checking whether the package can be unloaded cleanly ... OK
* checking whether the namespace can be loaded with stated dependencies ... OK
* checking whether the namespace can be unloaded cleanly ... OK
* checking loading without being on the library search path ... OK
* checking dependencies in R code ... NOTE
Namespace in Imports field not imported from: ‘RnBeads.hg38’
All declared Imports should be used.
* checking S3 generic/method consistency ... OK
* checking replacement functions ... OK
* checking foreign function calls ... OK
* checking R code for possible problems ... NOTE
getOverlapUniverse: warning in overlapQTLs(meth.qtl.res = meth.qtl.res,
type = type): partial argument match of 'meth.qtl.res' to
'meth.qtl.result.list'
doGenoImport: no visible global function definition for
‘makeGRangesFromDataFrame’
doGenoImport: no visible global function definition for
‘seqlevelsStyle<-’
doGenoImport: no visible global function definition for ‘findOverlaps’
doGenoImport: no visible global function definition for ‘ggplot’
doGenoImport: no visible global function definition for ‘aes’
doGenoImport: no visible binding for global variable ‘PC1’
doGenoImport: no visible binding for global variable ‘PC2’
doGenoImport: no visible global function definition for ‘geom_point’
doGenoImport: no visible global function definition for ‘xlab’
doGenoImport: no visible global function definition for ‘ylab’
doGenoImport: no visible global function definition for ‘theme_bw’
doGenoImport: no visible global function definition for ‘theme’
doGenoImport: no visible global function definition for ‘element_blank’
doGenoImport: no visible global function definition for ‘element_text’
doGenoImport: no visible global function definition for ‘element_line’
doGenoImport: no visible global function definition for ‘ggsave’
doGenoImportIDAT: no visible global function definition for
‘featureData’
doGenoImportIDAT: no visible global function definition for
‘featureNames’
doGenoImportIDAT: no visible global function definition for
‘chromosome’
doGenoImportIDAT: no visible global function definition for ‘calls’
doGenoImportIDAT: no visible global function definition for
‘makeGRangesFromDataFrame’
doGenoImportIDAT: no visible global function definition for ‘GRanges’
doGenoImportIDAT: no visible global function definition for ‘Rle’
doGenoImportIDAT: no visible global function definition for ‘IRanges’
doGenoImportIDAT: no visible global function definition for
‘findOverlaps’
doGenoImportIDAT: no visible global function definition for ‘queryHits’
doGenoImportIDAT: no visible global function definition for
‘subjectHits’
doGenoImportImputed: no visible global function definition for ‘ggplot’
doGenoImportImputed: no visible global function definition for ‘aes’
doGenoImportImputed: no visible binding for global variable ‘PC1’
doGenoImportImputed: no visible binding for global variable ‘PC2’
doGenoImportImputed: no visible global function definition for
‘geom_point’
doGenoImportImputed: no visible global function definition for ‘xlab’
doGenoImportImputed: no visible global function definition for ‘ylab’
doGenoImportImputed: no visible global function definition for
‘theme_bw’
doGenoImportImputed: no visible global function definition for ‘theme’
doGenoImportImputed: no visible global function definition for
‘element_blank’
doGenoImportImputed: no visible global function definition for
‘element_text’
doGenoImportImputed: no visible global function definition for
‘element_line’
doGenoImportImputed: no visible global function definition for ‘ggsave’
doImport: no visible binding for global variable ‘anno’
doMethImport: no visible global function definition for ‘GRanges’
doMethImport: no visible global function definition for ‘Rle’
doMethImport: no visible global function definition for ‘IRanges’
doMethImport: no visible global function definition for
‘makeGRangesFromDataFrame’
doMethImport: no visible global function definition for ‘findOverlaps’
doMethImport: no visible global function definition for ‘queryHits’
doMethQTLChromosome: no visible global function definition for ‘ggplot’
doMethQTLChromosome: no visible global function definition for ‘aes’
doMethQTLChromosome: no visible binding for global variable ‘Size’
doMethQTLChromosome: no visible global function definition for
‘after_stat’
doMethQTLChromosome: no visible global function definition for
‘geom_histogram’
doMethQTLChromosome: no visible global function definition for
‘geom_vline’
doMethQTLChromosome: no visible global function definition for
‘theme_bw’
doMethQTLChromosome: no visible global function definition for ‘theme’
doMethQTLChromosome: no visible global function definition for
‘element_blank’
doMethQTLChromosome: no visible global function definition for
‘element_text’
doMethQTLChromosome: no visible global function definition for
‘element_line’
doMethQTLChromosome: no visible global function definition for ‘ggsave’
doMethQTLChromosome: no visible global function definition for
‘mclapply’
getOverlapUniverse: no visible global function definition for
‘makeGRangesFromDataFrame’
qtlAnnotationEnrichment: no visible global function definition for
‘findOverlaps’
qtlCorrelateCorBlockStat: no visible global function definition for
‘ggplot’
qtlCorrelateCorBlockStat: no visible global function definition for
‘aes_string’
qtlCorrelateCorBlockStat: no visible global function definition for
‘geom_point’
qtlCorrelateCorBlockStat: no visible global function definition for
‘geom_smooth’
qtlCorrelateCorBlockStat: no visible global function definition for
‘ggtitle’
qtlCorrelateCorBlockStat: no visible global function definition for
‘ylab’
qtlDistanceScatterplot: no visible global function definition for
‘ggplot’
qtlDistanceScatterplot: no visible global function definition for ‘aes’
qtlDistanceScatterplot: no visible binding for global variable
‘Distance’
qtlDistanceScatterplot: no visible binding for global variable
‘P.value’
qtlDistanceScatterplot: no visible global function definition for
‘geom_point’
qtlDistanceScatterplot: no visible global function definition for
‘ggtitle’
qtlDistanceScatterplot: no visible global function definition for
‘xlab’
qtlDistanceScatterplot: no visible global function definition for
‘ylab’
qtlDistanceScatterplot: no visible binding for global variable ‘Beta’
qtlDistanceScatterplot: no visible global function definition for
‘labs’
qtlDistanceScatterplot: no visible global function definition for
‘scale_color_gradient2’
qtlDistanceScatterplot: no visible global function definition for
‘scale_color_continuous’
qtlDistanceScatterplot: no visible global function definition for
‘annotate’
qtlDistanceScatterplot: no visible global function definition for
‘ggsave’
qtlLOLAEnrichment: no visible global function definition for
‘loadRegionDB’
qtlLOLAEnrichment: no visible global function definition for ‘runLOLA’
qtlPlotAnnotationEnrichment: no visible global function definition for
‘ggplot’
qtlPlotAnnotationEnrichment: no visible global function definition for
‘aes’
qtlPlotAnnotationEnrichment: no visible binding for global variable
‘Type’
qtlPlotAnnotationEnrichment: no visible binding for global variable
‘Annotation’
qtlPlotAnnotationEnrichment: no visible binding for global variable
‘OddsRatio’
qtlPlotAnnotationEnrichment: no visible global function definition for
‘geom_tile’
qtlPlotAnnotationEnrichment: no visible global function definition for
‘scale_fill_gradient2’
qtlPlotBaseSubstitution: no visible global function definition for
‘ggplot’
qtlPlotBaseSubstitution: no visible global function definition for
‘aes’
qtlPlotBaseSubstitution: no visible binding for global variable
‘Substitution’
qtlPlotBaseSubstitution: no visible binding for global variable
‘OddsRatio’
qtlPlotBaseSubstitution: no visible global function definition for
‘geom_tile’
qtlPlotBaseSubstitution: no visible global function definition for
‘scale_fill_gradient2’
qtlPlotClusterSize: no visible global function definition for ‘ggplot’
qtlPlotClusterSize: no visible global function definition for ‘aes’
qtlPlotClusterSize: no visible binding for global variable ‘Size’
qtlPlotClusterSize: no visible global function definition for
‘after_stat’
qtlPlotClusterSize: no visible global function definition for
‘geom_histogram’
qtlPlotSNPCorrelationBlock: no visible global function definition for
‘ggplot’
qtlPlotSNPCorrelationBlock: no visible global function definition for
‘aes’
qtlPlotSNPCorrelationBlock: no visible binding for global variable
‘SNP’
qtlPlotSNPCorrelationBlock: no visible binding for global variable
‘CpG’
qtlPlotSNPCorrelationBlock: no visible global function definition for
‘geom_point’
qtlPlotSNPCorrelationBlock: no visible binding for global variable
‘Representative’
qtlPlotSNPCorrelationBlock: no visible global function definition for
‘geom_smooth’
qtlPlotSNPCorrelationBlock: no visible global function definition for
‘facet_grid’
qtlPlotSNPCorrelationBlock: no visible global function definition for
‘theme’
qtlPlotSNPCorrelationBlock: no visible global function definition for
‘scale_color_manual’
qtlPlotSNPCpGInteraction: no visible global function definition for
‘ggplot’
qtlPlotSNPCpGInteraction: no visible global function definition for
‘aes’
qtlPlotSNPCpGInteraction: no visible binding for global variable ‘SNP’
qtlPlotSNPCpGInteraction: no visible binding for global variable ‘CpG’
qtlPlotSNPCpGInteraction: no visible global function definition for
‘geom_boxplot’
qtlPlotSNPCpGInteraction: no visible global function definition for
‘theme_bw’
qtlPlotSNPCpGInteraction: no visible global function definition for
‘ylab’
qtlPlotSNPCpGInteraction: no visible global function definition for
‘xlab’
qtlPlotSNPCpGInteraction: no visible global function definition for
‘ggsave’
qtlPlotSNPCpGInteraction: no visible binding for global variable
‘SNPDosage’
qtlPlotSNPCpGInteraction: no visible global function definition for
‘geom_point’
qtlPlotSNPCpGInteraction: no visible global function definition for
‘geom_smooth’
Undefined global functions or variables:
Annotation Beta CpG Distance GRanges IRanges OddsRatio P.value PC1
PC2 Representative Rle SNP SNPDosage Size Substitution Type aes
aes_string after_stat anno annotate calls chromosome element_blank
element_line element_text facet_grid featureData featureNames
findOverlaps geom_boxplot geom_histogram geom_point geom_smooth
geom_tile geom_vline ggplot ggsave ggtitle labs loadRegionDB
makeGRangesFromDataFrame mclapply queryHits runLOLA
scale_color_continuous scale_color_gradient2 scale_color_manual
scale_fill_gradient2 seqlevelsStyle<- subjectHits theme theme_bw xlab
ylab
* checking Rd files ... OK
* checking Rd metadata ... OK
* checking Rd cross-references ... OK
* checking for missing documentation entries ... OK
* checking for code/documentation mismatches ... OK
* checking Rd \usage sections ... OK
* checking Rd contents ... OK
* checking for unstated dependencies in examples ... OK
* checking files in ‘vignettes’ ... OK
* checking examples ... OK
Examples with CPU (user + system) or elapsed time > 5s
user system elapsed
doMethQTL 10.566 0.972 11.544
doMethQTLChromosome 8.963 0.481 9.448
computeCorrelationBlocks 5.700 1.484 7.191
* checking for unstated dependencies in ‘tests’ ... OK
* checking tests ...
Running ‘runTests.R’
OK
* checking for unstated dependencies in vignettes ... OK
* checking package vignettes ... OK
* checking re-building of vignette outputs ... OK
* checking PDF version of manual ... OK
* DONE
Status: 3 NOTEs
See
‘/home/biocbuild/bbs-3.20-bioc/meat/MAGAR.Rcheck/00check.log’
for details.
MAGAR.Rcheck/00install.out
############################################################################## ############################################################################## ### ### Running command: ### ### /home/biocbuild/bbs-3.20-bioc/R/bin/R CMD INSTALL MAGAR ### ############################################################################## ############################################################################## * installing to library ‘/home/biocbuild/bbs-3.20-bioc/R/site-library’ * installing *source* package ‘MAGAR’ ... ** using staged installation ** R ** inst ** byte-compile and prepare package for lazy loading No methods found in package ‘oligoClasses’ for request: ‘mean’ when loading ‘crlmm’ ** help *** installing help indices ** building package indices ** installing vignettes ** testing if installed package can be loaded from temporary location No methods found in package ‘oligoClasses’ for request: ‘mean’ when loading ‘crlmm’ ** testing if installed package can be loaded from final location No methods found in package ‘oligoClasses’ for request: ‘mean’ when loading ‘crlmm’ ** testing if installed package keeps a record of temporary installation path * DONE (MAGAR)
MAGAR.Rcheck/tests/runTests.Rout
R version 4.4.3 (2025-02-28) -- "Trophy Case"
Copyright (C) 2025 The R Foundation for Statistical Computing
Platform: x86_64-pc-linux-gnu
R is free software and comes with ABSOLUTELY NO WARRANTY.
You are welcome to redistribute it under certain conditions.
Type 'license()' or 'licence()' for distribution details.
R is a collaborative project with many contributors.
Type 'contributors()' for more information and
'citation()' on how to cite R or R packages in publications.
Type 'demo()' for some demos, 'help()' for on-line help, or
'help.start()' for an HTML browser interface to help.
Type 'q()' to quit R.
> BiocGenerics:::testPackage("MAGAR")
Attaching package: 'BiocGenerics'
The following objects are masked from 'package:stats':
IQR, mad, sd, var, xtabs
The following objects are masked from 'package:base':
Filter, Find, Map, Position, Reduce, anyDuplicated, aperm, append,
as.data.frame, basename, cbind, colnames, dirname, do.call,
duplicated, eval, evalq, get, grep, grepl, intersect, is.unsorted,
lapply, mapply, match, mget, order, paste, pmax, pmax.int, pmin,
pmin.int, rank, rbind, rownames, sapply, saveRDS, setdiff, table,
tapply, union, unique, unsplit, which.max, which.min
Attaching package: 'MatrixGenerics'
The following objects are masked from 'package:matrixStats':
colAlls, colAnyNAs, colAnys, colAvgsPerRowSet, colCollapse,
colCounts, colCummaxs, colCummins, colCumprods, colCumsums,
colDiffs, colIQRDiffs, colIQRs, colLogSumExps, colMadDiffs,
colMads, colMaxs, colMeans2, colMedians, colMins, colOrderStats,
colProds, colQuantiles, colRanges, colRanks, colSdDiffs, colSds,
colSums2, colTabulates, colVarDiffs, colVars, colWeightedMads,
colWeightedMeans, colWeightedMedians, colWeightedSds,
colWeightedVars, rowAlls, rowAnyNAs, rowAnys, rowAvgsPerColSet,
rowCollapse, rowCounts, rowCummaxs, rowCummins, rowCumprods,
rowCumsums, rowDiffs, rowIQRDiffs, rowIQRs, rowLogSumExps,
rowMadDiffs, rowMads, rowMaxs, rowMeans2, rowMedians, rowMins,
rowOrderStats, rowProds, rowQuantiles, rowRanges, rowRanks,
rowSdDiffs, rowSds, rowSums2, rowTabulates, rowVarDiffs, rowVars,
rowWeightedMads, rowWeightedMeans, rowWeightedMedians,
rowWeightedSds, rowWeightedVars
Attaching package: 'S4Vectors'
The following objects are masked from 'package:Matrix':
expand, unname
The following object is masked from 'package:utils':
findMatches
The following objects are masked from 'package:base':
I, expand.grid, unname
Attaching package: 'S4Arrays'
The following object is masked from 'package:abind':
abind
The following object is masked from 'package:base':
rowsum
Attaching package: 'DelayedArray'
The following objects are masked from 'package:base':
apply, scale, sweep
Attaching package: 'HDF5Array'
The following object is masked from 'package:rhdf5':
h5ls
Attaching package: 'bit'
The following object is masked from 'package:base':
xor
Attaching package ff
- getOption("fftempdir")=="/home/biocbuild/bbs-3.20-bioc/tmpdir/RtmpyH7G1r/ff"
- getOption("ffextension")=="ff"
- getOption("ffdrop")==TRUE
- getOption("fffinonexit")==TRUE
- getOption("ffpagesize")==65536
- getOption("ffcaching")=="mmnoflush" -- consider "ffeachflush" if your system stalls on large writes
- getOption("ffbatchbytes")==16777216 -- consider a different value for tuning your system
- getOption("ffmaxbytes")==536870912 -- consider a different value for tuning your system
Attaching package: 'ff'
The following object is masked from 'package:S4Arrays':
maxlength
The following objects are masked from 'package:utils':
write.csv, write.csv2
The following objects are masked from 'package:base':
is.factor, is.ordered
Spam version 2.11-1 (2025-01-20) is loaded.
Type 'help( Spam)' or 'demo( spam)' for a short introduction
and overview of this package.
Help for individual functions is also obtained by adding the
suffix '.spam' to the function name, e.g. 'help( chol.spam)'.
Attaching package: 'spam'
The following object is masked from 'package:stats4':
mle
The following object is masked from 'package:Matrix':
det
The following objects are masked from 'package:base':
backsolve, forwardsolve
Try help(fields) to get started.
Attaching package: 'gplots'
The following object is masked from 'package:IRanges':
space
The following object is masked from 'package:S4Vectors':
space
The following object is masked from 'package:stats':
lowess
Attaching package: 'grid'
The following object is masked from 'package:ff':
pattern
Attaching package: 'gridExtra'
The following object is masked from 'package:BiocGenerics':
combine
Attaching package: 'limma'
The following object is masked from 'package:BiocGenerics':
plotMA
Welcome to Bioconductor
Vignettes contain introductory material; view with
'browseVignettes()'. To cite Bioconductor, see
'citation("Biobase")', and for packages 'citation("pkgname")'.
Attaching package: 'Biobase'
The following object is masked from 'package:SparseArray':
rowMedians
The following object is masked from 'package:MatrixGenerics':
rowMedians
The following objects are masked from 'package:matrixStats':
anyMissing, rowMedians
Attaching package: 'AnnotationDbi'
The following object is masked from 'package:MASS':
select
Attaching package: 'Biostrings'
The following object is masked from 'package:grid':
pattern
The following objects are masked from 'package:ff':
mismatch, pattern
The following object is masked from 'package:base':
strsplit
locfit 1.5-9.12 2025-03-05
Setting options('download.file.method.GEOquery'='auto')
Setting options('GEOquery.inmemory.gpl'=FALSE)
Attaching package: 'plyr'
The following object is masked from 'package:XVector':
compact
The following object is masked from 'package:IRanges':
desc
The following object is masked from 'package:S4Vectors':
rename
The following object is masked from 'package:matrixStats':
count
Welcome to oligoClasses version 1.68.0
Attaching package: 'oligoClasses'
The following object is masked from 'package:minfi':
getM
No methods found in package 'oligoClasses' for request: 'mean' when loading 'crlmm'
Welcome to crlmm version 1.64.1
Attaching package: 'MAGAR'
The following object is masked from 'package:foreach':
getResult
2025-03-31 23:37:12 1.3 STATUS STARTED Unit Testing
2025-03-31 23:37:12 1.3 STATUS STARTED Testing constructors
Object of class MethQTLInput
Contains 3 samples
Methylation data for 5 CpGs
Genotyping data for 4 SNPs
Genome assembly: hg19
Object of class MethQTLResult
Contains 10 methQTL
Contains 0 correlation blocks
methQTL called using classical.linear
representative CpGs computed with row.medians
2025-03-31 23:37:12 1.3 STATUS COMPLETED Testing constructors
2025-03-31 23:37:12 1.3 STATUS STARTED Testing options
2025-03-31 23:37:12 1.3 STATUS COMPLETED Testing options
2025-03-31 23:37:12 1.3 STATUS STARTED Testing cor blocks
2025-03-31 23:37:12 1.3 STATUS STARTED Compute correlation blocks
2025-03-31 23:37:12 1.3 STATUS STARTED Compute correlation matrix
2025-03-31 23:37:12 1.3 STATUS COMPLETED Compute correlation matrix
2025-03-31 23:37:12 1.3 STATUS STARTED Compute pairwise distances
2025-03-31 23:37:13 1.3 STATUS COMPLETED Compute pairwise distances
2025-03-31 23:37:15 1.3 STATUS STARTED Weight distances
2025-03-31 23:37:15 1.3 STATUS COMPLETED Weight distances
2025-03-31 23:37:16 1.3 STATUS STARTED Compute graph
2025-03-31 23:37:16 1.3 STATUS COMPLETED Compute graph
2025-03-31 23:37:16 1.3 STATUS STARTED Compute clustering
2025-03-31 23:37:17 1.3 STATUS COMPLETED Compute clustering
2025-03-31 23:37:17 1.3 STATUS COMPLETED Compute correlation blocks
2025-03-31 23:37:17 1.3 STATUS COMPLETED Testing cor blocks
2025-03-31 23:37:17 1.3 STATUS STARTED Test methQTL calling
2025-03-31 23:37:17 1.3 INFO Loading default option setting
2025-03-31 23:37:17 1.3 STATUS STARTED Imputation procedure knn
2025-03-31 23:37:17 1.3 STATUS COMPLETED Imputation procedure knn
2025-03-31 23:37:17 1.3 STATUS STARTED Computing methQTLs
2025-03-31 23:37:17 1.3 STATUS STARTED Computing methQTL for chromosome chr18
2025-03-31 23:37:17 1.3 STATUS STARTED Compute methQTL per correlation block
2025-03-31 23:37:17 1.3 STATUS STARTED Setting up Multicore
2025-03-31 23:37:17 1.3 INFO Using 1 cores
2025-03-31 23:37:17 1.3 STATUS COMPLETED Setting up Multicore
2025-03-31 23:37:18 1.3 STATUS COMPLETED Compute methQTL per correlation block
2025-03-31 23:37:18 1.3 STATUS COMPLETED Computing methQTL for chromosome chr18
2025-03-31 23:37:19 1.3 STATUS COMPLETED Computing methQTLs
2025-03-31 23:37:19 1.3 STATUS COMPLETED Test methQTL calling
2025-03-31 23:37:19 1.3 STATUS COMPLETED Unit Testing
Object of class MethQTLInput
Contains 3 samples
Methylation data for 5 CpGs
Genotyping data for 4 SNPs
Genome assembly: hg19
Object of class MethQTLResult
Contains 10 methQTL
Contains 0 correlation blocks
methQTL called using classical.linear
representative CpGs computed with row.medians
2025-03-31 23:37:19 1.3 INFO Loading default option setting
2025-03-31 23:37:19 1.3 STATUS STARTED Imputation procedure knn
2025-03-31 23:37:19 1.3 STATUS COMPLETED Imputation procedure knn
2025-03-31 23:37:19 1.3 STATUS STARTED Computing methQTLs
2025-03-31 23:37:19 1.3 STATUS STARTED Computing methQTL for chromosome chr18
2025-03-31 23:37:19 1.3 STATUS STARTED Compute methQTL per correlation block
2025-03-31 23:37:19 1.3 STATUS STARTED Setting up Multicore
2025-03-31 23:37:19 1.3 INFO Using 1 cores
2025-03-31 23:37:19 1.3 STATUS COMPLETED Setting up Multicore
2025-03-31 23:37:19 1.3 STATUS COMPLETED Compute methQTL per correlation block
2025-03-31 23:37:19 1.3 STATUS COMPLETED Computing methQTL for chromosome chr18
2025-03-31 23:37:20 1.3 STATUS COMPLETED Computing methQTLs
2025-03-31 23:37:20 1.3 STATUS STARTED Compute correlation blocks
2025-03-31 23:37:20 1.3 STATUS STARTED Compute correlation matrix
2025-03-31 23:37:20 1.3 STATUS COMPLETED Compute correlation matrix
2025-03-31 23:37:20 1.3 STATUS STARTED Compute pairwise distances
2025-03-31 23:37:22 1.3 STATUS COMPLETED Compute pairwise distances
2025-03-31 23:37:23 1.3 STATUS STARTED Weight distances
2025-03-31 23:37:23 1.3 STATUS COMPLETED Weight distances
2025-03-31 23:37:24 1.3 STATUS STARTED Compute graph
2025-03-31 23:37:24 1.3 STATUS COMPLETED Compute graph
2025-03-31 23:37:24 1.3 STATUS STARTED Compute clustering
2025-03-31 23:37:25 1.3 STATUS COMPLETED Compute clustering
2025-03-31 23:37:25 1.3 STATUS COMPLETED Compute correlation blocks
RUNIT TEST PROTOCOL -- Mon Mar 31 23:37:25 2025
***********************************************
Number of test functions: 4
Number of errors: 0
Number of failures: 0
1 Test Suite :
MAGAR RUnit Tests - 4 test functions, 0 errors, 0 failures
Number of test functions: 4
Number of errors: 0
Number of failures: 0
>
> proc.time()
user system elapsed
31.142 1.056 32.194
MAGAR.Rcheck/MAGAR-Ex.timings
| name | user | system | elapsed | |
| computeCorrelationBlocks | 5.700 | 1.484 | 7.191 | |
| doImport | 0.055 | 0.001 | 0.056 | |
| doMethQTL | 10.566 | 0.972 | 11.544 | |
| doMethQTLChromosome | 8.963 | 0.481 | 9.448 | |
| filterPval | 0.020 | 0.002 | 0.022 | |
| getAnno | 0.076 | 0.000 | 0.076 | |
| getCorrelationBlocks | 0.026 | 0.010 | 0.036 | |
| getGeno | 0.098 | 0.006 | 0.103 | |
| getMethData | 0.076 | 0.003 | 0.078 | |
| getOverlapUniverse | 0.090 | 0.002 | 0.093 | |
| getOverlappingQTL | 0.020 | 0.001 | 0.022 | |
| getPheno | 0.052 | 0.002 | 0.056 | |
| getResult | 0.018 | 0.001 | 0.019 | |
| getResultGWASMap | 0.073 | 0.003 | 0.075 | |
| getSamples | 0.054 | 0.000 | 0.054 | |
| getSpecificQTL | 0.017 | 0.000 | 0.018 | |
| imputeMeth | 0.133 | 0.008 | 0.143 | |
| joinMethQTLResult | 0.054 | 0.008 | 0.064 | |
| loadMethQTLInput | 0.049 | 0.004 | 0.053 | |
| loadMethQTLResult | 0.016 | 0.001 | 0.016 | |
| overlapInputs | 0.053 | 0.001 | 0.053 | |
| overlapQTLs | 0.017 | 0.000 | 0.016 | |
| qtlAnnotationEnrichment | 0.955 | 0.039 | 0.995 | |
| qtlBaseSubstitutionEnrichment | 0.053 | 0.000 | 0.053 | |
| qtlDistanceScatterplot | 0.545 | 0.017 | 0.562 | |
| qtlGetOption | 0 | 0 | 0 | |
| qtlJSON2options | 0.002 | 0.000 | 0.002 | |
| qtlManhattanPlot | 0.032 | 0.002 | 0.034 | |
| qtlOptions2JSON | 0.001 | 0.001 | 0.002 | |
| qtlPlotBaseSubstitution | 0.06 | 0.00 | 0.06 | |
| qtlPlotClusterSize | 0.207 | 0.001 | 0.208 | |
| qtlPlotSNPCpGInteraction | 0.234 | 0.014 | 0.248 | |
| qtlSetOption | 0 | 0 | 0 | |
| qtlTFBSMotifEnrichment | 0.021 | 0.001 | 0.022 | |
| qtlUpSetPlotCorBlocks | 1.165 | 0.036 | 1.201 | |
| qtlUpSetPlotTagCpGs | 0.420 | 0.002 | 0.422 | |
| qtlUpsetPlot | 0.451 | 0.041 | 0.492 | |
| qtlVennPlot | 0.330 | 0.030 | 0.354 | |
| saveMethQTLInput | 0.158 | 0.012 | 0.170 | |
| saveMethQTLResult | 0.094 | 0.002 | 0.096 | |