| Back to Multiple platform build/check report for BioC 3.20: simplified long |
|
This page was generated on 2024-11-20 12:06 -0500 (Wed, 20 Nov 2024).
| Hostname | OS | Arch (*) | R version | Installed pkgs |
|---|---|---|---|---|
| teran2 | Linux (Ubuntu 24.04.1 LTS) | x86_64 | 4.4.2 (2024-10-31) -- "Pile of Leaves" | 4481 |
| nebbiolo2 | Linux (Ubuntu 24.04.1 LTS) | x86_64 | 4.4.2 (2024-10-31) -- "Pile of Leaves" | 4479 |
| palomino8 | Windows Server 2022 Datacenter | x64 | 4.4.2 (2024-10-31 ucrt) -- "Pile of Leaves" | 4359 |
| lconway | macOS 12.7.1 Monterey | x86_64 | 4.4.1 (2024-06-14) -- "Race for Your Life" | 4539 |
| kunpeng2 | Linux (openEuler 22.03 LTS-SP1) | aarch64 | 4.4.1 (2024-06-14) -- "Race for Your Life" | 4493 |
| Click on any hostname to see more info about the system (e.g. compilers) (*) as reported by 'uname -p', except on Windows and Mac OS X | ||||
| Package 1078/2289 | Hostname | OS / Arch | INSTALL | BUILD | CHECK | BUILD BIN | ||||||||
| KBoost 1.14.0 (landing page) Luis F. Iglesias-Martinez
| teran2 | Linux (Ubuntu 24.04.1 LTS) / x86_64 | OK | OK | OK | |||||||||
| nebbiolo2 | Linux (Ubuntu 24.04.1 LTS) / x86_64 | OK | OK | OK | ||||||||||
| palomino8 | Windows Server 2022 Datacenter / x64 | OK | OK | OK | OK | |||||||||
| lconway | macOS 12.7.1 Monterey / x86_64 | OK | OK | OK | OK | |||||||||
| kunpeng2 | Linux (openEuler 22.03 LTS-SP1) / aarch64 | OK | OK | OK | ||||||||||
|
To the developers/maintainers of the KBoost package: - Allow up to 24 hours (and sometimes 48 hours) for your latest push to git@git.bioconductor.org:packages/KBoost.git to reflect on this report. See Troubleshooting Build Report for more information. - Use the following Renviron settings to reproduce errors and warnings. - If 'R CMD check' started to fail recently on the Linux builder(s) over a missing dependency, add the missing dependency to 'Suggests:' in your DESCRIPTION file. See Renviron.bioc for more information. |
| Package: KBoost |
| Version: 1.14.0 |
| Command: /Library/Frameworks/R.framework/Resources/bin/R CMD check --install=check:KBoost.install-out.txt --library=/Library/Frameworks/R.framework/Resources/library --no-vignettes --timings KBoost_1.14.0.tar.gz |
| StartedAt: 2024-11-19 23:23:47 -0500 (Tue, 19 Nov 2024) |
| EndedAt: 2024-11-19 23:28:06 -0500 (Tue, 19 Nov 2024) |
| EllapsedTime: 259.4 seconds |
| RetCode: 0 |
| Status: OK |
| CheckDir: KBoost.Rcheck |
| Warnings: 0 |
##############################################################################
##############################################################################
###
### Running command:
###
### /Library/Frameworks/R.framework/Resources/bin/R CMD check --install=check:KBoost.install-out.txt --library=/Library/Frameworks/R.framework/Resources/library --no-vignettes --timings KBoost_1.14.0.tar.gz
###
##############################################################################
##############################################################################
* using log directory ‘/Users/biocbuild/bbs-3.20-bioc/meat/KBoost.Rcheck’
* using R version 4.4.1 (2024-06-14)
* using platform: x86_64-apple-darwin20
* R was compiled by
Apple clang version 14.0.0 (clang-1400.0.29.202)
GNU Fortran (GCC) 12.2.0
* running under: macOS Monterey 12.7.6
* using session charset: UTF-8
* using option ‘--no-vignettes’
* checking for file ‘KBoost/DESCRIPTION’ ... OK
* checking extension type ... Package
* this is package ‘KBoost’ version ‘1.14.0’
* package encoding: UTF-8
* checking package namespace information ... OK
* checking package dependencies ...Warning: unable to access index for repository https://CRAN.R-project.org/src/contrib:
cannot open URL 'https://CRAN.R-project.org/src/contrib/PACKAGES'
OK
* checking if this is a source package ... OK
* checking if there is a namespace ... OK
* checking for hidden files and directories ... OK
* checking for portable file names ... OK
* checking for sufficient/correct file permissions ... OK
* checking whether package ‘KBoost’ can be installed ... OK
* checking installed package size ... OK
* checking package directory ... OK
* checking ‘build’ directory ... OK
* checking DESCRIPTION meta-information ... OK
* checking top-level files ... OK
* checking for left-over files ... OK
* checking index information ... OK
* checking package subdirectories ... NOTE
Problems with news in ‘NEWS.md’:
No news entries found.
* checking code files for non-ASCII characters ... OK
* checking R files for syntax errors ... OK
* checking whether the package can be loaded ... OK
* checking whether the package can be loaded with stated dependencies ... OK
* checking whether the package can be unloaded cleanly ... OK
* checking whether the namespace can be loaded with stated dependencies ... OK
* checking whether the namespace can be unloaded cleanly ... OK
* checking dependencies in R code ... OK
* checking S3 generic/method consistency ... OK
* checking replacement functions ... OK
* checking foreign function calls ... OK
* checking R code for possible problems ... NOTE
check_input: no visible global function definition for ‘is’
net_summary_bin: no visible global function definition for ‘is’
Undefined global functions or variables:
is
Consider adding
importFrom("methods", "is")
to your NAMESPACE file (and ensure that your DESCRIPTION Imports field
contains 'methods').
* checking Rd files ... OK
* checking Rd metadata ... OK
* checking Rd cross-references ... OK
* checking for missing documentation entries ... OK
* checking for code/documentation mismatches ... OK
* checking Rd \usage sections ... OK
* checking Rd contents ... OK
* checking for unstated dependencies in examples ... OK
* checking contents of ‘data’ directory ... OK
* checking data for non-ASCII characters ... OK
* checking LazyData ... OK
* checking data for ASCII and uncompressed saves ... OK
* checking files in ‘vignettes’ ... OK
* checking examples ... OK
Examples with CPU (user + system) or elapsed time > 5s
user system elapsed
d4_mfac 5.378 2.405 7.804
* checking for unstated dependencies in ‘tests’ ... OK
* checking tests ...
Running ‘testthat.R’
OK
* checking for unstated dependencies in vignettes ... OK
* checking package vignettes ... OK
* checking running R code from vignettes ... SKIPPED
* checking re-building of vignette outputs ... SKIPPED
* checking PDF version of manual ... OK
* DONE
Status: 2 NOTEs
See
‘/Users/biocbuild/bbs-3.20-bioc/meat/KBoost.Rcheck/00check.log’
for details.
KBoost.Rcheck/00install.out
############################################################################## ############################################################################## ### ### Running command: ### ### /Library/Frameworks/R.framework/Resources/bin/R CMD INSTALL KBoost ### ############################################################################## ############################################################################## * installing to library ‘/Library/Frameworks/R.framework/Versions/4.4-x86_64/Resources/library’ * installing *source* package ‘KBoost’ ... ** using staged installation ** R ** data *** moving datasets to lazyload DB ** byte-compile and prepare package for lazy loading ** help *** installing help indices ** building package indices ** installing vignettes ** testing if installed package can be loaded from temporary location ** testing if installed package can be loaded from final location ** testing if installed package keeps a record of temporary installation path * DONE (KBoost)
KBoost.Rcheck/tests/testthat.Rout
R version 4.4.1 (2024-06-14) -- "Race for Your Life"
Copyright (C) 2024 The R Foundation for Statistical Computing
Platform: x86_64-apple-darwin20
R is free software and comes with ABSOLUTELY NO WARRANTY.
You are welcome to redistribute it under certain conditions.
Type 'license()' or 'licence()' for distribution details.
R is a collaborative project with many contributors.
Type 'contributors()' for more information and
'citation()' on how to cite R or R packages in publications.
Type 'demo()' for some demos, 'help()' for on-line help, or
'help.start()' for an HTML browser interface to help.
Type 'q()' to quit R.
> library(testthat)
> library(KBoost)
>
> test_check("KBoost")
[ FAIL 0 | WARN 0 | SKIP 0 | PASS 7 ]
>
> proc.time()
user system elapsed
0.527 0.093 0.624
KBoost.Rcheck/KBoost-Ex.timings
| name | user | system | elapsed | |
| AUPR_AUROC_matrix | 1.160 | 0.594 | 1.759 | |
| D4_multi_1 | 0.001 | 0.001 | 0.001 | |
| D4_multi_2 | 0.001 | 0.001 | 0.002 | |
| D4_multi_3 | 0.001 | 0.001 | 0.002 | |
| D4_multi_4 | 0.000 | 0.001 | 0.001 | |
| D4_multi_5 | 0.000 | 0.001 | 0.001 | |
| G_D4_multi_1 | 0.000 | 0.001 | 0.001 | |
| G_D4_multi_2 | 0.001 | 0.001 | 0.001 | |
| G_D4_multi_3 | 0.001 | 0.001 | 0.001 | |
| G_D4_multi_4 | 0.001 | 0.001 | 0.001 | |
| G_D4_multi_5 | 0.001 | 0.001 | 0.002 | |
| Gerstein_Prior_ENET_2 | 0.001 | 0.001 | 0.001 | |
| Human_TFs | 0.000 | 0.001 | 0.001 | |
| IRMA_Gold | 0.000 | 0.001 | 0.001 | |
| KBoost_human_symbol | 0.018 | 0.012 | 0.030 | |
| KPC | 0.003 | 0.000 | 0.004 | |
| RBF_K | 0.000 | 0.000 | 0.001 | |
| add_names | 0.421 | 0.083 | 0.505 | |
| d4_mfac | 5.378 | 2.405 | 7.804 | |
| get_prior_Gerstein | 0.003 | 0.000 | 0.002 | |
| get_tfs_human | 0 | 0 | 0 | |
| grid_search_kboost | 0.088 | 0.014 | 0.102 | |
| irma_check | 0.006 | 0.000 | 0.007 | |
| irma_off | 0.000 | 0.001 | 0.002 | |
| irma_on | 0.001 | 0.000 | 0.002 | |
| kboost | 0.393 | 0.116 | 0.510 | |
| kernel_normal | 0 | 0 | 0 | |
| kernel_pc_boosting | 0.258 | 0.058 | 0.316 | |
| net_dist_bin | 0.407 | 0.117 | 0.525 | |
| net_refine | 0.003 | 0.000 | 0.003 | |
| net_summary_bin | 0.407 | 0.084 | 0.492 | |
| tab_2_matrix_D4 | 0 | 0 | 0 | |
| write_GRN_D4 | 0.512 | 0.111 | 0.624 | |