| Back to Multiple platform build/check report for BioC 3.20: simplified long |
|
This page was generated on 2024-11-20 12:07 -0500 (Wed, 20 Nov 2024).
| Hostname | OS | Arch (*) | R version | Installed pkgs |
|---|---|---|---|---|
| teran2 | Linux (Ubuntu 24.04.1 LTS) | x86_64 | 4.4.2 (2024-10-31) -- "Pile of Leaves" | 4481 |
| nebbiolo2 | Linux (Ubuntu 24.04.1 LTS) | x86_64 | 4.4.2 (2024-10-31) -- "Pile of Leaves" | 4479 |
| palomino8 | Windows Server 2022 Datacenter | x64 | 4.4.2 (2024-10-31 ucrt) -- "Pile of Leaves" | 4359 |
| lconway | macOS 12.7.1 Monterey | x86_64 | 4.4.1 (2024-06-14) -- "Race for Your Life" | 4539 |
| kunpeng2 | Linux (openEuler 22.03 LTS-SP1) | aarch64 | 4.4.1 (2024-06-14) -- "Race for Your Life" | 4493 |
| Click on any hostname to see more info about the system (e.g. compilers) (*) as reported by 'uname -p', except on Windows and Mac OS X | ||||
| Package 1043/2289 | Hostname | OS / Arch | INSTALL | BUILD | CHECK | BUILD BIN | ||||||||
| IntEREst 1.30.0 (landing page) Ali Oghabian
| teran2 | Linux (Ubuntu 24.04.1 LTS) / x86_64 | OK | OK | OK | |||||||||
| nebbiolo2 | Linux (Ubuntu 24.04.1 LTS) / x86_64 | OK | OK | OK | ||||||||||
| palomino8 | Windows Server 2022 Datacenter / x64 | OK | OK | OK | OK | |||||||||
| lconway | macOS 12.7.1 Monterey / x86_64 | OK | OK | OK | OK | |||||||||
| kunpeng2 | Linux (openEuler 22.03 LTS-SP1) / aarch64 | OK | OK | OK | ||||||||||
|
To the developers/maintainers of the IntEREst package: - Allow up to 24 hours (and sometimes 48 hours) for your latest push to git@git.bioconductor.org:packages/IntEREst.git to reflect on this report. See Troubleshooting Build Report for more information. - Use the following Renviron settings to reproduce errors and warnings. - If 'R CMD check' started to fail recently on the Linux builder(s) over a missing dependency, add the missing dependency to 'Suggests:' in your DESCRIPTION file. See Renviron.bioc for more information. - See Martin Grigorov's blog post for how to debug Linux ARM64 related issues on a x86_64 host. |
| Package: IntEREst |
| Version: 1.30.0 |
| Command: /home/biocbuild/R/R/bin/R CMD check --install=check:IntEREst.install-out.txt --library=/home/biocbuild/R/R/site-library --no-vignettes --timings IntEREst_1.30.0.tar.gz |
| StartedAt: 2024-11-20 09:04:40 -0000 (Wed, 20 Nov 2024) |
| EndedAt: 2024-11-20 09:12:40 -0000 (Wed, 20 Nov 2024) |
| EllapsedTime: 479.9 seconds |
| RetCode: 0 |
| Status: OK |
| CheckDir: IntEREst.Rcheck |
| Warnings: 0 |
##############################################################################
##############################################################################
###
### Running command:
###
### /home/biocbuild/R/R/bin/R CMD check --install=check:IntEREst.install-out.txt --library=/home/biocbuild/R/R/site-library --no-vignettes --timings IntEREst_1.30.0.tar.gz
###
##############################################################################
##############################################################################
* using log directory ‘/home/biocbuild/bbs-3.20-bioc/meat/IntEREst.Rcheck’
* using R version 4.4.1 (2024-06-14)
* using platform: aarch64-unknown-linux-gnu
* R was compiled by
gcc (GCC) 12.2.1 20220819 (openEuler 12.2.1-14)
GNU Fortran (GCC) 10.3.1
* running under: openEuler 22.03 (LTS-SP1)
* using session charset: UTF-8
* using option ‘--no-vignettes’
* checking for file ‘IntEREst/DESCRIPTION’ ... OK
* this is package ‘IntEREst’ version ‘1.30.0’
* checking package namespace information ... OK
* checking package dependencies ... NOTE
Depends: includes the non-default packages:
'GenomicRanges', 'Rsamtools', 'SummarizedExperiment', 'edgeR',
'S4Vectors', 'GenomicFiles'
Adding so many packages to the search path is excessive and importing
selectively is preferable.
* checking if this is a source package ... OK
* checking if there is a namespace ... OK
* checking for hidden files and directories ... OK
* checking for portable file names ... OK
* checking for sufficient/correct file permissions ... OK
* checking whether package ‘IntEREst’ can be installed ... OK
* checking installed package size ... OK
* checking package directory ... OK
* checking ‘build’ directory ... OK
* checking DESCRIPTION meta-information ... OK
* checking top-level files ... OK
* checking for left-over files ... OK
* checking index information ... OK
* checking package subdirectories ... OK
* checking code files for non-ASCII characters ... OK
* checking R files for syntax errors ... OK
* checking whether the package can be loaded ... OK
* checking whether the package can be loaded with stated dependencies ... OK
* checking whether the package can be unloaded cleanly ... OK
* checking whether the namespace can be loaded with stated dependencies ... OK
* checking whether the namespace can be unloaded cleanly ... OK
* checking loading without being on the library search path ... OK
* checking dependencies in R code ... OK
* checking S3 generic/method consistency ... OK
* checking replacement functions ... OK
* checking foreign function calls ... OK
* checking R code for possible problems ... NOTE
interestIntExAnalyseSingleStranded: no visible global function
definition for ‘bamFlagAsBitMatrix’
Undefined global functions or variables:
bamFlagAsBitMatrix
* checking Rd files ... NOTE
checkRd: (-1) interest.Rd:105: Lost braces; missing escapes or markup?
105 | regions to a different region defined in {limitRanges}. It is useful to ignore
| ^
checkRd: (-1) interest.sequential.Rd:103: Lost braces; missing escapes or markup?
103 | regions to a different region defined in {limitRanges}. It is useful to ignore
| ^
* checking Rd metadata ... OK
* checking Rd cross-references ... OK
* checking for missing documentation entries ... OK
* checking for code/documentation mismatches ... OK
* checking Rd \usage sections ... OK
* checking Rd contents ... OK
* checking for unstated dependencies in examples ... OK
* checking contents of ‘data’ directory ... OK
* checking data for non-ASCII characters ... OK
* checking LazyData ... OK
* checking data for ASCII and uncompressed saves ... OK
* checking files in ‘vignettes’ ... OK
* checking examples ... OK
Examples with CPU (user + system) or elapsed time > 5s
user system elapsed
DEXSeqIntEREst 32.533 0.395 23.564
deseqInterest 5.590 0.016 5.616
* checking for unstated dependencies in vignettes ... OK
* checking package vignettes ... OK
* checking running R code from vignettes ... SKIPPED
* checking re-building of vignette outputs ... SKIPPED
* checking PDF version of manual ... OK
* DONE
Status: 3 NOTEs
See
‘/home/biocbuild/bbs-3.20-bioc/meat/IntEREst.Rcheck/00check.log’
for details.
IntEREst.Rcheck/00install.out
############################################################################## ############################################################################## ### ### Running command: ### ### /home/biocbuild/R/R/bin/R CMD INSTALL IntEREst ### ############################################################################## ############################################################################## * installing to library ‘/home/biocbuild/R/R-4.4.1/site-library’ * installing *source* package ‘IntEREst’ ... ** using staged installation ** R ** data *** moving datasets to lazyload DB ** inst ** byte-compile and prepare package for lazy loading ** help *** installing help indices ** building package indices ** installing vignettes ** testing if installed package can be loaded from temporary location ** testing if installed package can be loaded from final location ** testing if installed package keeps a record of temporary installation path * DONE (IntEREst)
IntEREst.Rcheck/IntEREst-Ex.timings
| name | user | system | elapsed | |
| DEXSeqIntEREst | 32.533 | 0.395 | 23.564 | |
| addAnnotation | 0.041 | 0.000 | 0.041 | |
| annotateU12 | 2.899 | 0.116 | 3.020 | |
| applyOverlap | 0.225 | 0.000 | 0.226 | |
| attributes | 0.022 | 0.004 | 0.027 | |
| boxplot-method | 0.058 | 0.004 | 0.062 | |
| buildSsTypePwms | 0.001 | 0.000 | 0.000 | |
| counts-method | 0.028 | 0.004 | 0.032 | |
| deseqInterest | 5.590 | 0.016 | 5.616 | |
| exactTestInterest | 0.117 | 0.000 | 0.117 | |
| getRepeatTable | 0 | 0 | 0 | |
| glmInterest | 0.148 | 0.000 | 0.148 | |
| interest | 1.925 | 0.012 | 1.944 | |
| interest.sequential | 1.702 | 0.008 | 1.713 | |
| interestResult | 0.022 | 0.000 | 0.023 | |
| interestResultIntEx | 0.228 | 0.000 | 0.228 | |
| intexIndex | 0.004 | 0.000 | 0.003 | |
| lfc | 0.288 | 0.004 | 0.293 | |
| mergeInterestResult | 0.083 | 0.000 | 0.084 | |
| plot-method | 0.414 | 0.000 | 0.415 | |
| psi | 1.037 | 0.000 | 1.039 | |
| qlfInterest | 0.183 | 0.000 | 0.183 | |
| readInterestResults | 0.04 | 0.00 | 0.04 | |
| referencePrepare | 1.415 | 0.008 | 1.426 | |
| subInterestResult | 0.04 | 0.00 | 0.04 | |
| treatInterest | 0.136 | 0.000 | 0.136 | |
| u12Boxplot | 0.072 | 0.000 | 0.072 | |
| u12BoxplotNb | 0.087 | 0.000 | 0.087 | |
| u12DensityPlot | 0.330 | 0.000 | 0.331 | |
| u12Index | 0.005 | 0.000 | 0.006 | |
| u12NbIndex | 0.057 | 0.000 | 0.057 | |
| unionRefTr | 0.018 | 0.000 | 0.017 | |
| updateRowDataCol | 0.054 | 0.000 | 0.054 | |