| Back to Multiple platform build/check report for BioC 3.20: simplified long |
|
This page was generated on 2025-04-02 19:35 -0400 (Wed, 02 Apr 2025).
| Hostname | OS | Arch (*) | R version | Installed pkgs |
|---|---|---|---|---|
| nebbiolo2 | Linux (Ubuntu 24.04.1 LTS) | x86_64 | 4.4.3 (2025-02-28) -- "Trophy Case" | 4764 |
| palomino8 | Windows Server 2022 Datacenter | x64 | 4.4.3 (2025-02-28 ucrt) -- "Trophy Case" | 4495 |
| merida1 | macOS 12.7.5 Monterey | x86_64 | 4.4.3 (2025-02-28) -- "Trophy Case" | 4522 |
| kjohnson1 | macOS 13.6.6 Ventura | arm64 | 4.4.3 (2025-02-28) -- "Trophy Case" | 4449 |
| taishan | Linux (openEuler 24.03 LTS) | aarch64 | 4.4.3 (2025-02-28) -- "Trophy Case" | 4426 |
| Click on any hostname to see more info about the system (e.g. compilers) (*) as reported by 'uname -p', except on Windows and Mac OS X | ||||
| Package 981/2289 | Hostname | OS / Arch | INSTALL | BUILD | CHECK | BUILD BIN | ||||||||
| HTSeqGenie 4.36.0 (landing page) Jens Reeder
| nebbiolo2 | Linux (Ubuntu 24.04.1 LTS) / x86_64 | OK | OK | TIMEOUT | |||||||||
| palomino8 | Windows Server 2022 Datacenter / x64 | ... NOT SUPPORTED ... | ||||||||||||
| merida1 | macOS 12.7.5 Monterey / x86_64 | ... NOT SUPPORTED ... | ||||||||||||
| kjohnson1 | macOS 13.6.6 Ventura / arm64 | ... NOT SUPPORTED ... | ||||||||||||
| taishan | Linux (openEuler 24.03 LTS) / aarch64 | OK | OK | TIMEOUT | ||||||||||
|
To the developers/maintainers of the HTSeqGenie package: - Allow up to 24 hours (and sometimes 48 hours) for your latest push to git@git.bioconductor.org:packages/HTSeqGenie.git to reflect on this report. See Troubleshooting Build Report for more information. - Use the following Renviron settings to reproduce errors and warnings. - If 'R CMD check' started to fail recently on the Linux builder(s) over a missing dependency, add the missing dependency to 'Suggests:' in your DESCRIPTION file. See Renviron.bioc for more information. - See Martin Grigorov's blog post for how to debug Linux ARM64 related issues on a x86_64 host. |
| Package: HTSeqGenie |
| Version: 4.36.0 |
| Command: /home/biocbuild/R/R/bin/R CMD build --keep-empty-dirs --no-resave-data HTSeqGenie |
| StartedAt: 2025-04-01 00:13:47 -0000 (Tue, 01 Apr 2025) |
| EndedAt: 2025-04-01 00:16:39 -0000 (Tue, 01 Apr 2025) |
| EllapsedTime: 172.1 seconds |
| RetCode: 0 |
| Status: OK |
| PackageFile: HTSeqGenie_4.36.0.tar.gz |
| PackageFileSize: 2.886 MiB |
##############################################################################
##############################################################################
###
### Running command:
###
### /home/biocbuild/R/R/bin/R CMD build --keep-empty-dirs --no-resave-data HTSeqGenie
###
##############################################################################
##############################################################################
* checking for file ‘HTSeqGenie/DESCRIPTION’ ... OK
* preparing ‘HTSeqGenie’:
* checking DESCRIPTION meta-information ... OK
* installing the package to build vignettes
* creating vignettes ... OK
* checking for LF line-endings in source and make files and shell scripts
* checking for empty or unneeded directories
NB: this package now depends on R (>= 3.5.0)
WARNING: Added dependency on R >= 3.5.0 because serialized objects in
serialize/load version 3 cannot be read in older versions of R.
File(s) containing such objects:
‘HTSeqGenie/inst/test-data/tp53_dbsnp.Rdata’
* building ‘HTSeqGenie_4.36.0.tar.gz’