Back to Multiple platform build/check report for BioC 3.20:   simplified   long
ABCDEF[G]HIJKLMNOPQRSTUVWXYZ

This page was generated on 2025-01-30 12:11 -0500 (Thu, 30 Jan 2025).

HostnameOSArch (*)R versionInstalled pkgs
nebbiolo2Linux (Ubuntu 24.04.1 LTS)x86_644.4.2 (2024-10-31) -- "Pile of Leaves" 4746
palomino8Windows Server 2022 Datacenterx644.4.2 (2024-10-31 ucrt) -- "Pile of Leaves" 4494
merida1macOS 12.7.5 Montereyx86_644.4.2 (2024-10-31) -- "Pile of Leaves" 4517
kjohnson1macOS 13.6.6 Venturaarm644.4.2 (2024-10-31) -- "Pile of Leaves" 4469
taishanLinux (openEuler 24.03 LTS)aarch644.4.2 (2024-10-31) -- "Pile of Leaves" 4400
Click on any hostname to see more info about the system (e.g. compilers)      (*) as reported by 'uname -p', except on Windows and Mac OS X

Package 835/2289HostnameOS / ArchINSTALLBUILDCHECKBUILD BIN
GeoDiff 1.12.0  (landing page)
Nicole Ortogero
Snapshot Date: 2025-01-27 13:00 -0500 (Mon, 27 Jan 2025)
git_url: https://git.bioconductor.org/packages/GeoDiff
git_branch: RELEASE_3_20
git_last_commit: 7713c2b
git_last_commit_date: 2024-10-29 11:06:14 -0500 (Tue, 29 Oct 2024)
nebbiolo2Linux (Ubuntu 24.04.1 LTS) / x86_64  OK    OK    OK  UNNEEDED, same version is already published
palomino8Windows Server 2022 Datacenter / x64  OK    OK    OK    OK  UNNEEDED, same version is already published
merida1macOS 12.7.5 Monterey / x86_64  OK    OK    OK    OK  UNNEEDED, same version is already published
kjohnson1macOS 13.6.6 Ventura / arm64  OK    OK    OK    OK  UNNEEDED, same version is already published
taishanLinux (openEuler 24.03 LTS) / aarch64  OK    OK    OK  


CHECK results for GeoDiff on taishan

To the developers/maintainers of the GeoDiff package:
- Allow up to 24 hours (and sometimes 48 hours) for your latest push to git@git.bioconductor.org:packages/GeoDiff.git to reflect on this report. See Troubleshooting Build Report for more information.
- Use the following Renviron settings to reproduce errors and warnings.
- If 'R CMD check' started to fail recently on the Linux builder(s) over a missing dependency, add the missing dependency to 'Suggests:' in your DESCRIPTION file. See Renviron.bioc for more information.
- See Martin Grigorov's blog post for how to debug Linux ARM64 related issues on a x86_64 host.

raw results


Summary

Package: GeoDiff
Version: 1.12.0
Command: /home/biocbuild/R/R/bin/R CMD check --install=check:GeoDiff.install-out.txt --library=/home/biocbuild/R/R/site-library --no-vignettes --timings GeoDiff_1.12.0.tar.gz
StartedAt: 2025-01-28 07:32:05 -0000 (Tue, 28 Jan 2025)
EndedAt: 2025-01-28 07:37:36 -0000 (Tue, 28 Jan 2025)
EllapsedTime: 331.2 seconds
RetCode: 0
Status:   OK  
CheckDir: GeoDiff.Rcheck
Warnings: 0

Command output

##############################################################################
##############################################################################
###
### Running command:
###
###   /home/biocbuild/R/R/bin/R CMD check --install=check:GeoDiff.install-out.txt --library=/home/biocbuild/R/R/site-library --no-vignettes --timings GeoDiff_1.12.0.tar.gz
###
##############################################################################
##############################################################################


* using log directory ‘/home/biocbuild/bbs-3.20-bioc/meat/GeoDiff.Rcheck’
* using R version 4.4.2 (2024-10-31)
* using platform: aarch64-unknown-linux-gnu
* R was compiled by
    aarch64-unknown-linux-gnu-gcc (GCC) 14.2.0
    GNU Fortran (GCC) 12.3.1 (openEuler 12.3.1-36.oe2403)
* running under: openEuler 24.03 (LTS)
* using session charset: UTF-8
* using option ‘--no-vignettes’
* checking for file ‘GeoDiff/DESCRIPTION’ ... OK
* checking extension type ... Package
* this is package ‘GeoDiff’ version ‘1.12.0’
* package encoding: UTF-8
* checking package namespace information ... OK
* checking package dependencies ... OK
* checking if this is a source package ... OK
* checking if there is a namespace ... OK
* checking for hidden files and directories ... OK
* checking for portable file names ... OK
* checking for sufficient/correct file permissions ... OK
* checking whether package ‘GeoDiff’ can be installed ... OK
* used C++ compiler: ‘aarch64-unknown-linux-gnu-g++ (GCC) 14.2.0’
* checking C++ specification ... NOTE
  Specified C++11: please drop specification unless essential
* checking installed package size ... NOTE
  installed size is 13.6Mb
  sub-directories of 1Mb or more:
    data   4.2Mb
    libs   9.1Mb
* checking package directory ... OK
* checking ‘build’ directory ... OK
* checking DESCRIPTION meta-information ... NOTE
License stub is invalid DCF.
* checking top-level files ... OK
* checking for left-over files ... OK
* checking index information ... OK
* checking package subdirectories ... OK
* checking code files for non-ASCII characters ... OK
* checking R files for syntax errors ... OK
* checking whether the package can be loaded ... OK
* checking whether the package can be loaded with stated dependencies ... OK
* checking whether the package can be unloaded cleanly ... OK
* checking whether the namespace can be loaded with stated dependencies ... OK
* checking whether the namespace can be unloaded cleanly ... OK
* checking loading without being on the library search path ... OK
* checking dependencies in R code ... OK
* checking S3 generic/method consistency ... OK
* checking replacement functions ... OK
* checking foreign function calls ... OK
* checking R code for possible problems ... OK
* checking Rd files ... OK
* checking Rd metadata ... OK
* checking Rd cross-references ... OK
* checking for missing documentation entries ... OK
* checking for code/documentation mismatches ... OK
* checking Rd \usage sections ... OK
* checking Rd contents ... OK
* checking for unstated dependencies in examples ... OK
* checking contents of ‘data’ directory ... OK
* checking data for non-ASCII characters ... OK
* checking data for ASCII and uncompressed saves ... OK
* checking line endings in C/C++/Fortran sources/headers ... OK
* checking line endings in Makefiles ... OK
* checking compilation flags in Makevars ... OK
* checking for GNU extensions in Makefiles ... OK
* checking for portable use of $(BLAS_LIBS) and $(LAPACK_LIBS) ... OK
* checking use of PKG_*FLAGS in Makefiles ... OK
* checking compiled code ... NOTE
Note: information on .o files is not available
* checking files in ‘vignettes’ ... OK
* checking examples ... OK
Examples with CPU (user + system) or elapsed time > 5s
                        user system elapsed
fitPoisthNorm-methods 44.466  0.100  44.654
fitNBthmDE-methods    21.775  0.072  21.854
fitNBthDE-methods     19.076  0.075  19.198
fitNBth-methods       13.853  0.076  13.966
QuanRange-methods      8.558  0.124   8.704
BGScoreTest-methods    5.411  0.108   5.532
* checking for unstated dependencies in ‘tests’ ... OK
* checking tests ...
  Running ‘testthat.R’
 OK
* checking for unstated dependencies in vignettes ... OK
* checking package vignettes ... OK
* checking running R code from vignettes ... SKIPPED
* checking re-building of vignette outputs ... SKIPPED
* checking PDF version of manual ... OK
* DONE

Status: 4 NOTEs
See
  ‘/home/biocbuild/bbs-3.20-bioc/meat/GeoDiff.Rcheck/00check.log’
for details.


Installation output

GeoDiff.Rcheck/00install.out

##############################################################################
##############################################################################
###
### Running command:
###
###   /home/biocbuild/R/R/bin/R CMD INSTALL GeoDiff
###
##############################################################################
##############################################################################


* installing to library ‘/home/biocbuild/R/R-4.4.2/site-library’
* installing *source* package ‘GeoDiff’ ...
** using staged installation
** libs
using C++ compiler: ‘aarch64-unknown-linux-gnu-g++ (GCC) 14.2.0’
using C++11
/opt/ohpc/pub/compiler/gcc/14.2.0/bin/aarch64-unknown-linux-gnu-g++ -std=gnu++11 -I"/home/biocbuild/R/R/include" -DNDEBUG  -I'/home/biocbuild/R/R-4.4.2/site-library/Rcpp/include' -I'/home/biocbuild/R/R-4.4.2/site-library/RcppArmadillo/include' -I'/home/biocbuild/R/R-4.4.2/site-library/roptim/include' -I/usr/local/include   -fopenmp  -fPIC  -g -O2  -Wall -Werror=format-security  -c NBthDEOptPara.cpp -o NBthDEOptPara.o
NBthDEOptPara.cpp: In member function ‘virtual double NBthDE_paranll::operator()(const arma::vec&)’:
NBthDEOptPara.cpp:34:9: warning: unused variable ‘m’ [-Wunused-variable]
   34 |     int m = y.n_elem;
      |         ^
NBthDEOptPara.cpp: In member function ‘virtual void NBthDE_paranll::Gradient(const arma::vec&, arma::vec&)’:
NBthDEOptPara.cpp:85:22: warning: comparison of integer expressions of different signedness: ‘int’ and ‘const arma::uword’ {aka ‘const unsigned int’} [-Wsign-compare]
   85 |     for(int k = 0; k < y.n_elem; k++){
      |                    ~~^~~~~~~~~~
NBthDEOptPara.cpp:58:9: warning: unused variable ‘m’ [-Wunused-variable]
   58 |     int m = y.n_elem;
      |         ^
/opt/ohpc/pub/compiler/gcc/14.2.0/bin/aarch64-unknown-linux-gnu-g++ -std=gnu++11 -I"/home/biocbuild/R/R/include" -DNDEBUG  -I'/home/biocbuild/R/R-4.4.2/site-library/Rcpp/include' -I'/home/biocbuild/R/R-4.4.2/site-library/RcppArmadillo/include' -I'/home/biocbuild/R/R-4.4.2/site-library/roptim/include' -I/usr/local/include   -fopenmp  -fPIC  -g -O2  -Wall -Werror=format-security  -c NBthmDEGrad.cpp -o NBthmDEGrad.o
NBthmDEGrad.cpp: In function ‘arma::vec NBthmDE_grad(arma::vec&, arma::mat&, arma::mat&, arma::vec&, arma::vec&, arma::vec&, arma::vec&, arma::mat&, double, double)’:
NBthmDEGrad.cpp:34:20: warning: comparison of integer expressions of different signedness: ‘int’ and ‘const arma::uword’ {aka ‘const unsigned int’} [-Wsign-compare]
   34 |   for(int i = 0; i < y.n_elem; i++){
      |                  ~~^~~~~~~~~~
NBthmDEGrad.cpp: In function ‘arma::mat NBthmDE_gradM(arma::vec&, arma::mat&, arma::mat&, arma::vec&, arma::mat&, arma::vec&, arma::vec&, arma::mat&, double, double)’:
NBthmDEGrad.cpp:90:24: warning: comparison of integer expressions of different signedness: ‘int’ and ‘const arma::uword’ {aka ‘const unsigned int’} [-Wsign-compare]
   90 |       for(int k = 0; k < y.n_elem; k++){
      |                      ~~^~~~~~~~~~
/opt/ohpc/pub/compiler/gcc/14.2.0/bin/aarch64-unknown-linux-gnu-g++ -std=gnu++11 -I"/home/biocbuild/R/R/include" -DNDEBUG  -I'/home/biocbuild/R/R-4.4.2/site-library/Rcpp/include' -I'/home/biocbuild/R/R-4.4.2/site-library/RcppArmadillo/include' -I'/home/biocbuild/R/R-4.4.2/site-library/roptim/include' -I/usr/local/include   -fopenmp  -fPIC  -g -O2  -Wall -Werror=format-security  -c NBthmDEMH.cpp -o NBthmDEMH.o
/opt/ohpc/pub/compiler/gcc/14.2.0/bin/aarch64-unknown-linux-gnu-g++ -std=gnu++11 -I"/home/biocbuild/R/R/include" -DNDEBUG  -I'/home/biocbuild/R/R-4.4.2/site-library/Rcpp/include' -I'/home/biocbuild/R/R-4.4.2/site-library/RcppArmadillo/include' -I'/home/biocbuild/R/R-4.4.2/site-library/roptim/include' -I/usr/local/include   -fopenmp  -fPIC  -g -O2  -Wall -Werror=format-security  -c NBthmDEOptPara.cpp -o NBthmDEOptPara.o
NBthmDEOptPara.cpp: In member function ‘virtual void NBthmDE_fparanll::Gradient(const arma::vec&, arma::vec&)’:
NBthmDEOptPara.cpp:107:24: warning: comparison of integer expressions of different signedness: ‘int’ and ‘const arma::uword’ {aka ‘const unsigned int’} [-Wsign-compare]
  107 |       for(int k = 0; k < y.n_elem; k++){
      |                      ~~^~~~~~~~~~
/opt/ohpc/pub/compiler/gcc/14.2.0/bin/aarch64-unknown-linux-gnu-g++ -std=gnu++11 -I"/home/biocbuild/R/R/include" -DNDEBUG  -I'/home/biocbuild/R/R-4.4.2/site-library/Rcpp/include' -I'/home/biocbuild/R/R-4.4.2/site-library/RcppArmadillo/include' -I'/home/biocbuild/R/R-4.4.2/site-library/roptim/include' -I/usr/local/include   -fopenmp  -fPIC  -g -O2  -Wall -Werror=format-security  -c NBthmDEOptU.cpp -o NBthmDEOptU.o
/opt/ohpc/pub/compiler/gcc/14.2.0/bin/aarch64-unknown-linux-gnu-g++ -std=gnu++11 -I"/home/biocbuild/R/R/include" -DNDEBUG  -I'/home/biocbuild/R/R-4.4.2/site-library/Rcpp/include' -I'/home/biocbuild/R/R-4.4.2/site-library/RcppArmadillo/include' -I'/home/biocbuild/R/R-4.4.2/site-library/roptim/include' -I/usr/local/include   -fopenmp  -fPIC  -g -O2  -Wall -Werror=format-security  -c PoisthNormOptPara.cpp -o PoisthNormOptPara.o
/opt/ohpc/pub/compiler/gcc/14.2.0/bin/aarch64-unknown-linux-gnu-g++ -std=gnu++11 -I"/home/biocbuild/R/R/include" -DNDEBUG  -I'/home/biocbuild/R/R-4.4.2/site-library/Rcpp/include' -I'/home/biocbuild/R/R-4.4.2/site-library/RcppArmadillo/include' -I'/home/biocbuild/R/R-4.4.2/site-library/roptim/include' -I/usr/local/include   -fopenmp  -fPIC  -g -O2  -Wall -Werror=format-security  -c RcppExports.cpp -o RcppExports.o
/opt/ohpc/pub/compiler/gcc/14.2.0/bin/aarch64-unknown-linux-gnu-g++ -std=gnu++11 -I"/home/biocbuild/R/R/include" -DNDEBUG  -I'/home/biocbuild/R/R-4.4.2/site-library/Rcpp/include' -I'/home/biocbuild/R/R-4.4.2/site-library/RcppArmadillo/include' -I'/home/biocbuild/R/R-4.4.2/site-library/roptim/include' -I/usr/local/include   -fopenmp  -fPIC  -g -O2  -Wall -Werror=format-security  -c dnbinom_mu_vec.cpp -o dnbinom_mu_vec.o
/opt/ohpc/pub/compiler/gcc/14.2.0/bin/aarch64-unknown-linux-gnu-g++ -std=gnu++11 -shared -L/home/biocbuild/R/R/lib -L/usr/local/lib -o GeoDiff.so NBthDEOptPara.o NBthmDEGrad.o NBthmDEMH.o NBthmDEOptPara.o NBthmDEOptU.o PoisthNormOptPara.o RcppExports.o dnbinom_mu_vec.o -fopenmp -lopenblas -L/usr/lib/gcc/aarch64-openEuler-linux/12 -lgfortran -lm -L/home/biocbuild/R/R/lib -lR
installing to /home/biocbuild/R/R-4.4.2/site-library/00LOCK-GeoDiff/00new/GeoDiff/libs
** R
** data
** byte-compile and prepare package for lazy loading
** help
*** installing help indices
** building package indices
** installing vignettes
** testing if installed package can be loaded from temporary location
** checking absolute paths in shared objects and dynamic libraries
** testing if installed package can be loaded from final location
** testing if installed package keeps a record of temporary installation path
* DONE (GeoDiff)

Tests output

GeoDiff.Rcheck/tests/testthat.Rout


R version 4.4.2 (2024-10-31) -- "Pile of Leaves"
Copyright (C) 2024 The R Foundation for Statistical Computing
Platform: aarch64-unknown-linux-gnu

R is free software and comes with ABSOLUTELY NO WARRANTY.
You are welcome to redistribute it under certain conditions.
Type 'license()' or 'licence()' for distribution details.

R is a collaborative project with many contributors.
Type 'contributors()' for more information and
'citation()' on how to cite R or R packages in publications.

Type 'demo()' for some demos, 'help()' for on-line help, or
'help.start()' for an HTML browser interface to help.
Type 'q()' to quit R.

> library(testthat)
> library(GeoDiff)
Loading required package: Biobase
Loading required package: BiocGenerics

Attaching package: 'BiocGenerics'

The following objects are masked from 'package:stats':

    IQR, mad, sd, var, xtabs

The following objects are masked from 'package:base':

    Filter, Find, Map, Position, Reduce, anyDuplicated, aperm, append,
    as.data.frame, basename, cbind, colnames, dirname, do.call,
    duplicated, eval, evalq, get, grep, grepl, intersect, is.unsorted,
    lapply, mapply, match, mget, order, paste, pmax, pmax.int, pmin,
    pmin.int, rank, rbind, rownames, sapply, saveRDS, setdiff, table,
    tapply, union, unique, unsplit, which.max, which.min

Welcome to Bioconductor

    Vignettes contain introductory material; view with
    'browseVignettes()'. To cite Bioconductor, see
    'citation("Biobase")', and for packages 'citation("pkgname")'.

> library(Biobase)
> 
> proc.time()
   user  system elapsed 
  8.670   0.771   9.452 

Example timings

GeoDiff.Rcheck/GeoDiff-Ex.timings

nameusersystemelapsed
BGScoreTest-methods5.4110.1085.532
DENBth-methods0.0080.0000.008
NBthDEmod20.0580.0000.057
NBthmDEmod20.0050.0000.004
NBthmDEmod2slope0.0040.0000.005
QuanRange-methods8.5580.1248.704
aggreprobe-methods2.9010.0082.916
coefNBth-methods0.0380.0000.038
contrastNBth-methods0.0060.0000.005
demoData0.3350.0000.335
diagPoisBG-methods1.5160.0681.587
fitNBth-methods13.853 0.07613.966
fitNBthDE-methods19.076 0.07519.198
fitNBthmDE-methods21.775 0.07221.854
fitPoisBG-methods0.6320.0000.633
fitPoisthNorm-methods44.466 0.10044.654
kidney0.5160.0280.546