| Back to Multiple platform build/check report for BioC 3.20: simplified long |
|
This page was generated on 2025-04-02 19:35 -0400 (Wed, 02 Apr 2025).
| Hostname | OS | Arch (*) | R version | Installed pkgs |
|---|---|---|---|---|
| nebbiolo2 | Linux (Ubuntu 24.04.1 LTS) | x86_64 | 4.4.3 (2025-02-28) -- "Trophy Case" | 4764 |
| palomino8 | Windows Server 2022 Datacenter | x64 | 4.4.3 (2025-02-28 ucrt) -- "Trophy Case" | 4495 |
| merida1 | macOS 12.7.5 Monterey | x86_64 | 4.4.3 (2025-02-28) -- "Trophy Case" | 4522 |
| kjohnson1 | macOS 13.6.6 Ventura | arm64 | 4.4.3 (2025-02-28) -- "Trophy Case" | 4449 |
| taishan | Linux (openEuler 24.03 LTS) | aarch64 | 4.4.3 (2025-02-28) -- "Trophy Case" | 4426 |
| Click on any hostname to see more info about the system (e.g. compilers) (*) as reported by 'uname -p', except on Windows and Mac OS X | ||||
| Package 822/2289 | Hostname | OS / Arch | INSTALL | BUILD | CHECK | BUILD BIN | ||||||||
| GenomicFeatures 1.58.0 (landing page) H. Pagès
| nebbiolo2 | Linux (Ubuntu 24.04.1 LTS) / x86_64 | OK | OK | OK | |||||||||
| palomino8 | Windows Server 2022 Datacenter / x64 | OK | OK | OK | OK | |||||||||
| merida1 | macOS 12.7.5 Monterey / x86_64 | OK | OK | OK | OK | |||||||||
| kjohnson1 | macOS 13.6.6 Ventura / arm64 | OK | OK | OK | OK | |||||||||
| taishan | Linux (openEuler 24.03 LTS) / aarch64 | OK | OK | OK | ||||||||||
|
To the developers/maintainers of the GenomicFeatures package: - Allow up to 24 hours (and sometimes 48 hours) for your latest push to git@git.bioconductor.org:packages/GenomicFeatures.git to reflect on this report. See Troubleshooting Build Report for more information. - Use the following Renviron settings to reproduce errors and warnings. - If 'R CMD check' started to fail recently on the Linux builder(s) over a missing dependency, add the missing dependency to 'Suggests:' in your DESCRIPTION file. See Renviron.bioc for more information. - See Martin Grigorov's blog post for how to debug Linux ARM64 related issues on a x86_64 host. |
| Package: GenomicFeatures |
| Version: 1.58.0 |
| Command: /home/biocbuild/R/R/bin/R CMD check --install=check:GenomicFeatures.install-out.txt --library=/home/biocbuild/R/R/site-library --no-vignettes --timings GenomicFeatures_1.58.0.tar.gz |
| StartedAt: 2025-04-01 06:47:10 -0000 (Tue, 01 Apr 2025) |
| EndedAt: 2025-04-01 06:57:59 -0000 (Tue, 01 Apr 2025) |
| EllapsedTime: 649.4 seconds |
| RetCode: 0 |
| Status: OK |
| CheckDir: GenomicFeatures.Rcheck |
| Warnings: 0 |
##############################################################################
##############################################################################
###
### Running command:
###
### /home/biocbuild/R/R/bin/R CMD check --install=check:GenomicFeatures.install-out.txt --library=/home/biocbuild/R/R/site-library --no-vignettes --timings GenomicFeatures_1.58.0.tar.gz
###
##############################################################################
##############################################################################
* using log directory ‘/home/biocbuild/bbs-3.20-bioc/meat/GenomicFeatures.Rcheck’
* using R version 4.4.3 (2025-02-28)
* using platform: aarch64-unknown-linux-gnu
* R was compiled by
aarch64-unknown-linux-gnu-gcc (GCC) 14.2.0
GNU Fortran (GCC) 14.2.0
* running under: openEuler 24.03 (LTS)
* using session charset: UTF-8
* using option ‘--no-vignettes’
* checking for file ‘GenomicFeatures/DESCRIPTION’ ... OK
* this is package ‘GenomicFeatures’ version ‘1.58.0’
* package encoding: UTF-8
* checking package namespace information ... OK
* checking package dependencies ... NOTE
Depends: includes the non-default packages:
'BiocGenerics', 'S4Vectors', 'IRanges', 'GenomeInfoDb',
'GenomicRanges', 'AnnotationDbi'
Adding so many packages to the search path is excessive and importing
selectively is preferable.
* checking if this is a source package ... OK
* checking if there is a namespace ... OK
* checking for hidden files and directories ... OK
* checking for portable file names ... OK
* checking for sufficient/correct file permissions ... OK
* checking whether package ‘GenomicFeatures’ can be installed ... OK
* checking installed package size ... OK
* checking package directory ... OK
* checking ‘build’ directory ... OK
* checking DESCRIPTION meta-information ... OK
* checking top-level files ... OK
* checking for left-over files ... OK
* checking index information ... OK
* checking package subdirectories ... OK
* checking code files for non-ASCII characters ... OK
* checking R files for syntax errors ... OK
* checking whether the package can be loaded ... OK
* checking whether the package can be loaded with stated dependencies ... OK
* checking whether the package can be unloaded cleanly ... OK
* checking whether the namespace can be loaded with stated dependencies ... OK
* checking whether the namespace can be unloaded cleanly ... OK
* checking loading without being on the library search path ... OK
* checking dependencies in R code ... NOTE
Unexported objects imported by ':::' calls:
‘AnnotationDbi:::.getMetaValue’ ‘AnnotationDbi:::.valid.colnames’
‘AnnotationDbi:::.valid.metadata.table’
‘AnnotationDbi:::.valid.table.colnames’ ‘AnnotationDbi:::dbEasyQuery’
‘AnnotationDbi:::dbQuery’ ‘AnnotationDbi:::smartKeys’
‘BiocGenerics:::testPackage’
‘GenomeInfoDb:::getSeqlevelsReplacementMode’
‘GenomeInfoDb:::normarg_new2old’
‘GenomicRanges:::unsafe.transcriptLocs2refLocs’
‘GenomicRanges:::unsafe.transcriptWidths’
‘IRanges:::regroupBySupergroup’ ‘S4Vectors:::V_recycle’
‘S4Vectors:::decodeRle’ ‘S4Vectors:::extract_data_frame_rows’
See the note in ?`:::` about the use of this operator.
* checking S3 generic/method consistency ... OK
* checking replacement functions ... OK
* checking foreign function calls ... OK
* checking R code for possible problems ... OK
* checking Rd files ... NOTE
checkRd: (-1) coordinate-mapping-methods.Rd:144-168: Lost braces in \itemize; meant \describe ?
checkRd: (-1) coordinate-mapping-methods.Rd:169-194: Lost braces in \itemize; meant \describe ?
checkRd: (-1) nearest-methods.Rd:43-61: Lost braces in \itemize; meant \describe ?
* checking Rd metadata ... OK
* checking Rd cross-references ... OK
* checking for missing documentation entries ... OK
* checking for code/documentation mismatches ... OK
* checking Rd \usage sections ... OK
* checking Rd contents ... OK
* checking for unstated dependencies in examples ... OK
* checking files in ‘vignettes’ ... OK
* checking examples ... OK
Examples with CPU (user + system) or elapsed time > 5s
user system elapsed
coverageByTranscript 98.429 1.364 100.025
coordinate-mapping-methods 62.410 2.136 75.600
exonicParts 44.769 0.348 45.197
extractTranscriptSeqs 16.679 0.235 17.039
transcriptLocs2refLocs 7.475 0.087 7.617
getPromoterSeq-methods 3.567 0.712 15.258
* checking for unstated dependencies in ‘tests’ ... OK
* checking tests ...
Running ‘run_unitTests.R’
OK
* checking for unstated dependencies in vignettes ... OK
* checking package vignettes ... OK
* checking running R code from vignettes ... SKIPPED
* checking re-building of vignette outputs ... SKIPPED
* checking PDF version of manual ... OK
* DONE
Status: 3 NOTEs
See
‘/home/biocbuild/bbs-3.20-bioc/meat/GenomicFeatures.Rcheck/00check.log’
for details.
GenomicFeatures.Rcheck/00install.out
############################################################################## ############################################################################## ### ### Running command: ### ### /home/biocbuild/R/R/bin/R CMD INSTALL GenomicFeatures ### ############################################################################## ############################################################################## * installing to library ‘/home/biocbuild/R/R-4.4.3/site-library’ * installing *source* package ‘GenomicFeatures’ ... ** using staged installation ** R ** inst ** byte-compile and prepare package for lazy loading ** help *** installing help indices ** building package indices ** installing vignettes ** testing if installed package can be loaded from temporary location ** testing if installed package can be loaded from final location ** testing if installed package keeps a record of temporary installation path * DONE (GenomicFeatures)
GenomicFeatures.Rcheck/tests/run_unitTests.Rout
R version 4.4.3 (2025-02-28) -- "Trophy Case"
Copyright (C) 2025 The R Foundation for Statistical Computing
Platform: aarch64-unknown-linux-gnu
R is free software and comes with ABSOLUTELY NO WARRANTY.
You are welcome to redistribute it under certain conditions.
Type 'license()' or 'licence()' for distribution details.
R is a collaborative project with many contributors.
Type 'contributors()' for more information and
'citation()' on how to cite R or R packages in publications.
Type 'demo()' for some demos, 'help()' for on-line help, or
'help.start()' for an HTML browser interface to help.
Type 'q()' to quit R.
> require("GenomicFeatures") || stop("unable to load GenomicFeatures package")
Loading required package: GenomicFeatures
Loading required package: BiocGenerics
Attaching package: 'BiocGenerics'
The following objects are masked from 'package:stats':
IQR, mad, sd, var, xtabs
The following objects are masked from 'package:base':
Filter, Find, Map, Position, Reduce, anyDuplicated, aperm, append,
as.data.frame, basename, cbind, colnames, dirname, do.call,
duplicated, eval, evalq, get, grep, grepl, intersect, is.unsorted,
lapply, mapply, match, mget, order, paste, pmax, pmax.int, pmin,
pmin.int, rank, rbind, rownames, sapply, saveRDS, setdiff, table,
tapply, union, unique, unsplit, which.max, which.min
Loading required package: S4Vectors
Loading required package: stats4
Attaching package: 'S4Vectors'
The following object is masked from 'package:utils':
findMatches
The following objects are masked from 'package:base':
I, expand.grid, unname
Loading required package: IRanges
Loading required package: GenomeInfoDb
Loading required package: GenomicRanges
Loading required package: AnnotationDbi
Loading required package: Biobase
Welcome to Bioconductor
Vignettes contain introductory material; view with
'browseVignettes()'. To cite Bioconductor, see
'citation("Biobase")', and for packages 'citation("pkgname")'.
[1] TRUE
> GenomicFeatures:::.test()
Loading required package: BSgenome
Loading required package: Biostrings
Loading required package: XVector
Attaching package: 'Biostrings'
The following object is masked from 'package:base':
strsplit
Loading required package: BiocIO
Loading required package: rtracklayer
Attaching package: 'rtracklayer'
The following object is masked from 'package:BiocIO':
FileForFormat
'select()' returned 1:1 mapping between keys and columns
'select()' returned 1:many mapping between keys and columns
'select()' returned 1:many mapping between keys and columns
'select()' returned 1:1 mapping between keys and columns
'select()' returned 1:1 mapping between keys and columns
'select()' returned 1:many mapping between keys and columns
'select()' returned 1:many mapping between keys and columns
'select()' returned 1:many mapping between keys and columns
'select()' returned 1:many mapping between keys and columns
'select()' returned 1:many mapping between keys and columns
'select()' returned 1:many mapping between keys and columns
'select()' returned 1:many mapping between keys and columns
'select()' returned 1:many mapping between keys and columns
'select()' returned 1:many mapping between keys and columns
'select()' returned 1:many mapping between keys and columns
'select()' returned 1:1 mapping between keys and columns
'select()' returned 1:many mapping between keys and columns
'select()' returned 1:many mapping between keys and columns
'select()' returned 1:many mapping between keys and columns
'select()' returned 1:1 mapping between keys and columns
Import genomic features from the file as a GRanges object ... OK
Prepare the 'metadata' data frame ... OK
Make the TxDb object ... OK
Error in x$.self$finalize() : attempt to apply non-function
In addition: Warning messages:
1: In valid.GenomicRanges.seqinfo(x, suggest.trim = TRUE) :
GRanges object contains 1 out-of-bound range located on sequence
chrUn_gl000237. Note that ranges located on a sequence whose length is
unknown (NA) or on a circular sequence are not considered out-of-bound
(use seqlengths() and isCircular() to get the lengths and circularity
flags of the underlying sequences). You can use trim() to trim these
ranges. See ?`trim,GenomicRanges-method` for more information.
2: In valid.GenomicRanges.seqinfo(x, suggest.trim = TRUE) :
GRanges object contains 3 out-of-bound ranges located on sequences a,
b, and c. Note that ranges located on a sequence whose length is
unknown (NA) or on a circular sequence are not considered out-of-bound
(use seqlengths() and isCircular() to get the lengths and circularity
flags of the underlying sequences). You can use trim() to trim these
ranges. See ?`trim,GenomicRanges-method` for more information.
3: In valid.GenomicRanges.seqinfo(x, suggest.trim = TRUE) :
GRanges object contains 1 out-of-bound range located on sequence c.
Note that ranges located on a sequence whose length is unknown (NA) or
on a circular sequence are not considered out-of-bound (use
seqlengths() and isCircular() to get the lengths and circularity flags
of the underlying sequences). You can use trim() to trim these ranges.
See ?`trim,GenomicRanges-method` for more information.
4: In valid.GenomicRanges.seqinfo(x, suggest.trim = TRUE) :
GRanges object contains 1 out-of-bound range located on sequence c.
Note that ranges located on a sequence whose length is unknown (NA) or
on a circular sequence are not considered out-of-bound (use
seqlengths() and isCircular() to get the lengths and circularity flags
of the underlying sequences). You can use trim() to trim these ranges.
See ?`trim,GenomicRanges-method` for more information.
5: In valid.GenomicRanges.seqinfo(x, suggest.trim = TRUE) :
GRanges object contains 4 out-of-bound ranges located on sequences 1,
2, 3, and 4. Note that ranges located on a sequence whose length is
unknown (NA) or on a circular sequence are not considered out-of-bound
(use seqlengths() and isCircular() to get the lengths and circularity
flags of the underlying sequences). You can use trim() to trim these
ranges. See ?`trim,GenomicRanges-method` for more information.
6: In call_fun_in_txdbmaker("makeTxDbFromGRanges", ...) :
makeTxDbFromGRanges() has moved to the txdbmaker package. Please call
txdbmaker::makeTxDbFromGRanges() to get rid of this warning.
7: In .get_cds_IDX(mcols0$type, mcols0$phase) :
The "phase" metadata column contains non-NA values for features of type
stop_codon. This information was ignored.
8: In call_fun_in_txdbmaker("makeTxDbFromGFF", ...) :
makeTxDbFromGFF() has moved to the txdbmaker package. Please call
txdbmaker::makeTxDbFromGFF() to get rid of this warning.
9: In (function (seqlevels, genome, new_style) :
cannot switch some hg19's seqlevels from UCSC to NCBI style
Import genomic features from the file as a GRanges object ... OK
Prepare the 'metadata' data frame ... OK
Make the TxDb object ... OK
RUNIT TEST PROTOCOL -- Tue Apr 1 06:57:53 2025
***********************************************
Number of test functions: 67
Number of errors: 0
Number of failures: 0
1 Test Suite :
GenomicFeatures RUnit Tests - 67 test functions, 0 errors, 0 failures
Number of test functions: 67
Number of errors: 0
Number of failures: 0
Warning messages:
1: call dbDisconnect() when finished working with a connection
2: In call_fun_in_txdbmaker("makeTxDbFromGFF", ...) :
makeTxDbFromGFF() has moved to the txdbmaker package. Please call
txdbmaker::makeTxDbFromGFF() to get rid of this warning.
3: In (function (seqlevels, genome, new_style) :
cannot switch some hg19's seqlevels from UCSC to NCBI style
>
> proc.time()
user system elapsed
83.519 2.295 98.171
GenomicFeatures.Rcheck/GenomicFeatures-Ex.timings
| name | user | system | elapsed | |
| FeatureDb-class | 0.102 | 0.000 | 0.104 | |
| TxDb-class | 2.285 | 0.168 | 2.461 | |
| as-format-methods | 1.719 | 0.036 | 1.765 | |
| coordinate-mapping-methods | 62.410 | 2.136 | 75.600 | |
| coverageByTranscript | 98.429 | 1.364 | 100.025 | |
| exonicParts | 44.769 | 0.348 | 45.197 | |
| extendExonsIntoIntrons | 3.380 | 0.040 | 3.591 | |
| extractTranscriptSeqs | 16.679 | 0.235 | 17.039 | |
| extractUpstreamSeqs | 1.772 | 0.088 | 2.058 | |
| features | 0.081 | 0.000 | 0.083 | |
| getPromoterSeq-methods | 3.567 | 0.712 | 15.258 | |
| id2name | 0.273 | 0.012 | 0.286 | |
| mapIdsToRanges | 0.952 | 0.012 | 0.967 | |
| mapRangesToIds | 1.003 | 0.004 | 1.009 | |
| microRNAs | 0 | 0 | 0 | |
| nearest-methods | 0.799 | 0.004 | 0.804 | |
| proteinToGenome | 2.082 | 0.004 | 2.091 | |
| select-methods | 0.277 | 0.000 | 0.279 | |
| transcriptLengths | 4.273 | 0.024 | 4.304 | |
| transcriptLocs2refLocs | 7.475 | 0.087 | 7.617 | |
| transcripts | 3.035 | 0.032 | 3.074 | |
| transcriptsBy | 1.235 | 0.008 | 1.246 | |
| transcriptsByOverlaps | 0.254 | 0.000 | 0.255 | |