Back to Multiple platform build/check report for BioC 3.20: simplified long |
|
This page was generated on 2025-01-30 12:11 -0500 (Thu, 30 Jan 2025).
Hostname | OS | Arch (*) | R version | Installed pkgs |
---|---|---|---|---|
nebbiolo2 | Linux (Ubuntu 24.04.1 LTS) | x86_64 | 4.4.2 (2024-10-31) -- "Pile of Leaves" | 4746 |
palomino8 | Windows Server 2022 Datacenter | x64 | 4.4.2 (2024-10-31 ucrt) -- "Pile of Leaves" | 4494 |
merida1 | macOS 12.7.5 Monterey | x86_64 | 4.4.2 (2024-10-31) -- "Pile of Leaves" | 4517 |
kjohnson1 | macOS 13.6.6 Ventura | arm64 | 4.4.2 (2024-10-31) -- "Pile of Leaves" | 4469 |
taishan | Linux (openEuler 24.03 LTS) | aarch64 | 4.4.2 (2024-10-31) -- "Pile of Leaves" | 4400 |
Click on any hostname to see more info about the system (e.g. compilers) (*) as reported by 'uname -p', except on Windows and Mac OS X |
Package 807/2289 | Hostname | OS / Arch | INSTALL | BUILD | CHECK | BUILD BIN | ||||||||
GeneStructureTools 1.26.0 (landing page) Beth Signal
| nebbiolo2 | Linux (Ubuntu 24.04.1 LTS) / x86_64 | OK | OK | OK | |||||||||
palomino8 | Windows Server 2022 Datacenter / x64 | OK | OK | OK | OK | |||||||||
merida1 | macOS 12.7.5 Monterey / x86_64 | OK | OK | OK | OK | |||||||||
kjohnson1 | macOS 13.6.6 Ventura / arm64 | OK | OK | OK | OK | |||||||||
taishan | Linux (openEuler 24.03 LTS) / aarch64 | OK | OK | OK | ||||||||||
To the developers/maintainers of the GeneStructureTools package: - Allow up to 24 hours (and sometimes 48 hours) for your latest push to git@git.bioconductor.org:packages/GeneStructureTools.git to reflect on this report. See Troubleshooting Build Report for more information. - Use the following Renviron settings to reproduce errors and warnings. - If 'R CMD check' started to fail recently on the Linux builder(s) over a missing dependency, add the missing dependency to 'Suggests:' in your DESCRIPTION file. See Renviron.bioc for more information. - See Martin Grigorov's blog post for how to debug Linux ARM64 related issues on a x86_64 host. |
Package: GeneStructureTools |
Version: 1.26.0 |
Command: /home/biocbuild/R/R/bin/R CMD check --install=check:GeneStructureTools.install-out.txt --library=/home/biocbuild/R/R/site-library --no-vignettes --timings GeneStructureTools_1.26.0.tar.gz |
StartedAt: 2025-01-28 07:25:42 -0000 (Tue, 28 Jan 2025) |
EndedAt: 2025-01-28 07:33:39 -0000 (Tue, 28 Jan 2025) |
EllapsedTime: 477.4 seconds |
RetCode: 0 |
Status: OK |
CheckDir: GeneStructureTools.Rcheck |
Warnings: 0 |
############################################################################## ############################################################################## ### ### Running command: ### ### /home/biocbuild/R/R/bin/R CMD check --install=check:GeneStructureTools.install-out.txt --library=/home/biocbuild/R/R/site-library --no-vignettes --timings GeneStructureTools_1.26.0.tar.gz ### ############################################################################## ############################################################################## * using log directory ‘/home/biocbuild/bbs-3.20-bioc/meat/GeneStructureTools.Rcheck’ * using R version 4.4.2 (2024-10-31) * using platform: aarch64-unknown-linux-gnu * R was compiled by aarch64-unknown-linux-gnu-gcc (GCC) 14.2.0 GNU Fortran (GCC) 12.3.1 (openEuler 12.3.1-36.oe2403) * running under: openEuler 24.03 (LTS) * using session charset: UTF-8 * using option ‘--no-vignettes’ * checking for file ‘GeneStructureTools/DESCRIPTION’ ... OK * checking extension type ... Package * this is package ‘GeneStructureTools’ version ‘1.26.0’ * package encoding: UTF-8 * checking package namespace information ... OK * checking package dependencies ... OK * checking if this is a source package ... OK * checking if there is a namespace ... OK * checking for hidden files and directories ... OK * checking for portable file names ... OK * checking for sufficient/correct file permissions ... OK * checking whether package ‘GeneStructureTools’ can be installed ... OK * checking installed package size ... OK * checking package directory ... OK * checking ‘build’ directory ... OK * checking DESCRIPTION meta-information ... OK * checking top-level files ... OK * checking for left-over files ... OK * checking index information ... OK * checking package subdirectories ... OK * checking code files for non-ASCII characters ... OK * checking R files for syntax errors ... OK * checking whether the package can be loaded ... OK * checking whether the package can be loaded with stated dependencies ... OK * checking whether the package can be unloaded cleanly ... OK * checking whether the namespace can be loaded with stated dependencies ... OK * checking whether the namespace can be unloaded cleanly ... OK * checking loading without being on the library search path ... OK * checking dependencies in R code ... OK * checking S3 generic/method consistency ... OK * checking replacement functions ... OK * checking foreign function calls ... OK * checking R code for possible problems ... OK * checking Rd files ... OK * checking Rd metadata ... OK * checking Rd cross-references ... OK * checking for missing documentation entries ... OK * checking for code/documentation mismatches ... OK * checking Rd \usage sections ... OK * checking Rd contents ... OK * checking for unstated dependencies in examples ... OK * checking files in ‘vignettes’ ... OK * checking examples ... OK Examples with CPU (user + system) or elapsed time > 5s user system elapsed leafcutterTranscriptChangeSummary 32.170 0.311 32.582 whippetTranscriptChangeSummary 17.139 0.091 17.289 alternativeIntronUsage 5.822 0.111 5.951 replaceJunction 5.482 0.070 5.567 * checking for unstated dependencies in vignettes ... OK * checking package vignettes ... OK * checking running R code from vignettes ... SKIPPED * checking re-building of vignette outputs ... SKIPPED * checking PDF version of manual ... OK * DONE Status: OK
GeneStructureTools.Rcheck/00install.out
############################################################################## ############################################################################## ### ### Running command: ### ### /home/biocbuild/R/R/bin/R CMD INSTALL GeneStructureTools ### ############################################################################## ############################################################################## * installing to library ‘/home/biocbuild/R/R-4.4.2/site-library’ * installing *source* package ‘GeneStructureTools’ ... ** using staged installation ** R ** inst ** byte-compile and prepare package for lazy loading ** help *** installing help indices ** building package indices ** installing vignettes ** testing if installed package can be loaded from temporary location ** testing if installed package can be loaded from final location ** testing if installed package keeps a record of temporary installation path * DONE (GeneStructureTools)
GeneStructureTools.Rcheck/GeneStructureTools-Ex.timings
name | user | system | elapsed | |
DEXSeqIdsToGeneIds | 0.003 | 0.000 | 0.003 | |
UTR2UTR53 | 3.059 | 0.143 | 3.221 | |
addBroadTypes | 0.228 | 0.000 | 0.228 | |
addIntronInTranscript | 2.464 | 0.059 | 2.539 | |
alternativeIntronUsage | 5.822 | 0.111 | 5.951 | |
annotateGeneModel | 1.133 | 0.016 | 1.156 | |
attrChangeAltSpliced | 1.662 | 0.041 | 1.709 | |
coordinates-methods | 0.085 | 0.017 | 0.101 | |
diffSplicingResults-methods | 0.073 | 0.030 | 0.102 | |
exonsToTranscripts | 0.344 | 0.008 | 0.353 | |
filterGtfOverlap | 0.364 | 0.008 | 0.373 | |
filterWhippetEvents | 0.096 | 0.007 | 0.104 | |
findDEXexonType | 3.441 | 0.020 | 3.475 | |
findExonContainingTranscripts | 0.584 | 0.034 | 0.617 | |
findIntronContainingTranscripts | 0.902 | 0.024 | 0.929 | |
findJunctionPairs | 1.911 | 0.060 | 1.976 | |
formatWhippetEvents | 0.019 | 0.003 | 0.022 | |
getOrfs | 0.982 | 0.036 | 1.020 | |
getUOrfs | 0.770 | 0.008 | 0.780 | |
junctions-methods | 0.071 | 0.023 | 0.095 | |
leafcutterTranscriptChangeSummary | 32.170 | 0.311 | 32.582 | |
makeGeneModel | 0.191 | 0.008 | 0.201 | |
maxLocation | 0.003 | 0.000 | 0.004 | |
orfDiff | 2.141 | 0.033 | 2.182 | |
orfSimilarity | 0.001 | 0.000 | 0.001 | |
overlapTypes | 3.112 | 0.008 | 3.128 | |
readCounts-methods | 0.086 | 0.007 | 0.093 | |
readWhippetDIFFfiles | 0.005 | 0.003 | 0.008 | |
readWhippetDataSet | 0.071 | 0.023 | 0.093 | |
readWhippetJNCfiles | 0.040 | 0.006 | 0.045 | |
readWhippetPSIfiles | 0.020 | 0.006 | 0.027 | |
removeDuplicateTranscripts | 0.323 | 0.000 | 0.323 | |
removeSameExon | 0.273 | 0.004 | 0.276 | |
removeVersion | 0.001 | 0.000 | 0.000 | |
reorderExonNumbers | 0.202 | 0.012 | 0.214 | |
replaceJunction | 5.482 | 0.070 | 5.567 | |
skipExonInTranscript | 1.993 | 0.075 | 2.071 | |
summariseExonTypes | 3.577 | 0.004 | 3.590 | |
transcriptChangeSummary | 2.034 | 0.054 | 2.092 | |
whippetTranscriptChangeSummary | 17.139 | 0.091 | 17.289 | |