| Back to Multiple platform build/check report for BioC 3.20: simplified long | 
  | 
This page was generated on 2025-04-02 19:28 -0400 (Wed, 02 Apr 2025).
| Hostname | OS | Arch (*) | R version | Installed pkgs | 
|---|---|---|---|---|
| nebbiolo2 | Linux (Ubuntu 24.04.1 LTS) | x86_64 | 4.4.3 (2025-02-28) -- "Trophy Case" | 4764 | 
| palomino8 | Windows Server 2022 Datacenter | x64 | 4.4.3 (2025-02-28 ucrt) -- "Trophy Case" | 4495 | 
| merida1 | macOS 12.7.5 Monterey | x86_64 | 4.4.3 (2025-02-28) -- "Trophy Case" | 4522 | 
| kjohnson1 | macOS 13.6.6 Ventura | arm64 | 4.4.3 (2025-02-28) -- "Trophy Case" | 4449 | 
| taishan | Linux (openEuler 24.03 LTS) | aarch64 | 4.4.3 (2025-02-28) -- "Trophy Case" | 4426 | 
| Click on any hostname to see more info about the system (e.g. compilers) (*) as reported by 'uname -p', except on Windows and Mac OS X | ||||
| Package 918/2289 | Hostname | OS / Arch | INSTALL | BUILD | CHECK | BUILD BIN | ||||||||
| GSgalgoR 1.16.0  (landing page) Carlos Catania 
  | nebbiolo2 | Linux (Ubuntu 24.04.1 LTS) / x86_64 | OK | OK | OK | |||||||||
| palomino8 | Windows Server 2022 Datacenter / x64 | OK | OK | OK | OK | |||||||||
| merida1 | macOS 12.7.5 Monterey / x86_64 | OK | OK | OK | OK | |||||||||
| kjohnson1 | macOS 13.6.6 Ventura / arm64 | OK | OK | OK | OK | |||||||||
| taishan | Linux (openEuler 24.03 LTS) / aarch64 | OK | OK | OK | ||||||||||
| 
To the developers/maintainers of the GSgalgoR package: - Allow up to 24 hours (and sometimes 48 hours) for your latest push to git@git.bioconductor.org:packages/GSgalgoR.git to reflect on this report. See Troubleshooting Build Report for more information. - Use the following Renviron settings to reproduce errors and warnings. - If 'R CMD check' started to fail recently on the Linux builder(s) over a missing dependency, add the missing dependency to 'Suggests:' in your DESCRIPTION file. See Renviron.bioc for more information.  | 
| Package: GSgalgoR | 
| Version: 1.16.0 | 
| Command: /home/biocbuild/bbs-3.20-bioc/R/bin/R CMD check --install=check:GSgalgoR.install-out.txt --library=/home/biocbuild/bbs-3.20-bioc/R/site-library --timings GSgalgoR_1.16.0.tar.gz | 
| StartedAt: 2025-03-31 22:47:33 -0400 (Mon, 31 Mar 2025) | 
| EndedAt: 2025-03-31 22:52:09 -0400 (Mon, 31 Mar 2025) | 
| EllapsedTime: 276.6 seconds | 
| RetCode: 0 | 
| Status: OK | 
| CheckDir: GSgalgoR.Rcheck | 
| Warnings: 0 | 
##############################################################################
##############################################################################
###
### Running command:
###
###   /home/biocbuild/bbs-3.20-bioc/R/bin/R CMD check --install=check:GSgalgoR.install-out.txt --library=/home/biocbuild/bbs-3.20-bioc/R/site-library --timings GSgalgoR_1.16.0.tar.gz
###
##############################################################################
##############################################################################
* using log directory ‘/home/biocbuild/bbs-3.20-bioc/meat/GSgalgoR.Rcheck’
* using R version 4.4.3 (2025-02-28)
* using platform: x86_64-pc-linux-gnu
* R was compiled by
    gcc (Ubuntu 13.3.0-6ubuntu2~24.04) 13.3.0
    GNU Fortran (Ubuntu 13.3.0-6ubuntu2~24.04) 13.3.0
* running under: Ubuntu 24.04.2 LTS
* using session charset: UTF-8
* checking for file ‘GSgalgoR/DESCRIPTION’ ... OK
* checking extension type ... Package
* this is package ‘GSgalgoR’ version ‘1.16.0’
* package encoding: UTF-8
* checking package namespace information ... OK
* checking package dependencies ... OK
* checking if this is a source package ... OK
* checking if there is a namespace ... OK
* checking for hidden files and directories ... OK
* checking for portable file names ... OK
* checking for sufficient/correct file permissions ... OK
* checking whether package ‘GSgalgoR’ can be installed ... OK
* checking installed package size ... OK
* checking package directory ... OK
* checking ‘build’ directory ... OK
* checking DESCRIPTION meta-information ... OK
* checking top-level files ... OK
* checking for left-over files ... OK
* checking index information ... OK
* checking package subdirectories ... OK
* checking code files for non-ASCII characters ... OK
* checking R files for syntax errors ... OK
* checking whether the package can be loaded ... OK
* checking whether the package can be loaded with stated dependencies ... OK
* checking whether the package can be unloaded cleanly ... OK
* checking whether the namespace can be loaded with stated dependencies ... OK
* checking whether the namespace can be unloaded cleanly ... OK
* checking loading without being on the library search path ... OK
* checking dependencies in R code ... OK
* checking S3 generic/method consistency ... OK
* checking replacement functions ... OK
* checking foreign function calls ... OK
* checking R code for possible problems ... OK
* checking Rd files ... OK
* checking Rd metadata ... OK
* checking Rd cross-references ... OK
* checking for missing documentation entries ... OK
* checking for code/documentation mismatches ... OK
* checking Rd \usage sections ... OK
* checking Rd contents ... OK
* checking for unstated dependencies in examples ... OK
* checking files in ‘vignettes’ ... OK
* checking examples ... OK
Examples with CPU (user + system) or elapsed time > 5s
                          user system elapsed
classify_multiple        2.544  0.302   8.381
plot_pareto              2.697  0.070   6.115
to_dataframe             2.352  0.302   5.872
callback_base_report     2.343  0.306   8.152
create_centroids         2.334  0.036   5.661
callback_no_report       1.928  0.407   7.674
to_list                  1.956  0.114   5.234
non_dominated_summary    1.908  0.138   5.397
callback_default         1.810  0.170   7.535
callback_base_return_pop 1.781  0.143   7.196
galgo                    1.779  0.044   5.235
* checking for unstated dependencies in ‘tests’ ... OK
* checking tests ...
  Running ‘testthat.R’
 OK
* checking for unstated dependencies in vignettes ... OK
* checking package vignettes ... OK
* checking re-building of vignette outputs ... OK
* checking PDF version of manual ... OK
* DONE
Status: OK
GSgalgoR.Rcheck/00install.out
############################################################################## ############################################################################## ### ### Running command: ### ### /home/biocbuild/bbs-3.20-bioc/R/bin/R CMD INSTALL GSgalgoR ### ############################################################################## ############################################################################## * installing to library ‘/home/biocbuild/bbs-3.20-bioc/R/site-library’ * installing *source* package ‘GSgalgoR’ ... ** using staged installation ** R ** inst ** byte-compile and prepare package for lazy loading ** help *** installing help indices ** building package indices ** installing vignettes ** testing if installed package can be loaded from temporary location ** testing if installed package can be loaded from final location ** testing if installed package keeps a record of temporary installation path * DONE (GSgalgoR)
GSgalgoR.Rcheck/tests/testthat.Rout
R version 4.4.3 (2025-02-28) -- "Trophy Case"
Copyright (C) 2025 The R Foundation for Statistical Computing
Platform: x86_64-pc-linux-gnu
R is free software and comes with ABSOLUTELY NO WARRANTY.
You are welcome to redistribute it under certain conditions.
Type 'license()' or 'licence()' for distribution details.
R is a collaborative project with many contributors.
Type 'contributors()' for more information and
'citation()' on how to cite R or R packages in publications.
Type 'demo()' for some demos, 'help()' for on-line help, or
'help.start()' for an HTML browser interface to help.
Type 'q()' to quit R.
> library(testthat)
> library(GSgalgoR)
> 
> test_check("GSgalgoR")
..........         k                      rnkIndex   CrowD
result.1 8 0.02212350 201.10126        1     Inf
result.3 9 0.02402496 160.41638        1 1.37352
result.4 8 0.03651880  48.37265        1     Inf
         k                      rnkIndex    CrowD
result.1 8 0.02212350 201.10126        1      Inf
result.3 2 0.11803624  30.01863        1      Inf
result.4 4 0.04509859 173.43985        1 1.798893
......[ FAIL 0 | WARN 0 | SKIP 0 | PASS 13 ]
> 
> proc.time()
   user  system elapsed 
 18.619   2.317  85.553 
GSgalgoR.Rcheck/GSgalgoR-Ex.timings
| name | user | system | elapsed | |
| calculate_distance | 2.379 | 0.152 | 2.533 | |
| callback_base_report | 2.343 | 0.306 | 8.152 | |
| callback_base_return_pop | 1.781 | 0.143 | 7.196 | |
| callback_default | 1.810 | 0.170 | 7.535 | |
| callback_no_report | 1.928 | 0.407 | 7.674 | |
| classify_multiple | 2.544 | 0.302 | 8.381 | |
| cluster_algorithm | 1.255 | 0.018 | 1.273 | |
| cluster_classify | 0.515 | 0.016 | 0.532 | |
| cosine_similarity | 0.001 | 0.000 | 0.000 | |
| create_centroids | 2.334 | 0.036 | 5.661 | |
| galgo | 1.779 | 0.044 | 5.235 | |
| k_centroids | 1.221 | 0.021 | 1.241 | |
| non_dominated_summary | 1.908 | 0.138 | 5.397 | |
| plot_pareto | 2.697 | 0.070 | 6.115 | |
| surv_fitness | 0.585 | 0.023 | 0.608 | |
| to_dataframe | 2.352 | 0.302 | 5.872 | |
| to_list | 1.956 | 0.114 | 5.234 | |