| Back to Multiple platform build/check report for BioC 3.20: simplified long | 
  | 
This page was generated on 2024-11-09 21:31 -0500 (Sat, 09 Nov 2024).
| Hostname | OS | Arch (*) | R version | Installed pkgs | 
|---|---|---|---|---|
| teran2 | Linux (Ubuntu 24.04.1 LTS) | x86_64 | 4.4.1 (2024-06-14) -- "Race for Your Life" | 4505 | 
| palomino8 | Windows Server 2022 Datacenter | x64 | 4.4.1 (2024-06-14 ucrt) -- "Race for Your Life" | 4506 | 
| lconway | macOS 12.7.1 Monterey | x86_64 | 4.4.1 (2024-06-14) -- "Race for Your Life" | 4538 | 
| kjohnson3 | macOS 13.6.5 Ventura | arm64 | 4.4.1 (2024-06-14) -- "Race for Your Life" | 4486 | 
| kunpeng2 | Linux (openEuler 22.03 LTS-SP1) | aarch64 | 4.4.1 (2024-06-14) -- "Race for Your Life" | 4493 | 
| Click on any hostname to see more info about the system (e.g. compilers) (*) as reported by 'uname -p', except on Windows and Mac OS X | ||||
| Package 914/2289 | Hostname | OS / Arch | INSTALL | BUILD | CHECK | BUILD BIN | ||||||||
| GSEABenchmarkeR 1.26.0  (landing page) Ludwig Geistlinger 
  | teran2 | Linux (Ubuntu 24.04.1 LTS) / x86_64 | OK | OK | OK | |||||||||
| palomino8 | Windows Server 2022 Datacenter / x64 | OK | ERROR | skipped | skipped | |||||||||
| lconway | macOS 12.7.1 Monterey / x86_64 | OK | OK | OK | OK | |||||||||
| kjohnson3 | macOS 13.6.5 Ventura / arm64 | OK | OK | OK | OK | |||||||||
| kunpeng2 | Linux (openEuler 22.03 LTS-SP1) / aarch64 | OK | OK | OK | ||||||||||
| 
To the developers/maintainers of the GSEABenchmarkeR package: - Allow up to 24 hours (and sometimes 48 hours) for your latest push to git@git.bioconductor.org:packages/GSEABenchmarkeR.git to reflect on this report. See Troubleshooting Build Report for more information. - Use the following Renviron settings to reproduce errors and warnings. - If 'R CMD check' started to fail recently on the Linux builder(s) over a missing dependency, add the missing dependency to 'Suggests:' in your DESCRIPTION file. See Renviron.bioc for more information.  | 
| Package: GSEABenchmarkeR | 
| Version: 1.26.0 | 
| Command: /Library/Frameworks/R.framework/Resources/bin/R CMD build --keep-empty-dirs --no-resave-data GSEABenchmarkeR | 
| StartedAt: 2024-11-08 17:36:08 -0500 (Fri, 08 Nov 2024) | 
| EndedAt: 2024-11-08 17:37:09 -0500 (Fri, 08 Nov 2024) | 
| EllapsedTime: 60.7 seconds | 
| RetCode: 0 | 
| Status: OK | 
| PackageFile: GSEABenchmarkeR_1.26.0.tar.gz | 
| PackageFileSize: 571.4 KiB | 
##############################################################################
##############################################################################
###
### Running command:
###
###   /Library/Frameworks/R.framework/Resources/bin/R CMD build --keep-empty-dirs --no-resave-data GSEABenchmarkeR
###
##############################################################################
##############################################################################
* checking for file ‘GSEABenchmarkeR/DESCRIPTION’ ... OK
* preparing ‘GSEABenchmarkeR’:
* checking DESCRIPTION meta-information ... OK
* installing the package to build vignettes
* creating vignettes ... OK
* checking for LF line-endings in source and make files and shell scripts
* checking for empty or unneeded directories
Omitted ‘LazyData’ from DESCRIPTION
  NB: this package now depends on R (>= 3.5.0)
  WARNING: Added dependency on R >= 3.5.0 because serialized objects in
  serialize/load version 3 cannot be read in older versions of R.
  File(s) containing such objects:
    ‘GSEABenchmarkeR/inst/extdata/malacards/GO_BP.rds’
    ‘GSEABenchmarkeR/inst/extdata/malacards/GO_MF.rds’
    ‘GSEABenchmarkeR/inst/extdata/malacards/KEGG.rds’
    ‘GSEABenchmarkeR/inst/extdata/myEData/GSE42057x.rds’
    ‘GSEABenchmarkeR/inst/extdata/myEData/GSE7305x.rds’
* building ‘GSEABenchmarkeR_1.26.0.tar.gz’