| Back to Multiple platform build/check report for BioC 3.20: simplified long | 
 | 
This page was generated on 2024-11-20 12:02 -0500 (Wed, 20 Nov 2024).
| Hostname | OS | Arch (*) | R version | Installed pkgs | 
|---|---|---|---|---|
| teran2 | Linux (Ubuntu 24.04.1 LTS) | x86_64 | 4.4.2 (2024-10-31) -- "Pile of Leaves" | 4481 | 
| nebbiolo2 | Linux (Ubuntu 24.04.1 LTS) | x86_64 | 4.4.2 (2024-10-31) -- "Pile of Leaves" | 4479 | 
| palomino8 | Windows Server 2022 Datacenter | x64 | 4.4.2 (2024-10-31 ucrt) -- "Pile of Leaves" | 4359 | 
| lconway | macOS 12.7.1 Monterey | x86_64 | 4.4.1 (2024-06-14) -- "Race for Your Life" | 4539 | 
| kunpeng2 | Linux (openEuler 22.03 LTS-SP1) | aarch64 | 4.4.1 (2024-06-14) -- "Race for Your Life" | 4493 | 
| Click on any hostname to see more info about the system (e.g. compilers) (*) as reported by 'uname -p', except on Windows and Mac OS X | ||||
| Package 742/2289 | Hostname | OS / Arch | INSTALL | BUILD | CHECK | BUILD BIN | ||||||||
| FlowSOM 2.14.0  (landing page) Sofie Van Gassen 
 | teran2 | Linux (Ubuntu 24.04.1 LTS) / x86_64 | OK | OK | OK |  | ||||||||
| nebbiolo2 | Linux (Ubuntu 24.04.1 LTS) / x86_64 | OK | OK | OK | ||||||||||
| palomino8 | Windows Server 2022 Datacenter / x64 | OK | OK | OK | OK |  | ||||||||
| lconway | macOS 12.7.1 Monterey / x86_64 | OK | OK | OK | OK |  | ||||||||
| kunpeng2 | Linux (openEuler 22.03 LTS-SP1) / aarch64 | OK | OK | OK | ||||||||||
| To the developers/maintainers of the FlowSOM package: - Allow up to 24 hours (and sometimes 48 hours) for your latest push to git@git.bioconductor.org:packages/FlowSOM.git to reflect on this report. See Troubleshooting Build Report for more information. - Use the following Renviron settings to reproduce errors and warnings. - If 'R CMD check' started to fail recently on the Linux builder(s) over a missing dependency, add the missing dependency to 'Suggests:' in your DESCRIPTION file. See Renviron.bioc for more information. | 
| Package: FlowSOM | 
| Version: 2.14.0 | 
| Command: /home/biocbuild/bbs-3.20-bioc/R/bin/R CMD check --install=check:FlowSOM.install-out.txt --library=/home/biocbuild/bbs-3.20-bioc/R/site-library --timings FlowSOM_2.14.0.tar.gz | 
| StartedAt: 2024-11-20 03:06:09 -0500 (Wed, 20 Nov 2024) | 
| EndedAt: 2024-11-20 03:14:41 -0500 (Wed, 20 Nov 2024) | 
| EllapsedTime: 512.3 seconds | 
| RetCode: 0 | 
| Status: OK | 
| CheckDir: FlowSOM.Rcheck | 
| Warnings: 0 | 
##############################################################################
##############################################################################
###
### Running command:
###
###   /home/biocbuild/bbs-3.20-bioc/R/bin/R CMD check --install=check:FlowSOM.install-out.txt --library=/home/biocbuild/bbs-3.20-bioc/R/site-library --timings FlowSOM_2.14.0.tar.gz
###
##############################################################################
##############################################################################
* using log directory ‘/media/volume/teran2_disk/biocbuild/bbs-3.20-bioc/meat/FlowSOM.Rcheck’
* using R version 4.4.2 (2024-10-31)
* using platform: x86_64-pc-linux-gnu
* R was compiled by
    gcc (Ubuntu 13.2.0-23ubuntu4) 13.2.0
    GNU Fortran (Ubuntu 13.2.0-23ubuntu4) 13.2.0
* running under: Ubuntu 24.04.1 LTS
* using session charset: UTF-8
* checking for file ‘FlowSOM/DESCRIPTION’ ... OK
* this is package ‘FlowSOM’ version ‘2.14.0’
* package encoding: UTF-8
* checking package namespace information ... OK
* checking package dependencies ... OK
* checking if this is a source package ... OK
* checking if there is a namespace ... OK
* checking for hidden files and directories ... OK
* checking for portable file names ... OK
* checking for sufficient/correct file permissions ... OK
* checking whether package ‘FlowSOM’ can be installed ... OK
* used C compiler: ‘gcc (Ubuntu 13.2.0-23ubuntu4) 13.2.0’
* checking installed package size ... OK
* checking package directory ... OK
* checking ‘build’ directory ... OK
* checking DESCRIPTION meta-information ... OK
* checking top-level files ... OK
* checking for left-over files ... OK
* checking index information ... OK
* checking package subdirectories ... OK
* checking code files for non-ASCII characters ... OK
* checking R files for syntax errors ... OK
* checking whether the package can be loaded ... OK
* checking whether the package can be loaded with stated dependencies ... OK
* checking whether the package can be unloaded cleanly ... OK
* checking whether the namespace can be loaded with stated dependencies ... OK
* checking whether the namespace can be unloaded cleanly ... OK
* checking loading without being on the library search path ... OK
* checking whether startup messages can be suppressed ... OK
* checking dependencies in R code ... OK
* checking S3 generic/method consistency ... OK
* checking replacement functions ... OK
* checking foreign function calls ... OK
* checking R code for possible problems ... OK
* checking Rd files ... NOTE
checkRd: (-1) PlotDimRed.Rd:55: Lost braces
    55 | of the dimred default = function(dimred){dimred$Y}.}
       |                                         ^
* checking Rd metadata ... OK
* checking Rd cross-references ... OK
* checking for missing documentation entries ... OK
* checking for code/documentation mismatches ... OK
* checking Rd \usage sections ... OK
* checking Rd contents ... OK
* checking for unstated dependencies in examples ... OK
* checking line endings in C/C++/Fortran sources/headers ... OK
* checking compiled code ... NOTE
Note: information on .o files is not available
* checking files in ‘vignettes’ ... OK
* checking examples ... OK
Examples with CPU (user + system) or elapsed time > 5s
                     user system elapsed
FlowSOMmary        38.671  0.477  41.119
PlotDimRed         37.655  0.117  41.661
PlotOutliers       11.984  0.011  14.536
PlotMarker         11.737  0.063  14.610
UpdateMetaclusters 11.191  0.038  13.397
GroupStats          9.375  0.045   9.964
PlotStars           9.329  0.032  11.067
PlotGroups          8.762  0.035  10.525
FlowSOM             8.156  0.033   9.131
query_multiple      6.414  0.019   6.981
PlotManualBars      6.329  0.033   6.944
QueryMultiple       6.149  0.014   6.796
AddAnnotation       5.989  0.112   6.515
Plot2DScatters      5.952  0.029   6.397
GetFlowJoLabels     5.448  0.115   6.201
PlotNumbers         5.003  0.023   5.224
PlotVariable        4.977  0.013   5.123
QueryStarPlot       4.855  0.009   5.031
PlotNode            4.809  0.010   5.260
GetClusterMFIs      4.547  0.108   5.520
GetFeatures         4.612  0.008   6.632
NClusters           4.373  0.007   5.568
SaveClustersToFCS   4.280  0.025   5.575
print.FlowSOM       3.379  0.016   5.241
* checking for unstated dependencies in vignettes ... OK
* checking package vignettes ... OK
* checking re-building of vignette outputs ... OK
* checking PDF version of manual ... OK
* DONE
Status: 2 NOTEs
See
  ‘/media/volume/teran2_disk/biocbuild/bbs-3.20-bioc/meat/FlowSOM.Rcheck/00check.log’
for details.
FlowSOM.Rcheck/00install.out
############################################################################## ############################################################################## ### ### Running command: ### ### /home/biocbuild/bbs-3.20-bioc/R/bin/R CMD INSTALL FlowSOM ### ############################################################################## ############################################################################## * installing to library ‘/media/volume/teran2_disk/biocbuild/bbs-3.20-bioc/R/site-library’ * installing *source* package ‘FlowSOM’ ... ** using staged installation ** libs using C compiler: ‘gcc (Ubuntu 13.2.0-23ubuntu4) 13.2.0’ gcc -I"/home/biocbuild/bbs-3.20-bioc/R/include" -DNDEBUG -I/usr/local/include -fpic -g -O2 -Wall -c som.c -o som.o gcc -shared -L/home/biocbuild/bbs-3.20-bioc/R/lib -L/usr/local/lib -o FlowSOM.so som.o -L/home/biocbuild/bbs-3.20-bioc/R/lib -lR installing to /media/volume/teran2_disk/biocbuild/bbs-3.20-bioc/R/site-library/00LOCK-FlowSOM/00new/FlowSOM/libs ** R ** inst ** byte-compile and prepare package for lazy loading ** help *** installing help indices ** building package indices ** installing vignettes ** testing if installed package can be loaded from temporary location ** checking absolute paths in shared objects and dynamic libraries ** testing if installed package can be loaded from final location ** testing if installed package keeps a record of temporary installation path * DONE (FlowSOM)
FlowSOM.Rcheck/FlowSOM-Ex.timings
| name | user | system | elapsed | |
| AddAnnotation | 5.989 | 0.112 | 6.515 | |
| AggregateFlowFrames | 0.048 | 0.004 | 0.052 | |
| BuildMST | 0.993 | 0.015 | 1.020 | |
| BuildSOM | 0.739 | 0.009 | 0.769 | |
| CountGroups | 4.111 | 0.029 | 4.359 | |
| FMeasure | 0.002 | 0.000 | 0.001 | |
| FlowSOM | 8.156 | 0.033 | 9.131 | |
| FlowSOMSubset | 3.361 | 0.018 | 3.413 | |
| FlowSOMmary | 38.671 | 0.477 | 41.119 | |
| GetChannels | 0.016 | 0.001 | 0.017 | |
| GetClusterMFIs | 4.547 | 0.108 | 5.520 | |
| GetClusterPercentagesPositive | 2.923 | 0.012 | 3.025 | |
| GetClusters | 2.955 | 0.015 | 4.144 | |
| GetCounts | 3.342 | 0.015 | 4.230 | |
| GetFeatures | 4.612 | 0.008 | 6.632 | |
| GetFlowJoLabels | 5.448 | 0.115 | 6.201 | |
| GetMFIs | 3.906 | 0.027 | 4.305 | |
| GetMarkers | 0.017 | 0.000 | 0.017 | |
| GetMetaclusterCVs | 3.611 | 0.009 | 3.923 | |
| GetMetaclusterMFIs | 3.870 | 0.010 | 3.928 | |
| GetMetaclusterPercentagesPositive | 3.990 | 0.018 | 4.218 | |
| GetMetaclusters | 3.791 | 0.011 | 3.940 | |
| GetPercentages | 3.572 | 0.014 | 3.964 | |
| GroupStats | 9.375 | 0.045 | 9.964 | |
| Initialize_KWSP | 0.003 | 0.000 | 0.003 | |
| Initialize_PCA | 0.001 | 0.000 | 0.001 | |
| MetaClustering | 1.950 | 0.029 | 2.246 | |
| MetaclusterCVs | 3.611 | 0.013 | 3.694 | |
| MetaclusterMFIs | 3.860 | 0.021 | 4.424 | |
| NClusters | 4.373 | 0.007 | 5.568 | |
| NMetaclusters | 4.122 | 0.026 | 4.585 | |
| NewData | 2.972 | 0.009 | 3.185 | |
| Plot2DScatters | 5.952 | 0.029 | 6.397 | |
| PlotCenters | 0.733 | 0.004 | 0.748 | |
| PlotClusters2D | 0.718 | 0.001 | 0.721 | |
| PlotDimRed | 37.655 | 0.117 | 41.661 | |
| PlotFileScatters | 0.516 | 0.001 | 0.526 | |
| PlotFlowSOM | 4.429 | 0.015 | 4.976 | |
| PlotGroups | 8.762 | 0.035 | 10.525 | |
| PlotLabels | 4.210 | 0.016 | 4.568 | |
| PlotManualBars | 6.329 | 0.033 | 6.944 | |
| PlotMarker | 11.737 | 0.063 | 14.610 | |
| PlotNode | 4.809 | 0.010 | 5.260 | |
| PlotNumbers | 5.003 | 0.023 | 5.224 | |
| PlotOutliers | 11.984 | 0.011 | 14.536 | |
| PlotOverview2D | 3.528 | 0.018 | 3.934 | |
| PlotPies | 4.499 | 0.020 | 4.926 | |
| PlotSD | 1.294 | 0.022 | 1.483 | |
| PlotStars | 9.329 | 0.032 | 11.067 | |
| PlotVariable | 4.977 | 0.013 | 5.123 | |
| Purity | 0.001 | 0.000 | 0.000 | |
| QueryMultiple | 6.149 | 0.014 | 6.796 | |
| QueryStarPlot | 4.855 | 0.009 | 5.031 | |
| ReadInput | 2.110 | 0.015 | 2.667 | |
| SaveClustersToFCS | 4.280 | 0.025 | 5.575 | |
| TestOutliers | 3.577 | 0.008 | 3.836 | |
| UpdateMetaclusters | 11.191 | 0.038 | 13.397 | |
| UpdateNodeSize | 3.542 | 0.005 | 4.497 | |
| get_channels | 0.015 | 0.002 | 0.017 | |
| get_markers | 0.016 | 0.000 | 0.016 | |
| metaClustering_consensus | 1.731 | 0.015 | 1.948 | |
| plotStarLegend | 0.277 | 0.001 | 0.560 | |
| print.FlowSOM | 3.379 | 0.016 | 5.241 | |
| query_multiple | 6.414 | 0.019 | 6.981 | |