Back to Multiple platform build/check report for BioC 3.20:   simplified   long
ABCDE[F]GHIJKLMNOPQRSTUVWXYZ

This page was generated on 2025-02-06 12:09 -0500 (Thu, 06 Feb 2025).

HostnameOSArch (*)R versionInstalled pkgs
nebbiolo2Linux (Ubuntu 24.04.1 LTS)x86_644.4.2 (2024-10-31) -- "Pile of Leaves" 4753
palomino8Windows Server 2022 Datacenterx644.4.2 (2024-10-31 ucrt) -- "Pile of Leaves" 4501
merida1macOS 12.7.5 Montereyx86_644.4.2 (2024-10-31) -- "Pile of Leaves" 4524
kjohnson1macOS 13.6.6 Venturaarm644.4.2 (2024-10-31) -- "Pile of Leaves" 4476
taishanLinux (openEuler 24.03 LTS)aarch644.4.2 (2024-10-31) -- "Pile of Leaves" 4407
Click on any hostname to see more info about the system (e.g. compilers)      (*) as reported by 'uname -p', except on Windows and Mac OS X

Package 716/2289HostnameOS / ArchINSTALLBUILDCHECKBUILD BIN
FindIT2 1.12.0  (landing page)
Guandong Shang
Snapshot Date: 2025-02-03 13:00 -0500 (Mon, 03 Feb 2025)
git_url: https://git.bioconductor.org/packages/FindIT2
git_branch: RELEASE_3_20
git_last_commit: 1bcb4fc
git_last_commit_date: 2024-10-29 11:01:40 -0500 (Tue, 29 Oct 2024)
nebbiolo2Linux (Ubuntu 24.04.1 LTS) / x86_64  OK    OK    OK  UNNEEDED, same version is already published
palomino8Windows Server 2022 Datacenter / x64  OK    OK    OK    OK  UNNEEDED, same version is already published
merida1macOS 12.7.5 Monterey / x86_64  OK    OK    OK    OK  UNNEEDED, same version is already published
kjohnson1macOS 13.6.6 Ventura / arm64  OK    OK    OK    OK  UNNEEDED, same version is already published
taishanLinux (openEuler 24.03 LTS) / aarch64  OK    OK    OK  


CHECK results for FindIT2 on kjohnson1

To the developers/maintainers of the FindIT2 package:
- Allow up to 24 hours (and sometimes 48 hours) for your latest push to git@git.bioconductor.org:packages/FindIT2.git to reflect on this report. See Troubleshooting Build Report for more information.
- Use the following Renviron settings to reproduce errors and warnings.
- If 'R CMD check' started to fail recently on the Linux builder(s) over a missing dependency, add the missing dependency to 'Suggests:' in your DESCRIPTION file. See Renviron.bioc for more information.

raw results


Summary

Package: FindIT2
Version: 1.12.0
Command: /Library/Frameworks/R.framework/Resources/bin/R CMD check --install=check:FindIT2.install-out.txt --library=/Library/Frameworks/R.framework/Resources/library --no-vignettes --timings FindIT2_1.12.0.tar.gz
StartedAt: 2025-02-04 19:50:47 -0500 (Tue, 04 Feb 2025)
EndedAt: 2025-02-04 19:57:21 -0500 (Tue, 04 Feb 2025)
EllapsedTime: 394.6 seconds
RetCode: 0
Status:   OK  
CheckDir: FindIT2.Rcheck
Warnings: 0

Command output

##############################################################################
##############################################################################
###
### Running command:
###
###   /Library/Frameworks/R.framework/Resources/bin/R CMD check --install=check:FindIT2.install-out.txt --library=/Library/Frameworks/R.framework/Resources/library --no-vignettes --timings FindIT2_1.12.0.tar.gz
###
##############################################################################
##############################################################################


* using log directory ‘/Users/biocbuild/bbs-3.20-bioc/meat/FindIT2.Rcheck’
* using R version 4.4.2 (2024-10-31)
* using platform: aarch64-apple-darwin20
* R was compiled by
    Apple clang version 14.0.0 (clang-1400.0.29.202)
    GNU Fortran (GCC) 12.2.0
* running under: macOS Ventura 13.7.1
* using session charset: UTF-8
* using option ‘--no-vignettes’
* checking for file ‘FindIT2/DESCRIPTION’ ... OK
* this is package ‘FindIT2’ version ‘1.12.0’
* package encoding: UTF-8
* checking package namespace information ... OK
* checking package dependencies ... OK
* checking if this is a source package ... OK
* checking if there is a namespace ... OK
* checking for hidden files and directories ... OK
* checking for portable file names ... OK
* checking for sufficient/correct file permissions ... OK
* checking whether package ‘FindIT2’ can be installed ... OK
* checking installed package size ... OK
* checking package directory ... OK
* checking ‘build’ directory ... OK
* checking DESCRIPTION meta-information ... OK
* checking top-level files ... OK
* checking for left-over files ... OK
* checking index information ... OK
* checking package subdirectories ... OK
* checking code files for non-ASCII characters ... OK
* checking R files for syntax errors ... OK
* checking whether the package can be loaded ... OK
* checking whether the package can be loaded with stated dependencies ... OK
* checking whether the package can be unloaded cleanly ... OK
* checking whether the namespace can be loaded with stated dependencies ... OK
* checking whether the namespace can be unloaded cleanly ... OK
* checking dependencies in R code ... OK
* checking S3 generic/method consistency ... OK
* checking replacement functions ... OK
* checking foreign function calls ... OK
* checking R code for possible problems ... OK
* checking Rd files ... OK
* checking Rd metadata ... OK
* checking Rd cross-references ... OK
* checking for missing documentation entries ... OK
* checking for code/documentation mismatches ... OK
* checking Rd \usage sections ... OK
* checking Rd contents ... OK
* checking for unstated dependencies in examples ... OK
* checking contents of ‘data’ directory ... OK
* checking data for non-ASCII characters ... OK
* checking data for ASCII and uncompressed saves ... OK
* checking files in ‘vignettes’ ... OK
* checking examples ... OK
Examples with CPU (user + system) or elapsed time > 5s
                 user system elapsed
findIT_regionRP 7.359  0.158   7.521
calcRP_coverage 6.229  0.946   7.188
calcRP_region   5.152  0.184   5.351
* checking for unstated dependencies in ‘tests’ ... OK
* checking tests ...
  Running ‘testthat.R’
 OK
* checking for unstated dependencies in vignettes ... OK
* checking package vignettes ... OK
* checking running R code from vignettes ... SKIPPED
* checking re-building of vignette outputs ... SKIPPED
* checking PDF version of manual ... OK
* DONE

Status: OK


Installation output

FindIT2.Rcheck/00install.out

##############################################################################
##############################################################################
###
### Running command:
###
###   /Library/Frameworks/R.framework/Resources/bin/R CMD INSTALL FindIT2
###
##############################################################################
##############################################################################


* installing to library ‘/Library/Frameworks/R.framework/Versions/4.4-arm64/Resources/library’
* installing *source* package ‘FindIT2’ ...
** using staged installation
** R
** data
** inst
** byte-compile and prepare package for lazy loading
** help
*** installing help indices
** building package indices
** installing vignettes
** testing if installed package can be loaded from temporary location
** testing if installed package can be loaded from final location
** testing if installed package keeps a record of temporary installation path
* DONE (FindIT2)

Tests output

FindIT2.Rcheck/tests/testthat.Rout


R version 4.4.2 (2024-10-31) -- "Pile of Leaves"
Copyright (C) 2024 The R Foundation for Statistical Computing
Platform: aarch64-apple-darwin20

R is free software and comes with ABSOLUTELY NO WARRANTY.
You are welcome to redistribute it under certain conditions.
Type 'license()' or 'licence()' for distribution details.

R is a collaborative project with many contributors.
Type 'contributors()' for more information and
'citation()' on how to cite R or R packages in publications.

Type 'demo()' for some demos, 'help()' for on-line help, or
'help.start()' for an HTML browser interface to help.
Type 'q()' to quit R.

> library(testthat)
> library(FindIT2)
Loading required package: GenomicRanges
Loading required package: stats4
Loading required package: BiocGenerics

Attaching package: 'BiocGenerics'

The following objects are masked from 'package:stats':

    IQR, mad, sd, var, xtabs

The following objects are masked from 'package:base':

    Filter, Find, Map, Position, Reduce, anyDuplicated, aperm, append,
    as.data.frame, basename, cbind, colnames, dirname, do.call,
    duplicated, eval, evalq, get, grep, grepl, intersect, is.unsorted,
    lapply, mapply, match, mget, order, paste, pmax, pmax.int, pmin,
    pmin.int, rank, rbind, rownames, sapply, saveRDS, setdiff, table,
    tapply, union, unique, unsplit, which.max, which.min

Loading required package: S4Vectors

Attaching package: 'S4Vectors'

The following object is masked from 'package:utils':

    findMatches

The following objects are masked from 'package:base':

    I, expand.grid, unname

Loading required package: IRanges
Loading required package: GenomeInfoDb
> if (!requireNamespace("TxDb.Athaliana.BioMart.plantsmart28")) {
+     stop("unable to load TxDb.Athaliana.BioMart.plantsmart28")
+ }
Loading required namespace: TxDb.Athaliana.BioMart.plantsmart28
> 
> test_check("FindIT2")
>> preparing gene features information...		2025-02-04 19:56:12
>> some scan range may cross Chr bound, trimming...		2025-02-04 19:56:14
>> preparing weight info...		2025-02-04 19:56:14
>> loading E50h_sampleChr5.bw info...		2025-02-04 19:56:14
------------
>> extracting and calcluating Chr5 signal...		2025-02-04 19:56:14
>> dealing with Chr5 left gene signal...		2025-02-04 19:56:19
>> norming Chr5RP accoring to the whole Chr RP...		2025-02-04 19:56:19
>> merging all Chr RP together...		2025-02-04 19:56:19
>> done		2025-02-04 19:56:19
>> checking seqlevels match...		2025-02-04 19:56:19
>> your peak_GR seqlevel:Chr5...
>> your Txdb seqlevel:Chr1 Chr2 Chr3 Chr4 Chr5 ChrM ChrC...
Good, your Chrs in peak_GR is all in Txdb
------------
annotatePeak using geneScan mode begins
>> preparing gene features information and scan region...		2025-02-04 19:56:20
>> some scan range may cross Chr bound, trimming...		2025-02-04 19:56:20
>> finding overlap peak in gene scan region...		2025-02-04 19:56:20
>> dealing with left peak not your gene scan region...		2025-02-04 19:56:21
>> merging two set peaks...		2025-02-04 19:56:21
>> calculating distance and dealing with gene strand...		2025-02-04 19:56:21
>> merging all info together ...		2025-02-04 19:56:21
>> done		2025-02-04 19:56:21
>> calculating peakCenter to TSS using peak-gene pair...		2025-02-04 19:56:21
>> pre-filling 1356 noAssoc peak gene's RP with 0...		2025-02-04 19:56:21
>> calculating RP using centerToTSS and peak score2025-02-04 19:56:21
>> merging all info together		2025-02-04 19:56:23
>> done		2025-02-04 19:56:24
>> calculating peakCenter to TSS using peak-gene pair...		2025-02-04 19:56:24
>> pre-filling 1356 noAssoc peak gene's RP with 0...		2025-02-04 19:56:25
>> calculating RP using centerToTSS and peak score2025-02-04 19:56:25
>> merging all info together		2025-02-04 19:56:27
>> done		2025-02-04 19:56:28
>> checking seqlevels match...		2025-02-04 19:56:28
>> your peak_GR seqlevel:Chr5...
>> your Txdb seqlevel:Chr1 Chr2 Chr3 Chr4 Chr5 ChrM ChrC...
Good, your Chrs in peak_GR is all in Txdb
------------
annotatePeak using geneScan mode begins
>> preparing gene features information and scan region...		2025-02-04 19:56:28
>> some scan range may cross Chr bound, trimming...		2025-02-04 19:56:29
>> finding overlap peak in gene scan region...		2025-02-04 19:56:29
>> dealing with left peak not your gene scan region...		2025-02-04 19:56:29
>> merging two set peaks...		2025-02-04 19:56:29
>> calculating distance and dealing with gene strand...		2025-02-04 19:56:29
>> merging all info together ...		2025-02-04 19:56:29
>> done		2025-02-04 19:56:29
>> calculating peakCenter to TSS using peak-gene pair...		2025-02-04 19:56:29
>> calculating RP using centerToTSS and TF hit		2025-02-04 19:56:30
>> merging all info together		2025-02-04 19:56:30
>> done		2025-02-04 19:56:30
>> calculating peakCenter to TSS using peak-gene pair...		2025-02-04 19:56:30
>> calculating RP using centerToTSS and TF hit		2025-02-04 19:56:31
>> merging all info together		2025-02-04 19:56:31
>> done		2025-02-04 19:56:31
>> checking seqlevels match...		2025-02-04 19:56:33
>> your peak_GR seqlevel:Chr5...
>> your Txdb seqlevel:Chr1 Chr2 Chr3 Chr4 Chr5 ChrM ChrC...
Good, your Chrs in peak_GR is all in Txdb
------------
annotatePeak using geneScan mode begins
>> preparing gene features information and scan region...		2025-02-04 19:56:33
>> some scan range may cross Chr bound, trimming...		2025-02-04 19:56:34
>> finding overlap peak in gene scan region...		2025-02-04 19:56:34
>> dealing with left peak not your gene scan region...		2025-02-04 19:56:34
>> merging two set peaks...		2025-02-04 19:56:34
>> calculating distance and dealing with gene strand...		2025-02-04 19:56:34
>> merging all info together ...		2025-02-04 19:56:34
>> done		2025-02-04 19:56:34
>> calculating peakCenter to TSS using peak-gene pair...		2025-02-04 19:56:34
>> pre-filling 1356 noAssoc peak gene's RP with 0...		2025-02-04 19:56:35
>> calculating RP using centerToTSS and peak score2025-02-04 19:56:35
>> merging all info together		2025-02-04 19:56:37
>> done		2025-02-04 19:56:37
>> extracting RP info from regionRP...		2025-02-04 19:56:39
>> dealing with TF_GR_databse...		2025-02-04 19:56:39
>> calculating percent and p-value...		2025-02-04 19:56:39
>> dealing withE5_0h_R1...		2025-02-04 19:56:39
>> dealing withE5_0h_R2...		2025-02-04 19:56:39
>> dealing withE5_4h_R1...		2025-02-04 19:56:39
>> dealing withE5_4h_R2...		2025-02-04 19:56:40
>> dealing withE5_8h_R1...		2025-02-04 19:56:40
>> dealing withE5_8h_R2...		2025-02-04 19:56:40
>> dealing withE5_16h_R1...		2025-02-04 19:56:40
>> dealing withE5_16h_R2...		2025-02-04 19:56:40
>> dealing withE5_24h_R1...		2025-02-04 19:56:40
>> dealing withE5_24h_R2...		2025-02-04 19:56:40
>> dealing withE5_48h_R1...		2025-02-04 19:56:40
>> dealing withE5_48h_R2...		2025-02-04 19:56:40
>> dealing withE5_48h_R3...		2025-02-04 19:56:40
>> dealing withE5_72h_R1...		2025-02-04 19:56:40
>> dealing withE5_72h_R2...		2025-02-04 19:56:40
>> dealing withE5_72h_R3...		2025-02-04 19:56:40
>> merging all info together...		2025-02-04 19:56:40
>> done		2025-02-04 19:56:40
>> preparing gene features information...		2025-02-04 19:56:40
>> some scan range may cross Chr bound, trimming...		2025-02-04 19:56:41
>> calculating p-value for each TF, which may be time consuming...		2025-02-04 19:56:41
>> merging all info together...		2025-02-04 19:56:41
>> done		2025-02-04 19:56:41
>> dealing with TF_GR_database...		2025-02-04 19:56:41
>> calculating coef and converting into z-score using INT...		2025-02-04 19:56:42
>> dealing with E5_0h_R1...		2025-02-04 19:56:42
>> dealing with E5_0h_R2...		2025-02-04 19:56:42
>> dealing with E5_4h_R1...		2025-02-04 19:56:42
>> dealing with E5_4h_R2...		2025-02-04 19:56:42
>> dealing with E5_8h_R1...		2025-02-04 19:56:42
>> dealing with E5_8h_R2...		2025-02-04 19:56:42
>> dealing with E5_16h_R1...		2025-02-04 19:56:42
>> dealing with E5_16h_R2...		2025-02-04 19:56:42
>> dealing with E5_24h_R1...		2025-02-04 19:56:42
>> dealing with E5_24h_R2...		2025-02-04 19:56:42
>> dealing with E5_48h_R1...		2025-02-04 19:56:42
>> dealing with E5_48h_R2...		2025-02-04 19:56:42
>> dealing with E5_48h_R3...		2025-02-04 19:56:43
>> dealing with E5_72h_R1...		2025-02-04 19:56:43
>> dealing with E5_72h_R2...		2025-02-04 19:56:43
>> dealing with E5_72h_R3...		2025-02-04 19:56:43
>> merging all info together...		2025-02-04 19:56:43
>> done		2025-02-04 19:56:43
>> checking seqlevels match...		2025-02-04 19:56:43
>> your peak_GR seqlevel:Chr5...
>> your Txdb seqlevel:Chr1 Chr2 Chr3 Chr4 Chr5 ChrM ChrC...
Good, your Chrs in peak_GR is all in Txdb
------------
annotatePeak using geneScan mode begins
>> preparing gene features information and scan region...		2025-02-04 19:56:43
>> some scan range may cross Chr bound, trimming...		2025-02-04 19:56:44
>> finding overlap peak in gene scan region...		2025-02-04 19:56:44
>> dealing with left peak not your gene scan region...		2025-02-04 19:56:44
>> merging two set peaks...		2025-02-04 19:56:44
>> calculating distance and dealing with gene strand...		2025-02-04 19:56:44
>> merging all info together ...		2025-02-04 19:56:44
>> done		2025-02-04 19:56:44
>> calculating peakCenter to TSS using peak-gene pair...		2025-02-04 19:56:44
>> calculating RP using centerToTSS and TF hit		2025-02-04 19:56:45
>> merging all info together		2025-02-04 19:56:45
>> done		2025-02-04 19:56:45
>> checking seqlevels match...		2025-02-04 19:56:45
>> your peak_GR seqlevel:5...
>> your Txdb seqlevel:Chr1 Chr2 Chr3 Chr4 Chr5 ChrM ChrC...
>> checking seqlevels match...		2025-02-04 19:56:45
>> your peak_GR seqlevel:Chr5 Chr6...
>> your Txdb seqlevel:Chr1 Chr2 Chr3 Chr4 Chr5 ChrM ChrC...
>> checking seqlevels match...		2025-02-04 19:56:49
>> your peak_GR seqlevel:Chr5...
>> your Txdb seqlevel:Chr1 Chr2 Chr3 Chr4 Chr5 ChrM ChrC...
Good, your Chrs in peak_GR is all in Txdb
>> checking seqlevels match...		2025-02-04 19:56:49
>> your peak_GR seqlevel:Chr5...
>> your Txdb seqlevel:Chr1 Chr2 Chr3 Chr4 Chr5 ChrM ChrC...
Good, your Chrs in peak_GR is all in Txdb
------------
annotating Peak using nearest gene mode begins
>> preparing gene features information...		2025-02-04 19:56:49
>> finding nearest gene and calculating distance...		2025-02-04 19:56:50
>> dealing with gene strand ...		2025-02-04 19:56:50
>> merging all info together ...		2025-02-04 19:56:50
>> done		2025-02-04 19:56:50
>> checking seqlevels match...		2025-02-04 19:56:50
>> your peak_GR seqlevel:Chr5...
>> your Txdb seqlevel:Chr1 Chr2 Chr3 Chr4 Chr5 ChrM ChrC...
Good, your Chrs in peak_GR is all in Txdb
>> checking seqlevels match...		2025-02-04 19:56:50
>> your peak_GR seqlevel:Chr5...
>> your Txdb seqlevel:Chr1 Chr2 Chr3 Chr4 Chr5 ChrM ChrC...
Good, your Chrs in peak_GR is all in Txdb
------------
annotating Peak using nearest gene mode begins
>> preparing gene features information...		2025-02-04 19:56:50
>> finding nearest gene and calculating distance...		2025-02-04 19:56:51
>> dealing with gene strand ...		2025-02-04 19:56:51
>> merging all info together ...		2025-02-04 19:56:51
>> done		2025-02-04 19:56:51
>> checking seqlevels match...		2025-02-04 19:56:52
>> your peak_GR seqlevel:Chr5...
>> your Txdb seqlevel:Chr1 Chr2 Chr3 Chr4 Chr5 ChrM ChrC...
Good, your Chrs in peak_GR is all in Txdb
>> checking seqlevels match...		2025-02-04 19:56:52
>> your peak_GR seqlevel:Chr5...
>> your Txdb seqlevel:Chr1 Chr2 Chr3 Chr4 Chr5 ChrM ChrC...
Good, your Chrs in peak_GR is all in Txdb
------------
annotating Peak using nearest gene mode begins
>> preparing gene features information...		2025-02-04 19:56:52
>> finding nearest gene and calculating distance...		2025-02-04 19:56:53
>> dealing with gene strand ...		2025-02-04 19:56:53
>> merging all info together ...		2025-02-04 19:56:53
>> done		2025-02-04 19:56:53
>> checking seqlevels match...		2025-02-04 19:56:54
>> your peak_GR seqlevel:Chr5...
>> your Txdb seqlevel:Chr1 Chr2 Chr3 Chr4 Chr5 ChrM ChrC...
Good, your Chrs in peak_GR is all in Txdb
>> checking seqlevels match...		2025-02-04 19:56:54
>> your peak_GR seqlevel:Chr5...
>> your Txdb seqlevel:Chr1 Chr2 Chr3 Chr4 Chr5 ChrM ChrC...
Good, your Chrs in peak_GR is all in Txdb
------------
annotating Peak using nearest gene mode begins
>> preparing gene features information...		2025-02-04 19:56:54
>> finding nearest gene and calculating distance...		2025-02-04 19:56:54
>> dealing with gene strand ...		2025-02-04 19:56:55
>> merging all info together ...		2025-02-04 19:56:55
>> done		2025-02-04 19:56:55
It seems that there 1 genes have not been annotated by nearestGene mode
>> checking seqlevels match...		2025-02-04 19:56:56
>> your peak_GR seqlevel:Chr5...
>> your Txdb seqlevel:Chr1 Chr2 Chr3 Chr4 Chr5 ChrM ChrC...
Good, your Chrs in peak_GR is all in Txdb
>> checking seqlevels match...		2025-02-04 19:56:56
>> your peak_GR seqlevel:Chr5...
>> your Txdb seqlevel:Chr1 Chr2 Chr3 Chr4 Chr5 ChrM ChrC...
Good, your Chrs in peak_GR is all in Txdb
------------
annotating Peak using nearest gene mode begins
>> preparing gene features information...		2025-02-04 19:56:56
>> finding nearest gene and calculating distance...		2025-02-04 19:56:56
>> dealing with gene strand ...		2025-02-04 19:56:57
>> merging all info together ...		2025-02-04 19:56:57
>> done		2025-02-04 19:56:57
It seems that there 1 genes have not been annotated by nearestGene mode
>> checking seqlevels match...		2025-02-04 19:56:57
>> your peak_GR seqlevel:Chr5...
>> your Txdb seqlevel:Chr1 Chr2 Chr3 Chr4 Chr5 ChrM ChrC...
Good, your Chrs in peak_GR is all in Txdb
>> checking seqlevels match...		2025-02-04 19:56:58
>> your peak_GR seqlevel:Chr5...
>> your Txdb seqlevel:Chr1 Chr2 Chr3 Chr4 Chr5 ChrM ChrC...
Good, your Chrs in peak_GR is all in Txdb
>> some scan range may cross Chr bound, trimming...		2025-02-04 19:56:59
>> checking seqlevels match...		2025-02-04 19:57:00
>> your peak_GR seqlevel:Chr5...
>> your Txdb seqlevel:Chr1 Chr2 Chr3 Chr4 Chr5 ChrM ChrC...
Good, your Chrs in peak_GR is all in Txdb
>> some scan range may cross Chr bound, trimming...		2025-02-04 19:57:01
Good, your two matrix colnames matchs
>> calculating cor and pvalue, which may be time consuming...		2025-02-04 19:57:02
>> merging all info together...		2025-02-04 19:57:02
>> done		2025-02-04 19:57:02
>> checking seqlevels match...		2025-02-04 19:57:02
>> your peak_GR seqlevel:Chr5...
>> your Txdb seqlevel:Chr1 Chr2 Chr3 Chr4 Chr5 ChrM ChrC...
Good, your Chrs in peak_GR is all in Txdb
>> using scanPromoter parameter to scan promoter for each gene...		2025-02-04 19:57:02
>> checking seqlevels match...		2025-02-04 19:57:02
>> your peak_GR seqlevel:Chr5...
>> your Txdb seqlevel:Chr1 Chr2 Chr3 Chr4 Chr5 ChrM ChrC...
Good, your Chrs in peak_GR is all in Txdb
>> some scan range may cross Chr bound, trimming...		2025-02-04 19:57:03
>> there are 85 gene have scaned promoter
>> using scanEnhancer parameter to scan Enhancer for each gene...		2025-02-04 19:57:04
>> checking seqlevels match...		2025-02-04 19:57:04
>> your peak_GR seqlevel:Chr5...
>> your Txdb seqlevel:Chr1 Chr2 Chr3 Chr4 Chr5 ChrM ChrC...
Good, your Chrs in peak_GR is all in Txdb
>> some scan range may cross Chr bound, trimming...		2025-02-04 19:57:04
>> calculating cor and pvalue, which may be time consuming...		2025-02-04 19:57:05
>> merging all info together...		2025-02-04 19:57:05
>> done		2025-02-04 19:57:05
Good, your two matrix colnames matchs
>> calculating cor and pvalue, which may be time consuming...		2025-02-04 19:57:05
>> merging all info together...		2025-02-04 19:57:05
>> done		2025-02-04 19:57:05
>> checking seqlevels match...		2025-02-04 19:57:05
>> your peak_GR seqlevel:Chr5...
>> your Txdb seqlevel:Chr1 Chr2 Chr3 Chr4 Chr5 ChrM ChrC...
Good, your Chrs in peak_GR is all in Txdb
------------
annotatePeak using geneScan mode begins
>> preparing gene features information and scan region...		2025-02-04 19:57:05
>> some scan range may cross Chr bound, trimming...		2025-02-04 19:57:06
>> finding overlap peak in gene scan region...		2025-02-04 19:57:06
>> dealing with left peak not your gene scan region...		2025-02-04 19:57:06
>> merging two set peaks...		2025-02-04 19:57:06
>> calculating distance and dealing with gene strand...		2025-02-04 19:57:06
>> merging all info together ...		2025-02-04 19:57:06
>> done		2025-02-04 19:57:06
Good, your two matrix colnames matchs
>> calculating cor and pvalue, which may be time consuming...		2025-02-04 19:57:07
>> merging all info together...		2025-02-04 19:57:07
>> done		2025-02-04 19:57:07
>> checking seqlevels match...		2025-02-04 19:57:07
>> your peak_GR seqlevel:Chr5...
>> your Txdb seqlevel:Chr1 Chr2 Chr3 Chr4 Chr5 ChrM ChrC...
Good, your Chrs in peak_GR is all in Txdb
>> using scanPromoter parameter to scan promoter for each gene...		2025-02-04 19:57:07
>> checking seqlevels match...		2025-02-04 19:57:07
>> your peak_GR seqlevel:Chr5...
>> your Txdb seqlevel:Chr1 Chr2 Chr3 Chr4 Chr5 ChrM ChrC...
Good, your Chrs in peak_GR is all in Txdb
>> some scan range may cross Chr bound, trimming...		2025-02-04 19:57:08
>> there are 85 gene have scaned promoter
>> using scanEnhancer parameter to scan Enhancer for each gene...		2025-02-04 19:57:09
>> checking seqlevels match...		2025-02-04 19:57:09
>> your peak_GR seqlevel:Chr5...
>> your Txdb seqlevel:Chr1 Chr2 Chr3 Chr4 Chr5 ChrM ChrC...
Good, your Chrs in peak_GR is all in Txdb
>> some scan range may cross Chr bound, trimming...		2025-02-04 19:57:09
>> calculating cor and pvalue, which may be time consuming...		2025-02-04 19:57:10
>> merging all info together...		2025-02-04 19:57:10
>> done		2025-02-04 19:57:10
Joining with `by = join_by(feature_id)`
Joining with `by = join_by(feature_id)`
`geom_smooth()` using formula = 'y ~ x'
Joining with `by = join_by(feature_id)`
Joining with `by = join_by(feature_id)`
`geom_smooth()` using formula = 'y ~ x'
[ FAIL 0 | WARN 0 | SKIP 0 | PASS 65 ]
> 
> proc.time()
   user  system elapsed 
 69.768   2.898  72.817 

Example timings

FindIT2.Rcheck/FindIT2-Ex.timings

nameusersystemelapsed
TF_target_database0.0000.0010.001
calcRP_TFHit3.1040.1303.282
calcRP_coverage6.2290.9467.188
calcRP_region5.1520.1845.351
enhancerPromoterCor3.1280.1143.244
findIT_MARA0.4690.0210.491
findIT_TFHit1.1600.0451.206
findIT_TTPair0.0850.0070.091
findIT_enrichFisher0.1620.0050.166
findIT_enrichWilcox0.1770.0050.182
findIT_regionRP7.3590.1587.521
getAssocPairNumber1.2050.0331.238
integrate_ChIP_RNA2.1830.0822.264
integrate_replicates0.0020.0000.002
jaccard_findIT_TTpair0.1030.0050.108
jaccard_findIT_enrichFisher0.2040.0040.208
loadPeakFile0.0590.0010.060
mm_geneBound1.2850.0451.333
mm_geneScan1.2840.0371.323
mm_nearestGene1.1920.0381.234
peakGeneCor2.3800.1072.489
plot_annoDistance1.6290.0691.700
plot_peakGeneAlias_summary1.4460.0311.485
plot_peakGeneCor3.0000.0783.087
test_geneSet0.0010.0000.000