| Back to Multiple platform build/check report for BioC 3.20: simplified long |
|
This page was generated on 2025-04-02 19:35 -0400 (Wed, 02 Apr 2025).
| Hostname | OS | Arch (*) | R version | Installed pkgs |
|---|---|---|---|---|
| nebbiolo2 | Linux (Ubuntu 24.04.1 LTS) | x86_64 | 4.4.3 (2025-02-28) -- "Trophy Case" | 4764 |
| palomino8 | Windows Server 2022 Datacenter | x64 | 4.4.3 (2025-02-28 ucrt) -- "Trophy Case" | 4495 |
| merida1 | macOS 12.7.5 Monterey | x86_64 | 4.4.3 (2025-02-28) -- "Trophy Case" | 4522 |
| kjohnson1 | macOS 13.6.6 Ventura | arm64 | 4.4.3 (2025-02-28) -- "Trophy Case" | 4449 |
| taishan | Linux (openEuler 24.03 LTS) | aarch64 | 4.4.3 (2025-02-28) -- "Trophy Case" | 4426 |
| Click on any hostname to see more info about the system (e.g. compilers) (*) as reported by 'uname -p', except on Windows and Mac OS X | ||||
| Package 592/2289 | Hostname | OS / Arch | INSTALL | BUILD | CHECK | BUILD BIN | ||||||||
| DNABarcodeCompatibility 1.22.0 (landing page) Céline Trébeau
| nebbiolo2 | Linux (Ubuntu 24.04.1 LTS) / x86_64 | OK | OK | OK | |||||||||
| palomino8 | Windows Server 2022 Datacenter / x64 | OK | OK | OK | OK | |||||||||
| merida1 | macOS 12.7.5 Monterey / x86_64 | OK | OK | OK | OK | |||||||||
| kjohnson1 | macOS 13.6.6 Ventura / arm64 | OK | OK | OK | OK | |||||||||
| taishan | Linux (openEuler 24.03 LTS) / aarch64 | OK | OK | OK | ||||||||||
|
To the developers/maintainers of the DNABarcodeCompatibility package: - Allow up to 24 hours (and sometimes 48 hours) for your latest push to git@git.bioconductor.org:packages/DNABarcodeCompatibility.git to reflect on this report. See Troubleshooting Build Report for more information. - Use the following Renviron settings to reproduce errors and warnings. - If 'R CMD check' started to fail recently on the Linux builder(s) over a missing dependency, add the missing dependency to 'Suggests:' in your DESCRIPTION file. See Renviron.bioc for more information. - See Martin Grigorov's blog post for how to debug Linux ARM64 related issues on a x86_64 host. |
| Package: DNABarcodeCompatibility |
| Version: 1.22.0 |
| Command: /home/biocbuild/R/R/bin/R CMD check --install=check:DNABarcodeCompatibility.install-out.txt --library=/home/biocbuild/R/R/site-library --no-vignettes --timings DNABarcodeCompatibility_1.22.0.tar.gz |
| StartedAt: 2025-04-01 05:59:48 -0000 (Tue, 01 Apr 2025) |
| EndedAt: 2025-04-01 06:00:34 -0000 (Tue, 01 Apr 2025) |
| EllapsedTime: 46.2 seconds |
| RetCode: 0 |
| Status: OK |
| CheckDir: DNABarcodeCompatibility.Rcheck |
| Warnings: 0 |
##############################################################################
##############################################################################
###
### Running command:
###
### /home/biocbuild/R/R/bin/R CMD check --install=check:DNABarcodeCompatibility.install-out.txt --library=/home/biocbuild/R/R/site-library --no-vignettes --timings DNABarcodeCompatibility_1.22.0.tar.gz
###
##############################################################################
##############################################################################
* using log directory ‘/home/biocbuild/bbs-3.20-bioc/meat/DNABarcodeCompatibility.Rcheck’
* using R version 4.4.3 (2025-02-28)
* using platform: aarch64-unknown-linux-gnu
* R was compiled by
aarch64-unknown-linux-gnu-gcc (GCC) 14.2.0
GNU Fortran (GCC) 14.2.0
* running under: openEuler 24.03 (LTS)
* using session charset: UTF-8
* using option ‘--no-vignettes’
* checking for file ‘DNABarcodeCompatibility/DESCRIPTION’ ... OK
* checking extension type ... Package
* this is package ‘DNABarcodeCompatibility’ version ‘1.22.0’
* package encoding: UTF-8
* checking package namespace information ... OK
* checking package dependencies ... OK
* checking if this is a source package ... OK
* checking if there is a namespace ... OK
* checking for hidden files and directories ... OK
* checking for portable file names ... OK
* checking for sufficient/correct file permissions ... OK
* checking whether package ‘DNABarcodeCompatibility’ can be installed ... OK
* used C compiler: ‘aarch64-unknown-linux-gnu-gcc (GCC) 14.2.0’
* used C++ compiler: ‘aarch64-unknown-linux-gnu-g++ (GCC) 14.2.0’
* checking installed package size ... OK
* checking package directory ... OK
* checking ‘build’ directory ... OK
* checking DESCRIPTION meta-information ... OK
* checking top-level files ... OK
* checking for left-over files ... OK
* checking index information ... OK
* checking package subdirectories ... OK
* checking code files for non-ASCII characters ... OK
* checking R files for syntax errors ... OK
* checking whether the package can be loaded ... OK
* checking whether the package can be loaded with stated dependencies ... OK
* checking whether the package can be unloaded cleanly ... OK
* checking whether the namespace can be loaded with stated dependencies ... OK
* checking whether the namespace can be unloaded cleanly ... OK
* checking loading without being on the library search path ... OK
* checking dependencies in R code ... NOTE
Namespace in Imports field not imported from: ‘BH’
All declared Imports should be used.
* checking S3 generic/method consistency ... OK
* checking replacement functions ... OK
* checking foreign function calls ... OK
* checking R code for possible problems ... OK
* checking Rd files ... OK
* checking Rd metadata ... OK
* checking Rd cross-references ... OK
* checking for missing documentation entries ... OK
* checking for code/documentation mismatches ... OK
* checking Rd \usage sections ... OK
* checking Rd contents ... OK
* checking for unstated dependencies in examples ... OK
* checking contents of ‘data’ directory ... OK
* checking data for non-ASCII characters ... OK
* checking LazyData ... OK
* checking data for ASCII and uncompressed saves ... OK
* checking line endings in C/C++/Fortran sources/headers ... OK
* checking compiled code ... NOTE
Note: information on .o files is not available
* checking files in ‘vignettes’ ... OK
* checking examples ... OK
Examples with CPU (user + system) or elapsed time > 5s
user system elapsed
optimize_combinations 5.164 0.04 5.216
* checking for unstated dependencies in ‘tests’ ... OK
* checking tests ...
Running ‘testthat.R’
OK
* checking for unstated dependencies in vignettes ... OK
* checking package vignettes ... OK
* checking running R code from vignettes ... SKIPPED
* checking re-building of vignette outputs ... SKIPPED
* checking PDF version of manual ... OK
* DONE
Status: 2 NOTEs
See
‘/home/biocbuild/bbs-3.20-bioc/meat/DNABarcodeCompatibility.Rcheck/00check.log’
for details.
DNABarcodeCompatibility.Rcheck/00install.out
##############################################################################
##############################################################################
###
### Running command:
###
### /home/biocbuild/R/R/bin/R CMD INSTALL DNABarcodeCompatibility
###
##############################################################################
##############################################################################
* installing to library ‘/home/biocbuild/R/R-4.4.3/site-library’
* installing *source* package ‘DNABarcodeCompatibility’ ...
** using staged installation
** libs
using C compiler: ‘aarch64-unknown-linux-gnu-gcc (GCC) 14.2.0’
using C++ compiler: ‘aarch64-unknown-linux-gnu-g++ (GCC) 14.2.0’
/opt/ohpc/pub/compiler/gcc/14.2.0/bin/aarch64-unknown-linux-gnu-gcc -I"/home/biocbuild/R/R-4.4.3/include" -DNDEBUG -I'/home/biocbuild/R/R-4.4.3/site-library/Rcpp/include' -I'/home/biocbuild/R/R-4.4.3/site-library/BH/include' -I/usr/local/include -fPIC -g -O2 -Wall -c DNABarcodes_init.c -o DNABarcodes_init.o
/opt/ohpc/pub/compiler/gcc/14.2.0/bin/aarch64-unknown-linux-gnu-g++ -std=gnu++17 -I"/home/biocbuild/R/R-4.4.3/include" -DNDEBUG -I'/home/biocbuild/R/R-4.4.3/site-library/Rcpp/include' -I'/home/biocbuild/R/R-4.4.3/site-library/BH/include' -I/usr/local/include -fPIC -g -O2 -Wall -c RcppExports.cpp -o RcppExports.o
/opt/ohpc/pub/compiler/gcc/14.2.0/bin/aarch64-unknown-linux-gnu-g++ -std=gnu++17 -I"/home/biocbuild/R/R-4.4.3/include" -DNDEBUG -I'/home/biocbuild/R/R-4.4.3/site-library/Rcpp/include' -I'/home/biocbuild/R/R-4.4.3/site-library/BH/include' -I/usr/local/include -fPIC -g -O2 -Wall -c cachedistance.cpp -o cachedistance.o
cachedistance.cpp:51: warning: ignoring ‘#pragma omp critical’ [-Wunknown-pragmas]
51 | #pragma omp critical
cachedistance.cpp:66: warning: ignoring ‘#pragma omp critical’ [-Wunknown-pragmas]
66 | #pragma omp critical
In file included from /home/biocbuild/R/R-4.4.3/site-library/BH/include/boost/smart_ptr/shared_ptr.hpp:17,
from /home/biocbuild/R/R-4.4.3/site-library/BH/include/boost/shared_ptr.hpp:17,
from sequence.h:19,
from cachedistance.cpp:7:
/home/biocbuild/R/R-4.4.3/site-library/BH/include/boost/smart_ptr/detail/shared_count.hpp:326:33: warning: ‘template<class> class std::auto_ptr’ is deprecated: use 'std::unique_ptr' instead [-Wdeprecated-declarations]
326 | explicit shared_count( std::auto_ptr<Y> & r ): pi_( new sp_counted_impl_p<Y>( r.get() ) )
| ^~~~~~~~
In file included from /opt/ohpc/pub/compiler/gcc/14.2.0/include/c++/14.2.0/memory:78,
from sequence.h:13:
/opt/ohpc/pub/compiler/gcc/14.2.0/include/c++/14.2.0/bits/unique_ptr.h:59:28: note: declared here
59 | template<typename> class auto_ptr;
| ^~~~~~~~
/home/biocbuild/R/R-4.4.3/site-library/BH/include/boost/smart_ptr/shared_ptr.hpp:354:31: warning: ‘template<class> class std::auto_ptr’ is deprecated: use 'std::unique_ptr' instead [-Wdeprecated-declarations]
354 | explicit shared_ptr( std::auto_ptr<Y> & r ): px(r.get()), pn()
| ^~~~~~~~
/opt/ohpc/pub/compiler/gcc/14.2.0/include/c++/14.2.0/bits/unique_ptr.h:59:28: note: declared here
59 | template<typename> class auto_ptr;
| ^~~~~~~~
/home/biocbuild/R/R-4.4.3/site-library/BH/include/boost/smart_ptr/shared_ptr.hpp:365:22: warning: ‘template<class> class std::auto_ptr’ is deprecated: use 'std::unique_ptr' instead [-Wdeprecated-declarations]
365 | shared_ptr( std::auto_ptr<Y> && r ): px(r.get()), pn()
| ^~~~~~~~
/opt/ohpc/pub/compiler/gcc/14.2.0/include/c++/14.2.0/bits/unique_ptr.h:59:28: note: declared here
59 | template<typename> class auto_ptr;
| ^~~~~~~~
/home/biocbuild/R/R-4.4.3/site-library/BH/include/boost/smart_ptr/shared_ptr.hpp:423:34: warning: ‘template<class> class std::auto_ptr’ is deprecated: use 'std::unique_ptr' instead [-Wdeprecated-declarations]
423 | shared_ptr & operator=( std::auto_ptr<Y> & r )
| ^~~~~~~~
/opt/ohpc/pub/compiler/gcc/14.2.0/include/c++/14.2.0/bits/unique_ptr.h:59:28: note: declared here
59 | template<typename> class auto_ptr;
| ^~~~~~~~
/home/biocbuild/R/R-4.4.3/site-library/BH/include/boost/smart_ptr/shared_ptr.hpp:430:34: warning: ‘template<class> class std::auto_ptr’ is deprecated: use 'std::unique_ptr' instead [-Wdeprecated-declarations]
430 | shared_ptr & operator=( std::auto_ptr<Y> && r )
| ^~~~~~~~
/opt/ohpc/pub/compiler/gcc/14.2.0/include/c++/14.2.0/bits/unique_ptr.h:59:28: note: declared here
59 | template<typename> class auto_ptr;
| ^~~~~~~~
/home/biocbuild/R/R-4.4.3/site-library/BH/include/boost/smart_ptr/shared_ptr.hpp: In member function ‘boost::shared_ptr<T>& boost::shared_ptr<T>::operator=(std::auto_ptr<_Up>&&)’:
/home/biocbuild/R/R-4.4.3/site-library/BH/include/boost/smart_ptr/shared_ptr.hpp:432:38: warning: ‘template<class> class std::auto_ptr’ is deprecated: use 'std::unique_ptr' instead [-Wdeprecated-declarations]
432 | this_type( static_cast< std::auto_ptr<Y> && >( r ) ).swap( *this );
| ^~~~~~~~
/opt/ohpc/pub/compiler/gcc/14.2.0/include/c++/14.2.0/bits/unique_ptr.h:59:28: note: declared here
59 | template<typename> class auto_ptr;
| ^~~~~~~~
In file included from /home/biocbuild/R/R-4.4.3/site-library/BH/include/boost/mpl/aux_/na_assert.hpp:23,
from /home/biocbuild/R/R-4.4.3/site-library/BH/include/boost/mpl/arg.hpp:25,
from /home/biocbuild/R/R-4.4.3/site-library/BH/include/boost/mpl/placeholders.hpp:24,
from /home/biocbuild/R/R-4.4.3/site-library/BH/include/boost/mpl/apply.hpp:24,
from /home/biocbuild/R/R-4.4.3/site-library/BH/include/boost/serialization/array_optimization.hpp:18,
from /home/biocbuild/R/R-4.4.3/site-library/BH/include/boost/serialization/array_wrapper.hpp:21,
from /home/biocbuild/R/R-4.4.3/site-library/BH/include/boost/serialization/array.hpp:26,
from /home/biocbuild/R/R-4.4.3/site-library/BH/include/boost/numeric/ublas/storage.hpp:22,
from /home/biocbuild/R/R-4.4.3/site-library/BH/include/boost/numeric/ublas/vector.hpp:21,
from /home/biocbuild/R/R-4.4.3/site-library/BH/include/boost/numeric/ublas/matrix.hpp:18,
from /home/biocbuild/R/R-4.4.3/site-library/BH/include/boost/numeric/ublas/symmetric.hpp:16,
from cachedistance.h:16,
from cachedistance.cpp:8:
/home/biocbuild/R/R-4.4.3/site-library/BH/include/boost/mpl/assert.hpp: At global scope:
/home/biocbuild/R/R-4.4.3/site-library/BH/include/boost/mpl/assert.hpp:194:21: warning: unnecessary parentheses in declaration of ‘assert_arg’ [-Wparentheses]
194 | failed ************ (Pred::************
| ^~~~~~~~~~~~~~~~~~~
195 | assert_arg( void (*)(Pred), typename assert_arg_pred<Pred>::type )
| ~~~~~~~~~~~~~~~~~~~~~~~~~~~~~~~~~~~~~~~~~~~~~~~~~~~~~~~~~~~~~~~~~~
196 | );
| ~
/home/biocbuild/R/R-4.4.3/site-library/BH/include/boost/mpl/assert.hpp:194:21: note: remove parentheses
194 | failed ************ (Pred::************
| ^~~~~~~~~~~~~~~~~~~
| -
195 | assert_arg( void (*)(Pred), typename assert_arg_pred<Pred>::type )
| ~~~~~~~~~~~~~~~~~~~~~~~~~~~~~~~~~~~~~~~~~~~~~~~~~~~~~~~~~~~~~~~~~~
196 | );
| ~
| -
/home/biocbuild/R/R-4.4.3/site-library/BH/include/boost/mpl/assert.hpp:199:21: warning: unnecessary parentheses in declaration of ‘assert_not_arg’ [-Wparentheses]
199 | failed ************ (boost::mpl::not_<Pred>::************
| ^~~~~~~~~~~~~~~~~~~~~~~~~~~~~~~~~~~~~
200 | assert_not_arg( void (*)(Pred), typename assert_arg_pred_not<Pred>::type )
| ~~~~~~~~~~~~~~~~~~~~~~~~~~~~~~~~~~~~~~~~~~~~~~~~~~~~~~~~~~~~~~~~~~~~~~~~~~
201 | );
| ~
/home/biocbuild/R/R-4.4.3/site-library/BH/include/boost/mpl/assert.hpp:199:21: note: remove parentheses
199 | failed ************ (boost::mpl::not_<Pred>::************
| ^~~~~~~~~~~~~~~~~~~~~~~~~~~~~~~~~~~~~
| -
200 | assert_not_arg( void (*)(Pred), typename assert_arg_pred_not<Pred>::type )
| ~~~~~~~~~~~~~~~~~~~~~~~~~~~~~~~~~~~~~~~~~~~~~~~~~~~~~~~~~~~~~~~~~~~~~~~~~~
201 | );
| ~
| -
/opt/ohpc/pub/compiler/gcc/14.2.0/bin/aarch64-unknown-linux-gnu-g++ -std=gnu++17 -I"/home/biocbuild/R/R-4.4.3/include" -DNDEBUG -I'/home/biocbuild/R/R-4.4.3/site-library/Rcpp/include' -I'/home/biocbuild/R/R-4.4.3/site-library/BH/include' -I/usr/local/include -fPIC -g -O2 -Wall -c create_distance_func.cpp -o create_distance_func.o
In file included from /home/biocbuild/R/R-4.4.3/site-library/BH/include/boost/smart_ptr/shared_ptr.hpp:17,
from /home/biocbuild/R/R-4.4.3/site-library/BH/include/boost/shared_ptr.hpp:17,
from sequence.h:19,
from distance.h:14,
from create_distance_func.cpp:5:
/home/biocbuild/R/R-4.4.3/site-library/BH/include/boost/smart_ptr/detail/shared_count.hpp:326:33: warning: ‘template<class> class std::auto_ptr’ is deprecated: use 'std::unique_ptr' instead [-Wdeprecated-declarations]
326 | explicit shared_count( std::auto_ptr<Y> & r ): pi_( new sp_counted_impl_p<Y>( r.get() ) )
| ^~~~~~~~
In file included from /opt/ohpc/pub/compiler/gcc/14.2.0/include/c++/14.2.0/memory:78,
from distance.h:11:
/opt/ohpc/pub/compiler/gcc/14.2.0/include/c++/14.2.0/bits/unique_ptr.h:59:28: note: declared here
59 | template<typename> class auto_ptr;
| ^~~~~~~~
/home/biocbuild/R/R-4.4.3/site-library/BH/include/boost/smart_ptr/shared_ptr.hpp:354:31: warning: ‘template<class> class std::auto_ptr’ is deprecated: use 'std::unique_ptr' instead [-Wdeprecated-declarations]
354 | explicit shared_ptr( std::auto_ptr<Y> & r ): px(r.get()), pn()
| ^~~~~~~~
/opt/ohpc/pub/compiler/gcc/14.2.0/include/c++/14.2.0/bits/unique_ptr.h:59:28: note: declared here
59 | template<typename> class auto_ptr;
| ^~~~~~~~
/home/biocbuild/R/R-4.4.3/site-library/BH/include/boost/smart_ptr/shared_ptr.hpp:365:22: warning: ‘template<class> class std::auto_ptr’ is deprecated: use 'std::unique_ptr' instead [-Wdeprecated-declarations]
365 | shared_ptr( std::auto_ptr<Y> && r ): px(r.get()), pn()
| ^~~~~~~~
/opt/ohpc/pub/compiler/gcc/14.2.0/include/c++/14.2.0/bits/unique_ptr.h:59:28: note: declared here
59 | template<typename> class auto_ptr;
| ^~~~~~~~
/home/biocbuild/R/R-4.4.3/site-library/BH/include/boost/smart_ptr/shared_ptr.hpp:423:34: warning: ‘template<class> class std::auto_ptr’ is deprecated: use 'std::unique_ptr' instead [-Wdeprecated-declarations]
423 | shared_ptr & operator=( std::auto_ptr<Y> & r )
| ^~~~~~~~
/opt/ohpc/pub/compiler/gcc/14.2.0/include/c++/14.2.0/bits/unique_ptr.h:59:28: note: declared here
59 | template<typename> class auto_ptr;
| ^~~~~~~~
/home/biocbuild/R/R-4.4.3/site-library/BH/include/boost/smart_ptr/shared_ptr.hpp:430:34: warning: ‘template<class> class std::auto_ptr’ is deprecated: use 'std::unique_ptr' instead [-Wdeprecated-declarations]
430 | shared_ptr & operator=( std::auto_ptr<Y> && r )
| ^~~~~~~~
/opt/ohpc/pub/compiler/gcc/14.2.0/include/c++/14.2.0/bits/unique_ptr.h:59:28: note: declared here
59 | template<typename> class auto_ptr;
| ^~~~~~~~
/home/biocbuild/R/R-4.4.3/site-library/BH/include/boost/smart_ptr/shared_ptr.hpp: In member function ‘boost::shared_ptr<T>& boost::shared_ptr<T>::operator=(std::auto_ptr<_Up>&&)’:
/home/biocbuild/R/R-4.4.3/site-library/BH/include/boost/smart_ptr/shared_ptr.hpp:432:38: warning: ‘template<class> class std::auto_ptr’ is deprecated: use 'std::unique_ptr' instead [-Wdeprecated-declarations]
432 | this_type( static_cast< std::auto_ptr<Y> && >( r ) ).swap( *this );
| ^~~~~~~~
/opt/ohpc/pub/compiler/gcc/14.2.0/include/c++/14.2.0/bits/unique_ptr.h:59:28: note: declared here
59 | template<typename> class auto_ptr;
| ^~~~~~~~
In file included from /home/biocbuild/R/R-4.4.3/site-library/BH/include/boost/mpl/aux_/na_assert.hpp:23,
from /home/biocbuild/R/R-4.4.3/site-library/BH/include/boost/mpl/arg.hpp:25,
from /home/biocbuild/R/R-4.4.3/site-library/BH/include/boost/mpl/placeholders.hpp:24,
from /home/biocbuild/R/R-4.4.3/site-library/BH/include/boost/mpl/apply.hpp:24,
from /home/biocbuild/R/R-4.4.3/site-library/BH/include/boost/serialization/array_optimization.hpp:18,
from /home/biocbuild/R/R-4.4.3/site-library/BH/include/boost/serialization/array_wrapper.hpp:21,
from /home/biocbuild/R/R-4.4.3/site-library/BH/include/boost/serialization/array.hpp:26,
from /home/biocbuild/R/R-4.4.3/site-library/BH/include/boost/numeric/ublas/storage.hpp:22,
from /home/biocbuild/R/R-4.4.3/site-library/BH/include/boost/numeric/ublas/vector.hpp:21,
from /home/biocbuild/R/R-4.4.3/site-library/BH/include/boost/numeric/ublas/matrix.hpp:18,
from /home/biocbuild/R/R-4.4.3/site-library/BH/include/boost/numeric/ublas/symmetric.hpp:16,
from cachedistance.h:16,
from create_distance_func.cpp:9:
/home/biocbuild/R/R-4.4.3/site-library/BH/include/boost/mpl/assert.hpp: At global scope:
/home/biocbuild/R/R-4.4.3/site-library/BH/include/boost/mpl/assert.hpp:194:21: warning: unnecessary parentheses in declaration of ‘assert_arg’ [-Wparentheses]
194 | failed ************ (Pred::************
| ^~~~~~~~~~~~~~~~~~~
195 | assert_arg( void (*)(Pred), typename assert_arg_pred<Pred>::type )
| ~~~~~~~~~~~~~~~~~~~~~~~~~~~~~~~~~~~~~~~~~~~~~~~~~~~~~~~~~~~~~~~~~~
196 | );
| ~
/home/biocbuild/R/R-4.4.3/site-library/BH/include/boost/mpl/assert.hpp:194:21: note: remove parentheses
194 | failed ************ (Pred::************
| ^~~~~~~~~~~~~~~~~~~
| -
195 | assert_arg( void (*)(Pred), typename assert_arg_pred<Pred>::type )
| ~~~~~~~~~~~~~~~~~~~~~~~~~~~~~~~~~~~~~~~~~~~~~~~~~~~~~~~~~~~~~~~~~~
196 | );
| ~
| -
/home/biocbuild/R/R-4.4.3/site-library/BH/include/boost/mpl/assert.hpp:199:21: warning: unnecessary parentheses in declaration of ‘assert_not_arg’ [-Wparentheses]
199 | failed ************ (boost::mpl::not_<Pred>::************
| ^~~~~~~~~~~~~~~~~~~~~~~~~~~~~~~~~~~~~
200 | assert_not_arg( void (*)(Pred), typename assert_arg_pred_not<Pred>::type )
| ~~~~~~~~~~~~~~~~~~~~~~~~~~~~~~~~~~~~~~~~~~~~~~~~~~~~~~~~~~~~~~~~~~~~~~~~~~
201 | );
| ~
/home/biocbuild/R/R-4.4.3/site-library/BH/include/boost/mpl/assert.hpp:199:21: note: remove parentheses
199 | failed ************ (boost::mpl::not_<Pred>::************
| ^~~~~~~~~~~~~~~~~~~~~~~~~~~~~~~~~~~~~
| -
200 | assert_not_arg( void (*)(Pred), typename assert_arg_pred_not<Pred>::type )
| ~~~~~~~~~~~~~~~~~~~~~~~~~~~~~~~~~~~~~~~~~~~~~~~~~~~~~~~~~~~~~~~~~~~~~~~~~~
201 | );
| ~
| -
/opt/ohpc/pub/compiler/gcc/14.2.0/bin/aarch64-unknown-linux-gnu-g++ -std=gnu++17 -I"/home/biocbuild/R/R-4.4.3/include" -DNDEBUG -I'/home/biocbuild/R/R-4.4.3/site-library/Rcpp/include' -I'/home/biocbuild/R/R-4.4.3/site-library/BH/include' -I/usr/local/include -fPIC -g -O2 -Wall -c distance_for_R.cpp -o distance_for_R.o
In file included from /home/biocbuild/R/R-4.4.3/site-library/BH/include/boost/smart_ptr/shared_ptr.hpp:17,
from /home/biocbuild/R/R-4.4.3/site-library/BH/include/boost/shared_ptr.hpp:17,
from sequence.h:19,
from distance.h:14,
from distance_for_R.cpp:9:
/home/biocbuild/R/R-4.4.3/site-library/BH/include/boost/smart_ptr/detail/shared_count.hpp:326:33: warning: ‘template<class> class std::auto_ptr’ is deprecated: use 'std::unique_ptr' instead [-Wdeprecated-declarations]
326 | explicit shared_count( std::auto_ptr<Y> & r ): pi_( new sp_counted_impl_p<Y>( r.get() ) )
| ^~~~~~~~
In file included from /opt/ohpc/pub/compiler/gcc/14.2.0/include/c++/14.2.0/memory:78,
from distance.h:11:
/opt/ohpc/pub/compiler/gcc/14.2.0/include/c++/14.2.0/bits/unique_ptr.h:59:28: note: declared here
59 | template<typename> class auto_ptr;
| ^~~~~~~~
/home/biocbuild/R/R-4.4.3/site-library/BH/include/boost/smart_ptr/shared_ptr.hpp:354:31: warning: ‘template<class> class std::auto_ptr’ is deprecated: use 'std::unique_ptr' instead [-Wdeprecated-declarations]
354 | explicit shared_ptr( std::auto_ptr<Y> & r ): px(r.get()), pn()
| ^~~~~~~~
/opt/ohpc/pub/compiler/gcc/14.2.0/include/c++/14.2.0/bits/unique_ptr.h:59:28: note: declared here
59 | template<typename> class auto_ptr;
| ^~~~~~~~
/home/biocbuild/R/R-4.4.3/site-library/BH/include/boost/smart_ptr/shared_ptr.hpp:365:22: warning: ‘template<class> class std::auto_ptr’ is deprecated: use 'std::unique_ptr' instead [-Wdeprecated-declarations]
365 | shared_ptr( std::auto_ptr<Y> && r ): px(r.get()), pn()
| ^~~~~~~~
/opt/ohpc/pub/compiler/gcc/14.2.0/include/c++/14.2.0/bits/unique_ptr.h:59:28: note: declared here
59 | template<typename> class auto_ptr;
| ^~~~~~~~
/home/biocbuild/R/R-4.4.3/site-library/BH/include/boost/smart_ptr/shared_ptr.hpp:423:34: warning: ‘template<class> class std::auto_ptr’ is deprecated: use 'std::unique_ptr' instead [-Wdeprecated-declarations]
423 | shared_ptr & operator=( std::auto_ptr<Y> & r )
| ^~~~~~~~
/opt/ohpc/pub/compiler/gcc/14.2.0/include/c++/14.2.0/bits/unique_ptr.h:59:28: note: declared here
59 | template<typename> class auto_ptr;
| ^~~~~~~~
/home/biocbuild/R/R-4.4.3/site-library/BH/include/boost/smart_ptr/shared_ptr.hpp:430:34: warning: ‘template<class> class std::auto_ptr’ is deprecated: use 'std::unique_ptr' instead [-Wdeprecated-declarations]
430 | shared_ptr & operator=( std::auto_ptr<Y> && r )
| ^~~~~~~~
/opt/ohpc/pub/compiler/gcc/14.2.0/include/c++/14.2.0/bits/unique_ptr.h:59:28: note: declared here
59 | template<typename> class auto_ptr;
| ^~~~~~~~
/home/biocbuild/R/R-4.4.3/site-library/BH/include/boost/smart_ptr/shared_ptr.hpp: In member function ‘boost::shared_ptr<T>& boost::shared_ptr<T>::operator=(std::auto_ptr<_Up>&&)’:
/home/biocbuild/R/R-4.4.3/site-library/BH/include/boost/smart_ptr/shared_ptr.hpp:432:38: warning: ‘template<class> class std::auto_ptr’ is deprecated: use 'std::unique_ptr' instead [-Wdeprecated-declarations]
432 | this_type( static_cast< std::auto_ptr<Y> && >( r ) ).swap( *this );
| ^~~~~~~~
/opt/ohpc/pub/compiler/gcc/14.2.0/include/c++/14.2.0/bits/unique_ptr.h:59:28: note: declared here
59 | template<typename> class auto_ptr;
| ^~~~~~~~
/opt/ohpc/pub/compiler/gcc/14.2.0/bin/aarch64-unknown-linux-gnu-g++ -std=gnu++17 -I"/home/biocbuild/R/R-4.4.3/include" -DNDEBUG -I'/home/biocbuild/R/R-4.4.3/site-library/Rcpp/include' -I'/home/biocbuild/R/R-4.4.3/site-library/BH/include' -I/usr/local/include -fPIC -g -O2 -Wall -c hammingdistance.cpp -o hammingdistance.o
In file included from /home/biocbuild/R/R-4.4.3/site-library/BH/include/boost/smart_ptr/shared_ptr.hpp:17,
from /home/biocbuild/R/R-4.4.3/site-library/BH/include/boost/shared_ptr.hpp:17,
from sequence.h:19,
from hammingdistance.cpp:7:
/home/biocbuild/R/R-4.4.3/site-library/BH/include/boost/smart_ptr/detail/shared_count.hpp:326:33: warning: ‘template<class> class std::auto_ptr’ is deprecated: use 'std::unique_ptr' instead [-Wdeprecated-declarations]
326 | explicit shared_count( std::auto_ptr<Y> & r ): pi_( new sp_counted_impl_p<Y>( r.get() ) )
| ^~~~~~~~
In file included from /opt/ohpc/pub/compiler/gcc/14.2.0/include/c++/14.2.0/memory:78,
from sequence.h:13:
/opt/ohpc/pub/compiler/gcc/14.2.0/include/c++/14.2.0/bits/unique_ptr.h:59:28: note: declared here
59 | template<typename> class auto_ptr;
| ^~~~~~~~
/home/biocbuild/R/R-4.4.3/site-library/BH/include/boost/smart_ptr/shared_ptr.hpp:354:31: warning: ‘template<class> class std::auto_ptr’ is deprecated: use 'std::unique_ptr' instead [-Wdeprecated-declarations]
354 | explicit shared_ptr( std::auto_ptr<Y> & r ): px(r.get()), pn()
| ^~~~~~~~
/opt/ohpc/pub/compiler/gcc/14.2.0/include/c++/14.2.0/bits/unique_ptr.h:59:28: note: declared here
59 | template<typename> class auto_ptr;
| ^~~~~~~~
/home/biocbuild/R/R-4.4.3/site-library/BH/include/boost/smart_ptr/shared_ptr.hpp:365:22: warning: ‘template<class> class std::auto_ptr’ is deprecated: use 'std::unique_ptr' instead [-Wdeprecated-declarations]
365 | shared_ptr( std::auto_ptr<Y> && r ): px(r.get()), pn()
| ^~~~~~~~
/opt/ohpc/pub/compiler/gcc/14.2.0/include/c++/14.2.0/bits/unique_ptr.h:59:28: note: declared here
59 | template<typename> class auto_ptr;
| ^~~~~~~~
/home/biocbuild/R/R-4.4.3/site-library/BH/include/boost/smart_ptr/shared_ptr.hpp:423:34: warning: ‘template<class> class std::auto_ptr’ is deprecated: use 'std::unique_ptr' instead [-Wdeprecated-declarations]
423 | shared_ptr & operator=( std::auto_ptr<Y> & r )
| ^~~~~~~~
/opt/ohpc/pub/compiler/gcc/14.2.0/include/c++/14.2.0/bits/unique_ptr.h:59:28: note: declared here
59 | template<typename> class auto_ptr;
| ^~~~~~~~
/home/biocbuild/R/R-4.4.3/site-library/BH/include/boost/smart_ptr/shared_ptr.hpp:430:34: warning: ‘template<class> class std::auto_ptr’ is deprecated: use 'std::unique_ptr' instead [-Wdeprecated-declarations]
430 | shared_ptr & operator=( std::auto_ptr<Y> && r )
| ^~~~~~~~
/opt/ohpc/pub/compiler/gcc/14.2.0/include/c++/14.2.0/bits/unique_ptr.h:59:28: note: declared here
59 | template<typename> class auto_ptr;
| ^~~~~~~~
/home/biocbuild/R/R-4.4.3/site-library/BH/include/boost/smart_ptr/shared_ptr.hpp: In member function ‘boost::shared_ptr<T>& boost::shared_ptr<T>::operator=(std::auto_ptr<_Up>&&)’:
/home/biocbuild/R/R-4.4.3/site-library/BH/include/boost/smart_ptr/shared_ptr.hpp:432:38: warning: ‘template<class> class std::auto_ptr’ is deprecated: use 'std::unique_ptr' instead [-Wdeprecated-declarations]
432 | this_type( static_cast< std::auto_ptr<Y> && >( r ) ).swap( *this );
| ^~~~~~~~
/opt/ohpc/pub/compiler/gcc/14.2.0/include/c++/14.2.0/bits/unique_ptr.h:59:28: note: declared here
59 | template<typename> class auto_ptr;
| ^~~~~~~~
/opt/ohpc/pub/compiler/gcc/14.2.0/bin/aarch64-unknown-linux-gnu-g++ -std=gnu++17 -I"/home/biocbuild/R/R-4.4.3/include" -DNDEBUG -I'/home/biocbuild/R/R-4.4.3/site-library/Rcpp/include' -I'/home/biocbuild/R/R-4.4.3/site-library/BH/include' -I/usr/local/include -fPIC -g -O2 -Wall -c levenshteindistance.cpp -o levenshteindistance.o
In file included from /home/biocbuild/R/R-4.4.3/site-library/BH/include/boost/smart_ptr/shared_ptr.hpp:17,
from /home/biocbuild/R/R-4.4.3/site-library/BH/include/boost/shared_ptr.hpp:17,
from sequence.h:19,
from levenshteindistance.cpp:7:
/home/biocbuild/R/R-4.4.3/site-library/BH/include/boost/smart_ptr/detail/shared_count.hpp:326:33: warning: ‘template<class> class std::auto_ptr’ is deprecated: use 'std::unique_ptr' instead [-Wdeprecated-declarations]
326 | explicit shared_count( std::auto_ptr<Y> & r ): pi_( new sp_counted_impl_p<Y>( r.get() ) )
| ^~~~~~~~
In file included from /opt/ohpc/pub/compiler/gcc/14.2.0/include/c++/14.2.0/memory:78,
from sequence.h:13:
/opt/ohpc/pub/compiler/gcc/14.2.0/include/c++/14.2.0/bits/unique_ptr.h:59:28: note: declared here
59 | template<typename> class auto_ptr;
| ^~~~~~~~
/home/biocbuild/R/R-4.4.3/site-library/BH/include/boost/smart_ptr/shared_ptr.hpp:354:31: warning: ‘template<class> class std::auto_ptr’ is deprecated: use 'std::unique_ptr' instead [-Wdeprecated-declarations]
354 | explicit shared_ptr( std::auto_ptr<Y> & r ): px(r.get()), pn()
| ^~~~~~~~
/opt/ohpc/pub/compiler/gcc/14.2.0/include/c++/14.2.0/bits/unique_ptr.h:59:28: note: declared here
59 | template<typename> class auto_ptr;
| ^~~~~~~~
/home/biocbuild/R/R-4.4.3/site-library/BH/include/boost/smart_ptr/shared_ptr.hpp:365:22: warning: ‘template<class> class std::auto_ptr’ is deprecated: use 'std::unique_ptr' instead [-Wdeprecated-declarations]
365 | shared_ptr( std::auto_ptr<Y> && r ): px(r.get()), pn()
| ^~~~~~~~
/opt/ohpc/pub/compiler/gcc/14.2.0/include/c++/14.2.0/bits/unique_ptr.h:59:28: note: declared here
59 | template<typename> class auto_ptr;
| ^~~~~~~~
/home/biocbuild/R/R-4.4.3/site-library/BH/include/boost/smart_ptr/shared_ptr.hpp:423:34: warning: ‘template<class> class std::auto_ptr’ is deprecated: use 'std::unique_ptr' instead [-Wdeprecated-declarations]
423 | shared_ptr & operator=( std::auto_ptr<Y> & r )
| ^~~~~~~~
/opt/ohpc/pub/compiler/gcc/14.2.0/include/c++/14.2.0/bits/unique_ptr.h:59:28: note: declared here
59 | template<typename> class auto_ptr;
| ^~~~~~~~
/home/biocbuild/R/R-4.4.3/site-library/BH/include/boost/smart_ptr/shared_ptr.hpp:430:34: warning: ‘template<class> class std::auto_ptr’ is deprecated: use 'std::unique_ptr' instead [-Wdeprecated-declarations]
430 | shared_ptr & operator=( std::auto_ptr<Y> && r )
| ^~~~~~~~
/opt/ohpc/pub/compiler/gcc/14.2.0/include/c++/14.2.0/bits/unique_ptr.h:59:28: note: declared here
59 | template<typename> class auto_ptr;
| ^~~~~~~~
/home/biocbuild/R/R-4.4.3/site-library/BH/include/boost/smart_ptr/shared_ptr.hpp: In member function ‘boost::shared_ptr<T>& boost::shared_ptr<T>::operator=(std::auto_ptr<_Up>&&)’:
/home/biocbuild/R/R-4.4.3/site-library/BH/include/boost/smart_ptr/shared_ptr.hpp:432:38: warning: ‘template<class> class std::auto_ptr’ is deprecated: use 'std::unique_ptr' instead [-Wdeprecated-declarations]
432 | this_type( static_cast< std::auto_ptr<Y> && >( r ) ).swap( *this );
| ^~~~~~~~
/opt/ohpc/pub/compiler/gcc/14.2.0/include/c++/14.2.0/bits/unique_ptr.h:59:28: note: declared here
59 | template<typename> class auto_ptr;
| ^~~~~~~~
/opt/ohpc/pub/compiler/gcc/14.2.0/bin/aarch64-unknown-linux-gnu-g++ -std=gnu++17 -I"/home/biocbuild/R/R-4.4.3/include" -DNDEBUG -I'/home/biocbuild/R/R-4.4.3/site-library/Rcpp/include' -I'/home/biocbuild/R/R-4.4.3/site-library/BH/include' -I/usr/local/include -fPIC -g -O2 -Wall -c phaseshiftdist.cpp -o phaseshiftdist.o
In file included from /home/biocbuild/R/R-4.4.3/site-library/BH/include/boost/smart_ptr/shared_ptr.hpp:17,
from /home/biocbuild/R/R-4.4.3/site-library/BH/include/boost/shared_ptr.hpp:17,
from sequence.h:19,
from phaseshiftdist.cpp:10:
/home/biocbuild/R/R-4.4.3/site-library/BH/include/boost/smart_ptr/detail/shared_count.hpp:326:33: warning: ‘template<class> class std::auto_ptr’ is deprecated: use 'std::unique_ptr' instead [-Wdeprecated-declarations]
326 | explicit shared_count( std::auto_ptr<Y> & r ): pi_( new sp_counted_impl_p<Y>( r.get() ) )
| ^~~~~~~~
In file included from /opt/ohpc/pub/compiler/gcc/14.2.0/include/c++/14.2.0/memory:78,
from sequence.h:13:
/opt/ohpc/pub/compiler/gcc/14.2.0/include/c++/14.2.0/bits/unique_ptr.h:59:28: note: declared here
59 | template<typename> class auto_ptr;
| ^~~~~~~~
/home/biocbuild/R/R-4.4.3/site-library/BH/include/boost/smart_ptr/shared_ptr.hpp:354:31: warning: ‘template<class> class std::auto_ptr’ is deprecated: use 'std::unique_ptr' instead [-Wdeprecated-declarations]
354 | explicit shared_ptr( std::auto_ptr<Y> & r ): px(r.get()), pn()
| ^~~~~~~~
/opt/ohpc/pub/compiler/gcc/14.2.0/include/c++/14.2.0/bits/unique_ptr.h:59:28: note: declared here
59 | template<typename> class auto_ptr;
| ^~~~~~~~
/home/biocbuild/R/R-4.4.3/site-library/BH/include/boost/smart_ptr/shared_ptr.hpp:365:22: warning: ‘template<class> class std::auto_ptr’ is deprecated: use 'std::unique_ptr' instead [-Wdeprecated-declarations]
365 | shared_ptr( std::auto_ptr<Y> && r ): px(r.get()), pn()
| ^~~~~~~~
/opt/ohpc/pub/compiler/gcc/14.2.0/include/c++/14.2.0/bits/unique_ptr.h:59:28: note: declared here
59 | template<typename> class auto_ptr;
| ^~~~~~~~
/home/biocbuild/R/R-4.4.3/site-library/BH/include/boost/smart_ptr/shared_ptr.hpp:423:34: warning: ‘template<class> class std::auto_ptr’ is deprecated: use 'std::unique_ptr' instead [-Wdeprecated-declarations]
423 | shared_ptr & operator=( std::auto_ptr<Y> & r )
| ^~~~~~~~
/opt/ohpc/pub/compiler/gcc/14.2.0/include/c++/14.2.0/bits/unique_ptr.h:59:28: note: declared here
59 | template<typename> class auto_ptr;
| ^~~~~~~~
/home/biocbuild/R/R-4.4.3/site-library/BH/include/boost/smart_ptr/shared_ptr.hpp:430:34: warning: ‘template<class> class std::auto_ptr’ is deprecated: use 'std::unique_ptr' instead [-Wdeprecated-declarations]
430 | shared_ptr & operator=( std::auto_ptr<Y> && r )
| ^~~~~~~~
/opt/ohpc/pub/compiler/gcc/14.2.0/include/c++/14.2.0/bits/unique_ptr.h:59:28: note: declared here
59 | template<typename> class auto_ptr;
| ^~~~~~~~
/home/biocbuild/R/R-4.4.3/site-library/BH/include/boost/smart_ptr/shared_ptr.hpp: In member function ‘boost::shared_ptr<T>& boost::shared_ptr<T>::operator=(std::auto_ptr<_Up>&&)’:
/home/biocbuild/R/R-4.4.3/site-library/BH/include/boost/smart_ptr/shared_ptr.hpp:432:38: warning: ‘template<class> class std::auto_ptr’ is deprecated: use 'std::unique_ptr' instead [-Wdeprecated-declarations]
432 | this_type( static_cast< std::auto_ptr<Y> && >( r ) ).swap( *this );
| ^~~~~~~~
/opt/ohpc/pub/compiler/gcc/14.2.0/include/c++/14.2.0/bits/unique_ptr.h:59:28: note: declared here
59 | template<typename> class auto_ptr;
| ^~~~~~~~
In file included from /home/biocbuild/R/R-4.4.3/site-library/BH/include/boost/foreach.hpp:76,
from phaseshiftdist.cpp:23:
/home/biocbuild/R/R-4.4.3/site-library/BH/include/boost/mpl/assert.hpp: At global scope:
/home/biocbuild/R/R-4.4.3/site-library/BH/include/boost/mpl/assert.hpp:194:21: warning: unnecessary parentheses in declaration of ‘assert_arg’ [-Wparentheses]
194 | failed ************ (Pred::************
| ^~~~~~~~~~~~~~~~~~~
195 | assert_arg( void (*)(Pred), typename assert_arg_pred<Pred>::type )
| ~~~~~~~~~~~~~~~~~~~~~~~~~~~~~~~~~~~~~~~~~~~~~~~~~~~~~~~~~~~~~~~~~~
196 | );
| ~
/home/biocbuild/R/R-4.4.3/site-library/BH/include/boost/mpl/assert.hpp:194:21: note: remove parentheses
194 | failed ************ (Pred::************
| ^~~~~~~~~~~~~~~~~~~
| -
195 | assert_arg( void (*)(Pred), typename assert_arg_pred<Pred>::type )
| ~~~~~~~~~~~~~~~~~~~~~~~~~~~~~~~~~~~~~~~~~~~~~~~~~~~~~~~~~~~~~~~~~~
196 | );
| ~
| -
/home/biocbuild/R/R-4.4.3/site-library/BH/include/boost/mpl/assert.hpp:199:21: warning: unnecessary parentheses in declaration of ‘assert_not_arg’ [-Wparentheses]
199 | failed ************ (boost::mpl::not_<Pred>::************
| ^~~~~~~~~~~~~~~~~~~~~~~~~~~~~~~~~~~~~
200 | assert_not_arg( void (*)(Pred), typename assert_arg_pred_not<Pred>::type )
| ~~~~~~~~~~~~~~~~~~~~~~~~~~~~~~~~~~~~~~~~~~~~~~~~~~~~~~~~~~~~~~~~~~~~~~~~~~
201 | );
| ~
/home/biocbuild/R/R-4.4.3/site-library/BH/include/boost/mpl/assert.hpp:199:21: note: remove parentheses
199 | failed ************ (boost::mpl::not_<Pred>::************
| ^~~~~~~~~~~~~~~~~~~~~~~~~~~~~~~~~~~~~
| -
200 | assert_not_arg( void (*)(Pred), typename assert_arg_pred_not<Pred>::type )
| ~~~~~~~~~~~~~~~~~~~~~~~~~~~~~~~~~~~~~~~~~~~~~~~~~~~~~~~~~~~~~~~~~~~~~~~~~~
201 | );
| ~
| -
/opt/ohpc/pub/compiler/gcc/14.2.0/bin/aarch64-unknown-linux-gnu-g++ -std=gnu++17 -I"/home/biocbuild/R/R-4.4.3/include" -DNDEBUG -I'/home/biocbuild/R/R-4.4.3/site-library/Rcpp/include' -I'/home/biocbuild/R/R-4.4.3/site-library/BH/include' -I/usr/local/include -fPIC -g -O2 -Wall -c sequence.cpp -o sequence.o
In file included from /home/biocbuild/R/R-4.4.3/site-library/BH/include/boost/foreach.hpp:76,
from sequence.cpp:3:
/home/biocbuild/R/R-4.4.3/site-library/BH/include/boost/mpl/assert.hpp:194:21: warning: unnecessary parentheses in declaration of ‘assert_arg’ [-Wparentheses]
194 | failed ************ (Pred::************
| ^~~~~~~~~~~~~~~~~~~
195 | assert_arg( void (*)(Pred), typename assert_arg_pred<Pred>::type )
| ~~~~~~~~~~~~~~~~~~~~~~~~~~~~~~~~~~~~~~~~~~~~~~~~~~~~~~~~~~~~~~~~~~
196 | );
| ~
/home/biocbuild/R/R-4.4.3/site-library/BH/include/boost/mpl/assert.hpp:194:21: note: remove parentheses
194 | failed ************ (Pred::************
| ^~~~~~~~~~~~~~~~~~~
| -
195 | assert_arg( void (*)(Pred), typename assert_arg_pred<Pred>::type )
| ~~~~~~~~~~~~~~~~~~~~~~~~~~~~~~~~~~~~~~~~~~~~~~~~~~~~~~~~~~~~~~~~~~
196 | );
| ~
| -
/home/biocbuild/R/R-4.4.3/site-library/BH/include/boost/mpl/assert.hpp:199:21: warning: unnecessary parentheses in declaration of ‘assert_not_arg’ [-Wparentheses]
199 | failed ************ (boost::mpl::not_<Pred>::************
| ^~~~~~~~~~~~~~~~~~~~~~~~~~~~~~~~~~~~~
200 | assert_not_arg( void (*)(Pred), typename assert_arg_pred_not<Pred>::type )
| ~~~~~~~~~~~~~~~~~~~~~~~~~~~~~~~~~~~~~~~~~~~~~~~~~~~~~~~~~~~~~~~~~~~~~~~~~~
201 | );
| ~
/home/biocbuild/R/R-4.4.3/site-library/BH/include/boost/mpl/assert.hpp:199:21: note: remove parentheses
199 | failed ************ (boost::mpl::not_<Pred>::************
| ^~~~~~~~~~~~~~~~~~~~~~~~~~~~~~~~~~~~~
| -
200 | assert_not_arg( void (*)(Pred), typename assert_arg_pred_not<Pred>::type )
| ~~~~~~~~~~~~~~~~~~~~~~~~~~~~~~~~~~~~~~~~~~~~~~~~~~~~~~~~~~~~~~~~~~~~~~~~~~
201 | );
| ~
| -
In file included from /home/biocbuild/R/R-4.4.3/site-library/BH/include/boost/smart_ptr/shared_ptr.hpp:17,
from /home/biocbuild/R/R-4.4.3/site-library/BH/include/boost/shared_ptr.hpp:17,
from sequence.h:19,
from sequence.cpp:13:
/home/biocbuild/R/R-4.4.3/site-library/BH/include/boost/smart_ptr/detail/shared_count.hpp:326:33: warning: ‘template<class> class std::auto_ptr’ is deprecated: use 'std::unique_ptr' instead [-Wdeprecated-declarations]
326 | explicit shared_count( std::auto_ptr<Y> & r ): pi_( new sp_counted_impl_p<Y>( r.get() ) )
| ^~~~~~~~
In file included from /opt/ohpc/pub/compiler/gcc/14.2.0/include/c++/14.2.0/memory:78,
from sequence.cpp:10:
/opt/ohpc/pub/compiler/gcc/14.2.0/include/c++/14.2.0/bits/unique_ptr.h:59:28: note: declared here
59 | template<typename> class auto_ptr;
| ^~~~~~~~
/home/biocbuild/R/R-4.4.3/site-library/BH/include/boost/smart_ptr/shared_ptr.hpp:354:31: warning: ‘template<class> class std::auto_ptr’ is deprecated: use 'std::unique_ptr' instead [-Wdeprecated-declarations]
354 | explicit shared_ptr( std::auto_ptr<Y> & r ): px(r.get()), pn()
| ^~~~~~~~
/opt/ohpc/pub/compiler/gcc/14.2.0/include/c++/14.2.0/bits/unique_ptr.h:59:28: note: declared here
59 | template<typename> class auto_ptr;
| ^~~~~~~~
/home/biocbuild/R/R-4.4.3/site-library/BH/include/boost/smart_ptr/shared_ptr.hpp:365:22: warning: ‘template<class> class std::auto_ptr’ is deprecated: use 'std::unique_ptr' instead [-Wdeprecated-declarations]
365 | shared_ptr( std::auto_ptr<Y> && r ): px(r.get()), pn()
| ^~~~~~~~
/opt/ohpc/pub/compiler/gcc/14.2.0/include/c++/14.2.0/bits/unique_ptr.h:59:28: note: declared here
59 | template<typename> class auto_ptr;
| ^~~~~~~~
/home/biocbuild/R/R-4.4.3/site-library/BH/include/boost/smart_ptr/shared_ptr.hpp:423:34: warning: ‘template<class> class std::auto_ptr’ is deprecated: use 'std::unique_ptr' instead [-Wdeprecated-declarations]
423 | shared_ptr & operator=( std::auto_ptr<Y> & r )
| ^~~~~~~~
/opt/ohpc/pub/compiler/gcc/14.2.0/include/c++/14.2.0/bits/unique_ptr.h:59:28: note: declared here
59 | template<typename> class auto_ptr;
| ^~~~~~~~
/home/biocbuild/R/R-4.4.3/site-library/BH/include/boost/smart_ptr/shared_ptr.hpp:430:34: warning: ‘template<class> class std::auto_ptr’ is deprecated: use 'std::unique_ptr' instead [-Wdeprecated-declarations]
430 | shared_ptr & operator=( std::auto_ptr<Y> && r )
| ^~~~~~~~
/opt/ohpc/pub/compiler/gcc/14.2.0/include/c++/14.2.0/bits/unique_ptr.h:59:28: note: declared here
59 | template<typename> class auto_ptr;
| ^~~~~~~~
/home/biocbuild/R/R-4.4.3/site-library/BH/include/boost/smart_ptr/shared_ptr.hpp: In member function ‘boost::shared_ptr<T>& boost::shared_ptr<T>::operator=(std::auto_ptr<_Up>&&)’:
/home/biocbuild/R/R-4.4.3/site-library/BH/include/boost/smart_ptr/shared_ptr.hpp:432:38: warning: ‘template<class> class std::auto_ptr’ is deprecated: use 'std::unique_ptr' instead [-Wdeprecated-declarations]
432 | this_type( static_cast< std::auto_ptr<Y> && >( r ) ).swap( *this );
| ^~~~~~~~
/opt/ohpc/pub/compiler/gcc/14.2.0/include/c++/14.2.0/bits/unique_ptr.h:59:28: note: declared here
59 | template<typename> class auto_ptr;
| ^~~~~~~~
/opt/ohpc/pub/compiler/gcc/14.2.0/bin/aarch64-unknown-linux-gnu-g++ -std=gnu++17 -I"/home/biocbuild/R/R-4.4.3/include" -DNDEBUG -I'/home/biocbuild/R/R-4.4.3/site-library/Rcpp/include' -I'/home/biocbuild/R/R-4.4.3/site-library/BH/include' -I/usr/local/include -fPIC -g -O2 -Wall -c sequencelevenshteindistance.cpp -o sequencelevenshteindistance.o
In file included from /home/biocbuild/R/R-4.4.3/site-library/BH/include/boost/smart_ptr/shared_ptr.hpp:17,
from /home/biocbuild/R/R-4.4.3/site-library/BH/include/boost/shared_ptr.hpp:17,
from sequence.h:19,
from sequencelevenshteindistance.cpp:3:
/home/biocbuild/R/R-4.4.3/site-library/BH/include/boost/smart_ptr/detail/shared_count.hpp:326:33: warning: ‘template<class> class std::auto_ptr’ is deprecated: use 'std::unique_ptr' instead [-Wdeprecated-declarations]
326 | explicit shared_count( std::auto_ptr<Y> & r ): pi_( new sp_counted_impl_p<Y>( r.get() ) )
| ^~~~~~~~
In file included from /opt/ohpc/pub/compiler/gcc/14.2.0/include/c++/14.2.0/memory:78,
from sequence.h:13:
/opt/ohpc/pub/compiler/gcc/14.2.0/include/c++/14.2.0/bits/unique_ptr.h:59:28: note: declared here
59 | template<typename> class auto_ptr;
| ^~~~~~~~
/home/biocbuild/R/R-4.4.3/site-library/BH/include/boost/smart_ptr/shared_ptr.hpp:354:31: warning: ‘template<class> class std::auto_ptr’ is deprecated: use 'std::unique_ptr' instead [-Wdeprecated-declarations]
354 | explicit shared_ptr( std::auto_ptr<Y> & r ): px(r.get()), pn()
| ^~~~~~~~
/opt/ohpc/pub/compiler/gcc/14.2.0/include/c++/14.2.0/bits/unique_ptr.h:59:28: note: declared here
59 | template<typename> class auto_ptr;
| ^~~~~~~~
/home/biocbuild/R/R-4.4.3/site-library/BH/include/boost/smart_ptr/shared_ptr.hpp:365:22: warning: ‘template<class> class std::auto_ptr’ is deprecated: use 'std::unique_ptr' instead [-Wdeprecated-declarations]
365 | shared_ptr( std::auto_ptr<Y> && r ): px(r.get()), pn()
| ^~~~~~~~
/opt/ohpc/pub/compiler/gcc/14.2.0/include/c++/14.2.0/bits/unique_ptr.h:59:28: note: declared here
59 | template<typename> class auto_ptr;
| ^~~~~~~~
/home/biocbuild/R/R-4.4.3/site-library/BH/include/boost/smart_ptr/shared_ptr.hpp:423:34: warning: ‘template<class> class std::auto_ptr’ is deprecated: use 'std::unique_ptr' instead [-Wdeprecated-declarations]
423 | shared_ptr & operator=( std::auto_ptr<Y> & r )
| ^~~~~~~~
/opt/ohpc/pub/compiler/gcc/14.2.0/include/c++/14.2.0/bits/unique_ptr.h:59:28: note: declared here
59 | template<typename> class auto_ptr;
| ^~~~~~~~
/home/biocbuild/R/R-4.4.3/site-library/BH/include/boost/smart_ptr/shared_ptr.hpp:430:34: warning: ‘template<class> class std::auto_ptr’ is deprecated: use 'std::unique_ptr' instead [-Wdeprecated-declarations]
430 | shared_ptr & operator=( std::auto_ptr<Y> && r )
| ^~~~~~~~
/opt/ohpc/pub/compiler/gcc/14.2.0/include/c++/14.2.0/bits/unique_ptr.h:59:28: note: declared here
59 | template<typename> class auto_ptr;
| ^~~~~~~~
/home/biocbuild/R/R-4.4.3/site-library/BH/include/boost/smart_ptr/shared_ptr.hpp: In member function ‘boost::shared_ptr<T>& boost::shared_ptr<T>::operator=(std::auto_ptr<_Up>&&)’:
/home/biocbuild/R/R-4.4.3/site-library/BH/include/boost/smart_ptr/shared_ptr.hpp:432:38: warning: ‘template<class> class std::auto_ptr’ is deprecated: use 'std::unique_ptr' instead [-Wdeprecated-declarations]
432 | this_type( static_cast< std::auto_ptr<Y> && >( r ) ).swap( *this );
| ^~~~~~~~
/opt/ohpc/pub/compiler/gcc/14.2.0/include/c++/14.2.0/bits/unique_ptr.h:59:28: note: declared here
59 | template<typename> class auto_ptr;
| ^~~~~~~~
/opt/ohpc/pub/compiler/gcc/14.2.0/bin/aarch64-unknown-linux-gnu-g++ -std=gnu++17 -shared -L/home/biocbuild/R/R-4.4.3/lib -L/usr/local/lib -o DNABarcodeCompatibility.so DNABarcodes_init.o RcppExports.o cachedistance.o create_distance_func.o distance_for_R.o hammingdistance.o levenshteindistance.o phaseshiftdist.o sequence.o sequencelevenshteindistance.o -L/home/biocbuild/R/R-4.4.3/lib -lR
installing to /home/biocbuild/R/R-4.4.3/site-library/00LOCK-DNABarcodeCompatibility/00new/DNABarcodeCompatibility/libs
** R
** data
*** moving datasets to lazyload DB
** inst
** byte-compile and prepare package for lazy loading
** help
*** installing help indices
** building package indices
** installing vignettes
** testing if installed package can be loaded from temporary location
** checking absolute paths in shared objects and dynamic libraries
** testing if installed package can be loaded from final location
** testing if installed package keeps a record of temporary installation path
* DONE (DNABarcodeCompatibility)
DNABarcodeCompatibility.Rcheck/tests/testthat.Rout
R version 4.4.3 (2025-02-28) -- "Trophy Case"
Copyright (C) 2025 The R Foundation for Statistical Computing
Platform: aarch64-unknown-linux-gnu
R is free software and comes with ABSOLUTELY NO WARRANTY.
You are welcome to redistribute it under certain conditions.
Type 'license()' or 'licence()' for distribution details.
R is a collaborative project with many contributors.
Type 'contributors()' for more information and
'citation()' on how to cite R or R packages in publications.
Type 'demo()' for some demos, 'help()' for on-line help, or
'help.start()' for an HTML browser interface to help.
Type 'q()' to quit R.
> library(testthat)
> library(DNABarcodeCompatibility)
>
> test_check("DNABarcodeCompatibility")
[ FAIL 0 | WARN 0 | SKIP 0 | PASS 1 ]
>
> proc.time()
user system elapsed
1.325 0.082 1.395
DNABarcodeCompatibility.Rcheck/DNABarcodeCompatibility-Ex.timings
| name | user | system | elapsed | |
| distance | 0.001 | 0.000 | 0.001 | |
| distance_filter | 1.264 | 0.036 | 1.302 | |
| experiment_design | 1.523 | 0.000 | 1.527 | |
| file_loading_and_checking | 0.017 | 0.000 | 0.018 | |
| get_all_combinations | 0.600 | 0.000 | 0.602 | |
| get_random_combinations | 1.015 | 0.000 | 1.018 | |
| optimize_combinations | 5.164 | 0.040 | 5.216 | |