| Back to Multiple platform build/check report for BioC 3.20: simplified long |
|
This page was generated on 2025-04-02 19:28 -0400 (Wed, 02 Apr 2025).
| Hostname | OS | Arch (*) | R version | Installed pkgs |
|---|---|---|---|---|
| nebbiolo2 | Linux (Ubuntu 24.04.1 LTS) | x86_64 | 4.4.3 (2025-02-28) -- "Trophy Case" | 4764 |
| palomino8 | Windows Server 2022 Datacenter | x64 | 4.4.3 (2025-02-28 ucrt) -- "Trophy Case" | 4495 |
| merida1 | macOS 12.7.5 Monterey | x86_64 | 4.4.3 (2025-02-28) -- "Trophy Case" | 4522 |
| kjohnson1 | macOS 13.6.6 Ventura | arm64 | 4.4.3 (2025-02-28) -- "Trophy Case" | 4449 |
| taishan | Linux (openEuler 24.03 LTS) | aarch64 | 4.4.3 (2025-02-28) -- "Trophy Case" | 4426 |
| Click on any hostname to see more info about the system (e.g. compilers) (*) as reported by 'uname -p', except on Windows and Mac OS X | ||||
| Package 492/2289 | Hostname | OS / Arch | INSTALL | BUILD | CHECK | BUILD BIN | ||||||||
| CytoMDS 1.2.0 (landing page) Philippe Hauchamps
| nebbiolo2 | Linux (Ubuntu 24.04.1 LTS) / x86_64 | OK | OK | OK | |||||||||
| palomino8 | Windows Server 2022 Datacenter / x64 | OK | OK | OK | OK | |||||||||
| merida1 | macOS 12.7.5 Monterey / x86_64 | OK | OK | OK | OK | |||||||||
| kjohnson1 | macOS 13.6.6 Ventura / arm64 | OK | OK | OK | OK | |||||||||
| taishan | Linux (openEuler 24.03 LTS) / aarch64 | OK | OK | OK | ||||||||||
|
To the developers/maintainers of the CytoMDS package: - Allow up to 24 hours (and sometimes 48 hours) for your latest push to git@git.bioconductor.org:packages/CytoMDS.git to reflect on this report. See Troubleshooting Build Report for more information. - Use the following Renviron settings to reproduce errors and warnings. - If 'R CMD check' started to fail recently on the Linux builder(s) over a missing dependency, add the missing dependency to 'Suggests:' in your DESCRIPTION file. See Renviron.bioc for more information. |
| Package: CytoMDS |
| Version: 1.2.0 |
| Command: /home/biocbuild/bbs-3.20-bioc/R/bin/R CMD check --install=check:CytoMDS.install-out.txt --library=/home/biocbuild/bbs-3.20-bioc/R/site-library --timings CytoMDS_1.2.0.tar.gz |
| StartedAt: 2025-03-31 21:17:52 -0400 (Mon, 31 Mar 2025) |
| EndedAt: 2025-03-31 21:25:40 -0400 (Mon, 31 Mar 2025) |
| EllapsedTime: 468.4 seconds |
| RetCode: 0 |
| Status: OK |
| CheckDir: CytoMDS.Rcheck |
| Warnings: 0 |
##############################################################################
##############################################################################
###
### Running command:
###
### /home/biocbuild/bbs-3.20-bioc/R/bin/R CMD check --install=check:CytoMDS.install-out.txt --library=/home/biocbuild/bbs-3.20-bioc/R/site-library --timings CytoMDS_1.2.0.tar.gz
###
##############################################################################
##############################################################################
* using log directory ‘/home/biocbuild/bbs-3.20-bioc/meat/CytoMDS.Rcheck’
* using R version 4.4.3 (2025-02-28)
* using platform: x86_64-pc-linux-gnu
* R was compiled by
gcc (Ubuntu 13.3.0-6ubuntu2~24.04) 13.3.0
GNU Fortran (Ubuntu 13.3.0-6ubuntu2~24.04) 13.3.0
* running under: Ubuntu 24.04.2 LTS
* using session charset: UTF-8
* checking for file ‘CytoMDS/DESCRIPTION’ ... OK
* this is package ‘CytoMDS’ version ‘1.2.0’
* package encoding: UTF-8
* checking package namespace information ... OK
* checking package dependencies ... OK
* checking if this is a source package ... OK
* checking if there is a namespace ... OK
* checking for hidden files and directories ... OK
* checking for portable file names ... OK
* checking for sufficient/correct file permissions ... OK
* checking whether package ‘CytoMDS’ can be installed ... OK
* checking installed package size ... OK
* checking package directory ... OK
* checking ‘build’ directory ... OK
* checking DESCRIPTION meta-information ... OK
* checking top-level files ... NOTE
File
LICENSE
is not mentioned in the DESCRIPTION file.
* checking for left-over files ... OK
* checking index information ... OK
* checking package subdirectories ... OK
* checking code files for non-ASCII characters ... OK
* checking R files for syntax errors ... OK
* checking whether the package can be loaded ... OK
* checking whether the package can be loaded with stated dependencies ... OK
* checking whether the package can be unloaded cleanly ... OK
* checking whether the namespace can be loaded with stated dependencies ... OK
* checking whether the namespace can be unloaded cleanly ... OK
* checking loading without being on the library search path ... OK
* checking dependencies in R code ... OK
* checking S3 generic/method consistency ... OK
* checking replacement functions ... OK
* checking foreign function calls ... OK
* checking R code for possible problems ... OK
* checking Rd files ... OK
* checking Rd metadata ... OK
* checking Rd cross-references ... OK
* checking for missing documentation entries ... OK
* checking for code/documentation mismatches ... OK
* checking Rd \usage sections ... OK
* checking Rd contents ... OK
* checking for unstated dependencies in examples ... OK
* checking files in ‘vignettes’ ... OK
* checking examples ... OK
* checking for unstated dependencies in ‘tests’ ... OK
* checking tests ...
Running ‘testthat.R’
OK
* checking for unstated dependencies in vignettes ... OK
* checking package vignettes ... OK
* checking re-building of vignette outputs ... OK
* checking PDF version of manual ... OK
* DONE
Status: 1 NOTE
See
‘/home/biocbuild/bbs-3.20-bioc/meat/CytoMDS.Rcheck/00check.log’
for details.
CytoMDS.Rcheck/00install.out
############################################################################## ############################################################################## ### ### Running command: ### ### /home/biocbuild/bbs-3.20-bioc/R/bin/R CMD INSTALL CytoMDS ### ############################################################################## ############################################################################## * installing to library ‘/home/biocbuild/bbs-3.20-bioc/R/site-library’ * installing *source* package ‘CytoMDS’ ... ** using staged installation ** R ** inst ** byte-compile and prepare package for lazy loading ** help *** installing help indices ** building package indices ** installing vignettes ** testing if installed package can be loaded from temporary location ** testing if installed package can be loaded from final location ** testing if installed package keeps a record of temporary installation path * DONE (CytoMDS)
CytoMDS.Rcheck/tests/testthat.Rout
R version 4.4.3 (2025-02-28) -- "Trophy Case"
Copyright (C) 2025 The R Foundation for Statistical Computing
Platform: x86_64-pc-linux-gnu
R is free software and comes with ABSOLUTELY NO WARRANTY.
You are welcome to redistribute it under certain conditions.
Type 'license()' or 'licence()' for distribution details.
R is a collaborative project with many contributors.
Type 'contributors()' for more information and
'citation()' on how to cite R or R packages in publications.
Type 'demo()' for some demos, 'help()' for on-line help, or
'help.start()' for an HTML browser interface to help.
Type 'q()' to quit R.
> # CytoMDS - Copyright (C) <2023-2024>
> # <Université catholique de Louvain (UCLouvain), Belgique>
> #
> # Description and complete License: see LICENSE file.
> #
> # This program (CytoMDS) is free software:
> # you can redistribute it and/or modify it under the terms of the GNU General
> # Public License as published by the Free Software Foundation,
> # either version 3 of the License, or (at your option) any later version.
> #
> # This program is distributed in the hope that it will be useful,
> # but WITHOUT ANY WARRANTY; without even the implied warranty of
> # MERCHANTABILITY or FITNESS FOR A PARTICULAR PURPOSE. See the
> # GNU General Public License for more details (<http://www.gnu.org/licenses/>).
>
> # This file is part of the standard setup for testthat.
> # It is recommended that you do not modify it.
> #
> # Where should you do additional test configuration?
> # Learn more about the roles of various files in:
> # * https://r-pkgs.org/tests.html
> # * https://testthat.r-lib.org/reference/test_package.html#special-files
>
> library(testthat)
> library(CytoMDS)
>
> test_check("CytoMDS")
|
| | 0%
|
|=================================== | 50%
|
|======================================================================| 100%
|
| | 0%
|
|======================================================================| 100%
|
| | 0%
|
|=================================== | 50%
|
|======================================================================| 100%
|
| | 0%
|
|================== | 25%
|
|=================================== | 50%
|
|==================================================== | 75%
|
|======================================================================| 100%
|
| | 0%
|
|=================================== | 50%
|
|======================================================================| 100%
|
| | 0%
|
|================== | 25%
|
|=================================== | 50%
|
|==================================================== | 75%
|
|======================================================================| 100%
|
| | 0%
|
|=================================== | 50%
|
|======================================================================| 100%
|
| | 0%
|
|======================================================================| 100%
|
| | 0%
|
|=================================== | 50%
|
|======================================================================| 100%
|
| | 0%
|
|================== | 25%
|
|=================================== | 50%
|
|==================================================== | 75%
|
|======================================================================| 100%
|
| | 0%
|
|=================================== | 50%
|
|======================================================================| 100%
|
| | 0%
|
|================== | 25%
|
|=================================== | 50%
|
|==================================================== | 75%
|
|======================================================================| 100%
|
| | 0%
|
|================== | 25%
|
|=================================== | 50%
|
|==================================================== | 75%
|
|======================================================================| 100%
|
| | 0%
|
|============ | 17%
|
|======================= | 33%
|
|=================================== | 50%
|
|=============================================== | 67%
|
|========================================================== | 83%
|
|======================================================================| 100%
|
| | 0%
|
|================== | 25%
|
|=================================== | 50%
|
|==================================================== | 75%
|
|======================================================================| 100%
[ FAIL 0 | WARN 0 | SKIP 3 | PASS 307 ]
══ Skipped tests (3) ═══════════════════════════════════════════════════════════
• On CRAN (3): 'test-ggplots.R:67:5', 'test-ggplots.R:184:5',
'test-ggplots.R:617:5'
[ FAIL 0 | WARN 0 | SKIP 3 | PASS 307 ]
Deleting unused snapshots:
• ggplots/ggplotmarginaldensities-nothing.svg
• ggplots/ggplotmarginaldensities-with-channels-with-translist.svg
• ggplots/ggplotmarginaldensities-with-flowframe.svg
• ggplots/ggplotmarginaldensities-with-groupby-and-colourby.svg
• ggplots/ggplotmarginaldensities-with-groupby-and-same-colourby.svg
• ggplots/ggplotmarginaldensities-with-groupby.svg
• ggplots/ggplotmarginaldensities-with-sample-subset.svg
• ggplots/ggplotmarginaldensities-with-subsampling.svg
• ggplots/ggplotsamplemds-arrowthreshold-subset.svg
• ggplots/ggplotsamplemds-arrowthreshold.svg
• ggplots/ggplotsamplemds-axes-1-2-biplot-arrow-label-size.svg
• ggplots/ggplotsamplemds-axes-1-2-biplot-regression-nas.svg
• ggplots/ggplotsamplemds-axes-1-2-biplot-regression.svg
• ggplots/ggplotsamplemds-axes-3-4-biplot-regression.svg
• ggplots/ggplotsamplemds-minimal-call.svg
• ggplots/ggplotsamplemds-no-arrow-label.svg
• ggplots/ggplotsamplemds-no-point-labels.svg
• ggplots/ggplotsamplemds-with-axes-1-and-2-and-extvars-invalid.svg
• ggplots/ggplotsamplemds-with-axes-1-and-2-and-extvars-nas.svg
• ggplots/ggplotsamplemds-with-axes-1-and-2-and-extvars.svg
• ggplots/ggplotsamplemds-with-axes-1-and-2-explicit-labels.svg
• ggplots/ggplotsamplemds-with-axes-1-and-2-no-labels.svg
• ggplots/ggplotsamplemds-with-axes-1-and-2-real.svg
• ggplots/ggplotsamplemds-with-axes-3-and-4-and-extvars.svg
• ggplots/ggplotsamplemds-with-axes-3-and-4.svg
• ggplots/ggplotsamplemds-with-flipx-y.svg
• ggplots/ggplotsamplemds-with-flipx.svg
• ggplots/ggplotsamplemds-with-pointlabelsize.svg
• ggplots/ggplotsamplemds-with-sizereflectingstress.svg
• ggplots/ggplotsamplemdsshepard-with-3-dimensions.svg
• ggplots/ggplotsamplemdsshepard-with-default-dim-nb.svg
• ggplots/ggplotsamplemdsshepard-with-explicit-graphical-params.svg
• ggplots/ggplotsampmds-with-bipl-flpx-y.svg
>
> proc.time()
user system elapsed
94.896 2.580 221.135
CytoMDS.Rcheck/CytoMDS-Ex.timings
| name | user | system | elapsed | |
| EMDDist | 0.545 | 0.010 | 0.557 | |
| MDS | 1.779 | 0.070 | 1.850 | |
| channelSummaryStats | 1.994 | 0.049 | 2.042 | |
| computeMetricMDS | 2.355 | 0.040 | 2.396 | |
| ggplotMarginalDensities | 1.520 | 0.115 | 1.636 | |
| ggplotSampleMDS | 4.727 | 0.038 | 4.764 | |
| ggplotSampleMDSShepard | 2.568 | 0.013 | 2.582 | |
| ggplotSampleMDSWrapBiplots | 4.497 | 0.057 | 4.554 | |
| pairwiseEMDDist | 1.212 | 0.001 | 1.212 | |