| Back to Multiple platform build/check report for BioC 3.20: simplified long |
|
This page was generated on 2025-04-02 19:33 -0400 (Wed, 02 Apr 2025).
| Hostname | OS | Arch (*) | R version | Installed pkgs |
|---|---|---|---|---|
| nebbiolo2 | Linux (Ubuntu 24.04.1 LTS) | x86_64 | 4.4.3 (2025-02-28) -- "Trophy Case" | 4764 |
| palomino8 | Windows Server 2022 Datacenter | x64 | 4.4.3 (2025-02-28 ucrt) -- "Trophy Case" | 4495 |
| merida1 | macOS 12.7.5 Monterey | x86_64 | 4.4.3 (2025-02-28) -- "Trophy Case" | 4522 |
| kjohnson1 | macOS 13.6.6 Ventura | arm64 | 4.4.3 (2025-02-28) -- "Trophy Case" | 4449 |
| taishan | Linux (openEuler 24.03 LTS) | aarch64 | 4.4.3 (2025-02-28) -- "Trophy Case" | 4426 |
| Click on any hostname to see more info about the system (e.g. compilers) (*) as reported by 'uname -p', except on Windows and Mac OS X | ||||
| Package 486/2289 | Hostname | OS / Arch | INSTALL | BUILD | CHECK | BUILD BIN | ||||||||
| CyTOFpower 1.12.1 (landing page) Anne-Maud Ferreira
| nebbiolo2 | Linux (Ubuntu 24.04.1 LTS) / x86_64 | OK | OK | OK | |||||||||
| palomino8 | Windows Server 2022 Datacenter / x64 | OK | OK | OK | OK | |||||||||
| merida1 | macOS 12.7.5 Monterey / x86_64 | OK | OK | OK | OK | |||||||||
| kjohnson1 | macOS 13.6.6 Ventura / arm64 | OK | OK | OK | OK | |||||||||
| taishan | Linux (openEuler 24.03 LTS) / aarch64 | OK | OK | OK | ||||||||||
|
To the developers/maintainers of the CyTOFpower package: - Allow up to 24 hours (and sometimes 48 hours) for your latest push to git@git.bioconductor.org:packages/CyTOFpower.git to reflect on this report. See Troubleshooting Build Report for more information. - Use the following Renviron settings to reproduce errors and warnings. - If 'R CMD check' started to fail recently on the Linux builder(s) over a missing dependency, add the missing dependency to 'Suggests:' in your DESCRIPTION file. See Renviron.bioc for more information. |
| Package: CyTOFpower |
| Version: 1.12.1 |
| Command: /Library/Frameworks/R.framework/Resources/bin/R CMD check --install=check:CyTOFpower.install-out.txt --library=/Library/Frameworks/R.framework/Resources/library --no-vignettes --timings CyTOFpower_1.12.1.tar.gz |
| StartedAt: 2025-04-01 16:12:49 -0400 (Tue, 01 Apr 2025) |
| EndedAt: 2025-04-01 16:13:59 -0400 (Tue, 01 Apr 2025) |
| EllapsedTime: 70.1 seconds |
| RetCode: 0 |
| Status: OK |
| CheckDir: CyTOFpower.Rcheck |
| Warnings: 0 |
##############################################################################
##############################################################################
###
### Running command:
###
### /Library/Frameworks/R.framework/Resources/bin/R CMD check --install=check:CyTOFpower.install-out.txt --library=/Library/Frameworks/R.framework/Resources/library --no-vignettes --timings CyTOFpower_1.12.1.tar.gz
###
##############################################################################
##############################################################################
* using log directory ‘/Users/biocbuild/bbs-3.20-bioc/meat/CyTOFpower.Rcheck’
* using R version 4.4.3 (2025-02-28)
* using platform: aarch64-apple-darwin20
* R was compiled by
Apple clang version 14.0.0 (clang-1400.0.29.202)
GNU Fortran (GCC) 12.2.0
* running under: macOS Ventura 13.7.1
* using session charset: UTF-8
* using option ‘--no-vignettes’
* checking for file ‘CyTOFpower/DESCRIPTION’ ... OK
* checking extension type ... Package
* this is package ‘CyTOFpower’ version ‘1.12.1’
* package encoding: UTF-8
* checking package namespace information ... OK
* checking package dependencies ... OK
* checking if this is a source package ... OK
* checking if there is a namespace ... OK
* checking for hidden files and directories ... OK
* checking for portable file names ... OK
* checking for sufficient/correct file permissions ... OK
* checking whether package ‘CyTOFpower’ can be installed ... OK
* checking installed package size ... OK
* checking package directory ... OK
* checking ‘build’ directory ... OK
* checking DESCRIPTION meta-information ... OK
* checking top-level files ... OK
* checking for left-over files ... OK
* checking index information ... OK
* checking package subdirectories ... NOTE
Problems with news in ‘NEWS’:
Cannot process chunk/lines:
Changes in version 0.99.0 (2021-09-15)
* checking code files for non-ASCII characters ... OK
* checking R files for syntax errors ... OK
* checking whether the package can be loaded ... OK
* checking whether the package can be loaded with stated dependencies ... OK
* checking whether the package can be unloaded cleanly ... OK
* checking whether the namespace can be loaded with stated dependencies ... OK
* checking whether the namespace can be unloaded cleanly ... OK
* checking dependencies in R code ... OK
* checking S3 generic/method consistency ... OK
* checking replacement functions ... OK
* checking foreign function calls ... OK
* checking R code for possible problems ... OK
* checking Rd files ... OK
* checking Rd metadata ... OK
* checking Rd cross-references ... OK
* checking for missing documentation entries ... OK
* checking for code/documentation mismatches ... OK
* checking Rd \usage sections ... OK
* checking Rd contents ... OK
* checking for unstated dependencies in examples ... OK
* checking files in ‘vignettes’ ... OK
* checking examples ... OK
* checking for unstated dependencies in ‘tests’ ... OK
* checking tests ...
Running ‘testthat.R’
OK
* checking for unstated dependencies in vignettes ... OK
* checking package vignettes ... OK
* checking running R code from vignettes ... SKIPPED
* checking re-building of vignette outputs ... SKIPPED
* checking PDF version of manual ... OK
* DONE
Status: 1 NOTE
See
‘/Users/biocbuild/bbs-3.20-bioc/meat/CyTOFpower.Rcheck/00check.log’
for details.
CyTOFpower.Rcheck/00install.out
############################################################################## ############################################################################## ### ### Running command: ### ### /Library/Frameworks/R.framework/Resources/bin/R CMD INSTALL CyTOFpower ### ############################################################################## ############################################################################## * installing to library ‘/Library/Frameworks/R.framework/Versions/4.4-arm64/Resources/library’ * installing *source* package ‘CyTOFpower’ ... ** using staged installation ** R ** inst ** byte-compile and prepare package for lazy loading ** help *** installing help indices ** building package indices ** installing vignettes ** testing if installed package can be loaded from temporary location ** testing if installed package can be loaded from final location ** testing if installed package keeps a record of temporary installation path * DONE (CyTOFpower)
CyTOFpower.Rcheck/tests/testthat.Rout
R version 4.4.3 (2025-02-28) -- "Trophy Case"
Copyright (C) 2025 The R Foundation for Statistical Computing
Platform: aarch64-apple-darwin20
R is free software and comes with ABSOLUTELY NO WARRANTY.
You are welcome to redistribute it under certain conditions.
Type 'license()' or 'licence()' for distribution details.
R is a collaborative project with many contributors.
Type 'contributors()' for more information and
'citation()' on how to cite R or R packages in publications.
Type 'demo()' for some demos, 'help()' for on-line help, or
'help.start()' for an HTML browser interface to help.
Type 'q()' to quit R.
> library(testthat)
> library(CyTOFpower)
>
> test_check("CyTOFpower")
[[1]]
marker_name nb_donor rho subject_effect mu0 dispersion nb_cell_per_sample
1 m1 3 1 0.1 10 3 1
[[2]]
marker_name nb_donor rho subject_effect mu0 dispersion nb_cell_per_sample
1 m2 3 1.1 0.1 10 3 1
marker_name nb_donor rho subject_effect mu0 dispersion nb_cell_per_sample
1 m1 3 1.0 0.1 10 3 3
2 m2 3 1.1 0.1 10 3 3
3 m3 3 1.0 0.1 10 3 3
marker_name nb_donor rho subject_effect mu0 dispersion nb_cell_per_sample
1 m1 3 1.0 0.1 10 3 3
2 m2 3 1.1 0.1 10 3 3
3 m3 3 1.0 0.1 10 3 3
marker_name nb_donor rho subject_effect mu0 dispersion nb_cell_per_sample
1 m1 3 1.0 0.1 10 3 3
2 m2 3 1.1 0.1 10 3 3
3 m3 3 1.0 0.1 10 3 3
[[1]]
marker_name nb_donor rho subject_effect mu0 dispersion nb_cell_per_sample
1 m1 3 1 0.1 10 3 3
[[2]]
marker_name nb_donor rho subject_effect mu0 dispersion nb_cell_per_sample
1 m2 3 1.1 0.1 10 3 3
[[3]]
marker_name nb_donor rho subject_effect mu0 dispersion nb_cell_per_sample
1 m3 3 1 0.1 10 3 3
[[1]]
marker_name nb_donor rho subject_effect mu0 dispersion nb_cell_per_sample
1 m1 3 1 0.1 10 3 3
[[2]]
marker_name nb_donor rho subject_effect mu0 dispersion nb_cell_per_sample
1 m2 3 1.1 0.1 10 3 3
[[3]]
marker_name nb_donor rho subject_effect mu0 dispersion nb_cell_per_sample
1 m3 3 1 0.1 10 3 3
[[1]]
marker_name nb_donor rho subject_effect mu0 dispersion nb_cell_per_sample
1 m1 3 1 0.1 10 3 3
[[2]]
marker_name nb_donor rho subject_effect mu0 dispersion nb_cell_per_sample
1 m2 3 1.1 0.1 10 3 3
[[3]]
marker_name nb_donor rho subject_effect mu0 dispersion nb_cell_per_sample
1 m3 3 1 0.1 10 3 3
Joining with `by = join_by(markers)`
Joining with `by = join_by(markers)`
boundary (singular) fit: see help('isSingular')
Fitting linear models with random effects term for 'block_id'.
boundary (singular) fit: see help('isSingular')
Run the limma model with random effect
Fitting linear models with random effects term for 'block_id'.
Run the limma model with fixed effect
Run the LMM model with random effect
boundary (singular) fit: see help('isSingular')
marker_name nb_donor rho subject_effect mu0 dispersion nb_cell_per_sample
1 m1 3 1.0 0.1 10 3 3
2 m2 3 1.1 0.1 10 3 3
3 m3 3 1.0 0.1 10 3 3
marker_name nb_donor rho subject_effect mu0 dispersion nb_cell_per_sample
1 m1 3 1.0 0.1 10 3 3
2 m2 3 1.1 0.1 10 3 3
3 m3 3 1.0 0.1 10 3 3
Run the limma model with random effect
Fitting linear models with random effects term for 'block_id'.
marker_name nb_donor rho subject_effect mu0 dispersion nb_cell_per_sample
1 m1 3 1.0 0.1 10 3 3
2 m2 3 1.1 0.1 10 3 3
3 m3 3 1.0 0.1 10 3 3
Run the limma model with fixed effect
marker_name nb_donor rho subject_effect mu0 dispersion nb_cell_per_sample
1 m1 3 1.0 0.1 10 3 3
2 m2 3 1.1 0.1 10 3 3
3 m3 3 1.0 0.1 10 3 3
Run the LMM model with random effect
boundary (singular) fit: see help('isSingular')
Run the LMM model with random effect
boundary (singular) fit: see help('isSingular')
[ FAIL 0 | WARN 33 | SKIP 0 | PASS 68 ]
[ FAIL 0 | WARN 33 | SKIP 0 | PASS 68 ]
>
> proc.time()
user system elapsed
17.737 1.024 18.860
CyTOFpower.Rcheck/CyTOFpower-Ex.timings
| name | user | system | elapsed | |
| CyTOFpower | 0 | 0 | 0 | |