| Back to Multiple platform build/check report for BioC 3.20: simplified long |
|
This page was generated on 2025-04-02 19:28 -0400 (Wed, 02 Apr 2025).
| Hostname | OS | Arch (*) | R version | Installed pkgs |
|---|---|---|---|---|
| nebbiolo2 | Linux (Ubuntu 24.04.1 LTS) | x86_64 | 4.4.3 (2025-02-28) -- "Trophy Case" | 4764 |
| palomino8 | Windows Server 2022 Datacenter | x64 | 4.4.3 (2025-02-28 ucrt) -- "Trophy Case" | 4495 |
| merida1 | macOS 12.7.5 Monterey | x86_64 | 4.4.3 (2025-02-28) -- "Trophy Case" | 4522 |
| kjohnson1 | macOS 13.6.6 Ventura | arm64 | 4.4.3 (2025-02-28) -- "Trophy Case" | 4449 |
| taishan | Linux (openEuler 24.03 LTS) | aarch64 | 4.4.3 (2025-02-28) -- "Trophy Case" | 4426 |
| Click on any hostname to see more info about the system (e.g. compilers) (*) as reported by 'uname -p', except on Windows and Mac OS X | ||||
| Package 441/2289 | Hostname | OS / Arch | INSTALL | BUILD | CHECK | BUILD BIN | ||||||||
| CoSIA 1.6.0 (landing page) Amanda D. Clark
| nebbiolo2 | Linux (Ubuntu 24.04.1 LTS) / x86_64 | OK | OK | OK | |||||||||
| palomino8 | Windows Server 2022 Datacenter / x64 | OK | OK | OK | OK | |||||||||
| merida1 | macOS 12.7.5 Monterey / x86_64 | OK | OK | TIMEOUT | OK | |||||||||
| kjohnson1 | macOS 13.6.6 Ventura / arm64 | OK | OK | OK | OK | |||||||||
| taishan | Linux (openEuler 24.03 LTS) / aarch64 | OK | OK | OK | ||||||||||
|
To the developers/maintainers of the CoSIA package: - Allow up to 24 hours (and sometimes 48 hours) for your latest push to git@git.bioconductor.org:packages/CoSIA.git to reflect on this report. See Troubleshooting Build Report for more information. - Use the following Renviron settings to reproduce errors and warnings. - If 'R CMD check' started to fail recently on the Linux builder(s) over a missing dependency, add the missing dependency to 'Suggests:' in your DESCRIPTION file. See Renviron.bioc for more information. |
| Package: CoSIA |
| Version: 1.6.0 |
| Command: /home/biocbuild/bbs-3.20-bioc/R/bin/R CMD check --install=check:CoSIA.install-out.txt --library=/home/biocbuild/bbs-3.20-bioc/R/site-library --timings CoSIA_1.6.0.tar.gz |
| StartedAt: 2025-03-31 21:05:36 -0400 (Mon, 31 Mar 2025) |
| EndedAt: 2025-03-31 21:33:04 -0400 (Mon, 31 Mar 2025) |
| EllapsedTime: 1647.7 seconds |
| RetCode: 0 |
| Status: OK |
| CheckDir: CoSIA.Rcheck |
| Warnings: 0 |
##############################################################################
##############################################################################
###
### Running command:
###
### /home/biocbuild/bbs-3.20-bioc/R/bin/R CMD check --install=check:CoSIA.install-out.txt --library=/home/biocbuild/bbs-3.20-bioc/R/site-library --timings CoSIA_1.6.0.tar.gz
###
##############################################################################
##############################################################################
* using log directory ‘/home/biocbuild/bbs-3.20-bioc/meat/CoSIA.Rcheck’
* using R version 4.4.3 (2025-02-28)
* using platform: x86_64-pc-linux-gnu
* R was compiled by
gcc (Ubuntu 13.3.0-6ubuntu2~24.04) 13.3.0
GNU Fortran (Ubuntu 13.3.0-6ubuntu2~24.04) 13.3.0
* running under: Ubuntu 24.04.2 LTS
* using session charset: UTF-8
* checking for file ‘CoSIA/DESCRIPTION’ ... OK
* checking extension type ... Package
* this is package ‘CoSIA’ version ‘1.6.0’
* package encoding: UTF-8
* checking package namespace information ... OK
* checking package dependencies ... OK
* checking if this is a source package ... OK
* checking if there is a namespace ... OK
* checking for hidden files and directories ... OK
* checking for portable file names ... OK
* checking for sufficient/correct file permissions ... OK
* checking whether package ‘CoSIA’ can be installed ... OK
* checking installed package size ... OK
* checking package directory ... OK
* checking ‘build’ directory ... OK
* checking DESCRIPTION meta-information ... NOTE
License stub is invalid DCF.
* checking top-level files ... OK
* checking for left-over files ... OK
* checking index information ... OK
* checking package subdirectories ... OK
* checking code files for non-ASCII characters ... OK
* checking R files for syntax errors ... OK
* checking whether the package can be loaded ... OK
* checking whether the package can be loaded with stated dependencies ... OK
* checking whether the package can be unloaded cleanly ... OK
* checking whether the namespace can be loaded with stated dependencies ... OK
* checking whether the namespace can be unloaded cleanly ... OK
* checking loading without being on the library search path ... OK
* checking dependencies in R code ... OK
* checking S3 generic/method consistency ... OK
* checking replacement functions ... OK
* checking foreign function calls ... OK
* checking R code for possible problems ... OK
* checking Rd files ... OK
* checking Rd metadata ... OK
* checking Rd cross-references ... OK
* checking for missing documentation entries ... OK
* checking for code/documentation mismatches ... OK
* checking Rd \usage sections ... OK
* checking Rd contents ... OK
* checking for unstated dependencies in examples ... OK
* checking files in ‘vignettes’ ... OK
* checking examples ... OK
Examples with CPU (user + system) or elapsed time > 5s
user system elapsed
plotCVGEx-CoSIAn-method 355.826 40.390 397.002
plotCVGEx 301.783 18.526 320.876
getTissues 101.418 3.203 104.865
plotSpeciesGEx 88.331 4.024 92.662
plotSpeciesGEx-CoSIAn-method 86.043 4.237 90.604
plotDSGEx 81.049 2.952 84.274
plotTissueGEx-CoSIAn-method 80.877 1.607 82.745
plotTissueGEx 79.590 1.788 81.693
plotDSGEx-CoSIAn-method 75.447 1.801 77.520
getGEx-CoSIAn-method 21.079 0.993 22.381
getGExMetrics-CoSIAn-method 18.740 0.289 19.264
getGEx 17.099 0.614 17.977
getGExMetrics 15.990 0.395 16.621
* checking for unstated dependencies in vignettes ... OK
* checking package vignettes ... OK
* checking re-building of vignette outputs ... OK
* checking PDF version of manual ... OK
* DONE
Status: 1 NOTE
See
‘/home/biocbuild/bbs-3.20-bioc/meat/CoSIA.Rcheck/00check.log’
for details.
CoSIA.Rcheck/00install.out
############################################################################## ############################################################################## ### ### Running command: ### ### /home/biocbuild/bbs-3.20-bioc/R/bin/R CMD INSTALL CoSIA ### ############################################################################## ############################################################################## * installing to library ‘/home/biocbuild/bbs-3.20-bioc/R/site-library’ * installing *source* package ‘CoSIA’ ... ** using staged installation ** R ** inst ** byte-compile and prepare package for lazy loading ** help *** installing help indices ** building package indices ** installing vignettes ** testing if installed package can be loaded from temporary location ** testing if installed package can be loaded from final location ** testing if installed package keeps a record of temporary installation path * DONE (CoSIA)
CoSIA.Rcheck/CoSIA-Ex.timings
| name | user | system | elapsed | |
| CoSIA-constructor | 0.003 | 0.000 | 0.003 | |
| getConversion-CoSIAn-method | 4.176 | 0.186 | 4.370 | |
| getConversion | 2.163 | 0.046 | 2.209 | |
| getGEx-CoSIAn-method | 21.079 | 0.993 | 22.381 | |
| getGEx | 17.099 | 0.614 | 17.977 | |
| getGExMetrics-CoSIAn-method | 18.740 | 0.289 | 19.264 | |
| getGExMetrics | 15.990 | 0.395 | 16.621 | |
| getTissues | 101.418 | 3.203 | 104.865 | |
| plotCVGEx-CoSIAn-method | 355.826 | 40.390 | 397.002 | |
| plotCVGEx | 301.783 | 18.526 | 320.876 | |
| plotDSGEx-CoSIAn-method | 75.447 | 1.801 | 77.520 | |
| plotDSGEx | 81.049 | 2.952 | 84.274 | |
| plotSpeciesGEx-CoSIAn-method | 86.043 | 4.237 | 90.604 | |
| plotSpeciesGEx | 88.331 | 4.024 | 92.662 | |
| plotTissueGEx-CoSIAn-method | 80.877 | 1.607 | 82.745 | |
| plotTissueGEx | 79.590 | 1.788 | 81.693 | |
| viewCoSIAn-CoSIAn-method | 0.002 | 0.000 | 0.002 | |
| viewCoSIAn | 0.002 | 0.000 | 0.002 | |