| Back to Multiple platform build/check report for BioC 3.20: simplified long |
|
This page was generated on 2025-04-02 19:35 -0400 (Wed, 02 Apr 2025).
| Hostname | OS | Arch (*) | R version | Installed pkgs |
|---|---|---|---|---|
| nebbiolo2 | Linux (Ubuntu 24.04.1 LTS) | x86_64 | 4.4.3 (2025-02-28) -- "Trophy Case" | 4764 |
| palomino8 | Windows Server 2022 Datacenter | x64 | 4.4.3 (2025-02-28 ucrt) -- "Trophy Case" | 4495 |
| merida1 | macOS 12.7.5 Monterey | x86_64 | 4.4.3 (2025-02-28) -- "Trophy Case" | 4522 |
| kjohnson1 | macOS 13.6.6 Ventura | arm64 | 4.4.3 (2025-02-28) -- "Trophy Case" | 4449 |
| taishan | Linux (openEuler 24.03 LTS) | aarch64 | 4.4.3 (2025-02-28) -- "Trophy Case" | 4426 |
| Click on any hostname to see more info about the system (e.g. compilers) (*) as reported by 'uname -p', except on Windows and Mac OS X | ||||
| Package 346/2289 | Hostname | OS / Arch | INSTALL | BUILD | CHECK | BUILD BIN | ||||||||
| ChromHeatMap 1.60.0 (landing page) Tim F. Rayner
| nebbiolo2 | Linux (Ubuntu 24.04.1 LTS) / x86_64 | OK | OK | OK | |||||||||
| palomino8 | Windows Server 2022 Datacenter / x64 | OK | OK | OK | OK | |||||||||
| merida1 | macOS 12.7.5 Monterey / x86_64 | OK | OK | OK | OK | |||||||||
| kjohnson1 | macOS 13.6.6 Ventura / arm64 | OK | OK | OK | OK | |||||||||
| taishan | Linux (openEuler 24.03 LTS) / aarch64 | OK | OK | OK | ||||||||||
|
To the developers/maintainers of the ChromHeatMap package: - Allow up to 24 hours (and sometimes 48 hours) for your latest push to git@git.bioconductor.org:packages/ChromHeatMap.git to reflect on this report. See Troubleshooting Build Report for more information. - Use the following Renviron settings to reproduce errors and warnings. - If 'R CMD check' started to fail recently on the Linux builder(s) over a missing dependency, add the missing dependency to 'Suggests:' in your DESCRIPTION file. See Renviron.bioc for more information. - See Martin Grigorov's blog post for how to debug Linux ARM64 related issues on a x86_64 host. |
| Package: ChromHeatMap |
| Version: 1.60.0 |
| Command: /home/biocbuild/R/R/bin/R CMD check --install=check:ChromHeatMap.install-out.txt --library=/home/biocbuild/R/R/site-library --no-vignettes --timings ChromHeatMap_1.60.0.tar.gz |
| StartedAt: 2025-04-01 05:01:25 -0000 (Tue, 01 Apr 2025) |
| EndedAt: 2025-04-01 05:06:25 -0000 (Tue, 01 Apr 2025) |
| EllapsedTime: 299.2 seconds |
| RetCode: 0 |
| Status: OK |
| CheckDir: ChromHeatMap.Rcheck |
| Warnings: 0 |
##############################################################################
##############################################################################
###
### Running command:
###
### /home/biocbuild/R/R/bin/R CMD check --install=check:ChromHeatMap.install-out.txt --library=/home/biocbuild/R/R/site-library --no-vignettes --timings ChromHeatMap_1.60.0.tar.gz
###
##############################################################################
##############################################################################
* using log directory ‘/home/biocbuild/bbs-3.20-bioc/meat/ChromHeatMap.Rcheck’
* using R version 4.4.3 (2025-02-28)
* using platform: aarch64-unknown-linux-gnu
* R was compiled by
aarch64-unknown-linux-gnu-gcc (GCC) 14.2.0
GNU Fortran (GCC) 14.2.0
* running under: openEuler 24.03 (LTS)
* using session charset: UTF-8
* using option ‘--no-vignettes’
* checking for file ‘ChromHeatMap/DESCRIPTION’ ... OK
* this is package ‘ChromHeatMap’ version ‘1.60.0’
* checking package namespace information ... OK
* checking package dependencies ... OK
* checking if this is a source package ... OK
* checking if there is a namespace ... OK
* checking for hidden files and directories ... OK
* checking for portable file names ... OK
* checking for sufficient/correct file permissions ... OK
* checking whether package ‘ChromHeatMap’ can be installed ... OK
* checking installed package size ... OK
* checking package directory ... OK
* checking ‘build’ directory ... OK
* checking DESCRIPTION meta-information ... OK
* checking top-level files ... OK
* checking for left-over files ... OK
* checking index information ... OK
* checking package subdirectories ... OK
* checking code files for non-ASCII characters ... OK
* checking R files for syntax errors ... OK
* checking whether the package can be loaded ... OK
* checking whether the package can be loaded with stated dependencies ... OK
* checking whether the package can be unloaded cleanly ... OK
* checking whether the namespace can be loaded with stated dependencies ... OK
* checking whether the namespace can be unloaded cleanly ... OK
* checking loading without being on the library search path ... OK
* checking dependencies in R code ... OK
* checking S3 generic/method consistency ... OK
* checking replacement functions ... OK
* checking foreign function calls ... OK
* checking R code for possible problems ... NOTE
createChrMatrix: no visible global function definition for ‘new’
makeRangedDataList : .makeGRanges: no visible global function
definition for ‘as’
plotChrMap: no visible global function definition for ‘new’
makeChrStrandData,matrix: no visible global function definition for
‘new’
Undefined global functions or variables:
as new
Consider adding
importFrom("methods", "as", "new")
to your NAMESPACE file (and ensure that your DESCRIPTION Imports field
contains 'methods').
* checking Rd files ... NOTE
checkRd: (-1) ALLs.chr22.Rd:16: Lost braces in \itemize; meant \describe ?
checkRd: (-1) ALLs.chr22.Rd:17-19: Lost braces in \itemize; meant \describe ?
checkRd: (-1) cytobands.Rd:15: Lost braces in \itemize; meant \describe ?
checkRd: (-1) cytobands.Rd:16: Lost braces in \itemize; meant \describe ?
checkRd: (-1) cytobands.Rd:17: Lost braces in \itemize; meant \describe ?
checkRd: (-1) cytobands.Rd:18: Lost braces in \itemize; meant \describe ?
checkRd: (-1) cytobands.Rd:19: Lost braces in \itemize; meant \describe ?
checkRd: (-1) cytobands.Rd:20: Lost braces in \itemize; meant \describe ?
checkRd: (-1) stains.Rd:12-13: Lost braces in \itemize; meant \describe ?
checkRd: (-1) stains.Rd:15-17: Lost braces in \itemize; meant \describe ?
checkRd: (-1) stains.Rd:19-21: Lost braces in \itemize; meant \describe ?
checkRd: (-1) stains.Rd:23-24: Lost braces in \itemize; meant \describe ?
checkRd: (-1) stains.Rd:26-28: Lost braces in \itemize; meant \describe ?
* checking Rd metadata ... OK
* checking Rd cross-references ... OK
* checking for missing documentation entries ... OK
* checking for code/documentation mismatches ... OK
* checking Rd \usage sections ... OK
* checking Rd contents ... OK
* checking for unstated dependencies in examples ... OK
* checking contents of ‘data’ directory ... OK
* checking data for non-ASCII characters ... OK
* checking data for ASCII and uncompressed saves ... OK
* checking files in ‘vignettes’ ... OK
* checking examples ... OK
Examples with CPU (user + system) or elapsed time > 5s
user system elapsed
makeRangedDataList 3.945 0.162 25.885
* checking for unstated dependencies in vignettes ... OK
* checking package vignettes ... OK
* checking running R code from vignettes ... SKIPPED
* checking re-building of vignette outputs ... SKIPPED
* checking PDF version of manual ... OK
* DONE
Status: 2 NOTEs
See
‘/home/biocbuild/bbs-3.20-bioc/meat/ChromHeatMap.Rcheck/00check.log’
for details.
ChromHeatMap.Rcheck/00install.out
############################################################################## ############################################################################## ### ### Running command: ### ### /home/biocbuild/R/R/bin/R CMD INSTALL ChromHeatMap ### ############################################################################## ############################################################################## * installing to library ‘/home/biocbuild/R/R-4.4.3/site-library’ * installing *source* package ‘ChromHeatMap’ ... ** using staged installation ** R ** data ** byte-compile and prepare package for lazy loading ** help *** installing help indices ** building package indices ** installing vignettes ** testing if installed package can be loaded from temporary location ** testing if installed package can be loaded from final location ** testing if installed package keeps a record of temporary installation path * DONE (ChromHeatMap)
ChromHeatMap.Rcheck/ChromHeatMap-Ex.timings
| name | user | system | elapsed | |
| ChrMapPlot-class | 1.422 | 0.044 | 1.470 | |
| ChrStrandData-class | 0.114 | 0.008 | 0.206 | |
| ChrStrandMatrix-class | 0.022 | 0.012 | 0.034 | |
| chrHeatMap | 0.046 | 0.020 | 0.067 | |
| createChrMatrix | 0.030 | 0.004 | 0.034 | |
| drawMapDendro | 0.055 | 0.000 | 0.056 | |
| grabChrMapProbes | 0.173 | 0.032 | 0.206 | |
| makeChrStrandData | 0.079 | 0.004 | 0.083 | |
| makeRangedDataList | 3.945 | 0.162 | 25.885 | |
| plotChrMap | 0.153 | 0.008 | 0.166 | |