| Back to Multiple platform build/check report for BioC 3.20: simplified long |
|
This page was generated on 2025-03-06 12:10 -0500 (Thu, 06 Mar 2025).
| Hostname | OS | Arch (*) | R version | Installed pkgs |
|---|---|---|---|---|
| nebbiolo2 | Linux (Ubuntu 24.04.1 LTS) | x86_64 | 4.4.2 (2024-10-31) -- "Pile of Leaves" | 4769 |
| palomino8 | Windows Server 2022 Datacenter | x64 | 4.4.2 (2024-10-31 ucrt) -- "Pile of Leaves" | 4504 |
| merida1 | macOS 12.7.5 Monterey | x86_64 | 4.4.2 (2024-10-31) -- "Pile of Leaves" | 4527 |
| kjohnson1 | macOS 13.6.6 Ventura | arm64 | 4.4.2 (2024-10-31) -- "Pile of Leaves" | 4480 |
| taishan | Linux (openEuler 24.03 LTS) | aarch64 | 4.4.2 (2024-10-31) -- "Pile of Leaves" | 4416 |
| Click on any hostname to see more info about the system (e.g. compilers) (*) as reported by 'uname -p', except on Windows and Mac OS X | ||||
| Package 343/2289 | Hostname | OS / Arch | INSTALL | BUILD | CHECK | BUILD BIN | ||||||||
| ChIPXpress 1.50.0 (landing page) George Wu
| nebbiolo2 | Linux (Ubuntu 24.04.1 LTS) / x86_64 | OK | OK | OK | |||||||||
| palomino8 | Windows Server 2022 Datacenter / x64 | ... NOT SUPPORTED ... | ||||||||||||
| merida1 | macOS 12.7.5 Monterey / x86_64 | OK | OK | OK | OK | |||||||||
| kjohnson1 | macOS 13.6.6 Ventura / arm64 | OK | OK | OK | OK | |||||||||
| taishan | Linux (openEuler 24.03 LTS) / aarch64 | OK | OK | OK | ||||||||||
|
To the developers/maintainers of the ChIPXpress package: - Allow up to 24 hours (and sometimes 48 hours) for your latest push to git@git.bioconductor.org:packages/ChIPXpress.git to reflect on this report. See Troubleshooting Build Report for more information. - Use the following Renviron settings to reproduce errors and warnings. - If 'R CMD check' started to fail recently on the Linux builder(s) over a missing dependency, add the missing dependency to 'Suggests:' in your DESCRIPTION file. See Renviron.bioc for more information. |
| Package: ChIPXpress |
| Version: 1.50.0 |
| Command: rm -rf ChIPXpress.buildbin-libdir && mkdir ChIPXpress.buildbin-libdir && /Users/biocbuild/BBS/utils/build-universal.sh ChIPXpress_1.50.0.tar.gz /Library/Frameworks/R.framework/Resources/bin/R ChIPXpress.buildbin-libdir |
| StartedAt: 2025-03-05 14:27:11 -0500 (Wed, 05 Mar 2025) |
| EndedAt: 2025-03-05 14:27:52 -0500 (Wed, 05 Mar 2025) |
| EllapsedTime: 40.5 seconds |
| RetCode: 0 |
| Status: OK |
| PackageFile: ChIPXpress_1.50.0.tgz |
| PackageFileSize: 470.8 KiB |
############################################################################## ############################################################################## ### ### Running command: ### ### rm -rf ChIPXpress.buildbin-libdir && mkdir ChIPXpress.buildbin-libdir && /Users/biocbuild/BBS/utils/build-universal.sh ChIPXpress_1.50.0.tar.gz /Library/Frameworks/R.framework/Resources/bin/R ChIPXpress.buildbin-libdir ### ############################################################################## ############################################################################## >>>>>>> >>>>>>> INSTALLATION WITH 'R CMD INSTALL --preclean --no-multiarch --library=ChIPXpress.buildbin-libdir ChIPXpress_1.50.0.tar.gz' >>>>>>> * installing *source* package ‘ChIPXpress’ ... ** using staged installation ** R ** data ** inst ** byte-compile and prepare package for lazy loading ** help *** installing help indices ** building package indices ** installing vignettes ** testing if installed package can be loaded from temporary location ** testing if installed package can be loaded from final location ** testing if installed package keeps a record of temporary installation path * DONE (ChIPXpress)