| Back to Multiple platform build/check report for BioC 3.20: simplified long | 
 | 
This page was generated on 2025-04-02 19:28 -0400 (Wed, 02 Apr 2025).
| Hostname | OS | Arch (*) | R version | Installed pkgs | 
|---|---|---|---|---|
| nebbiolo2 | Linux (Ubuntu 24.04.1 LTS) | x86_64 | 4.4.3 (2025-02-28) -- "Trophy Case" | 4764 | 
| palomino8 | Windows Server 2022 Datacenter | x64 | 4.4.3 (2025-02-28 ucrt) -- "Trophy Case" | 4495 | 
| merida1 | macOS 12.7.5 Monterey | x86_64 | 4.4.3 (2025-02-28) -- "Trophy Case" | 4522 | 
| kjohnson1 | macOS 13.6.6 Ventura | arm64 | 4.4.3 (2025-02-28) -- "Trophy Case" | 4449 | 
| taishan | Linux (openEuler 24.03 LTS) | aarch64 | 4.4.3 (2025-02-28) -- "Trophy Case" | 4426 | 
| Click on any hostname to see more info about the system (e.g. compilers) (*) as reported by 'uname -p', except on Windows and Mac OS X | ||||
| Package 281/2289 | Hostname | OS / Arch | INSTALL | BUILD | CHECK | BUILD BIN | ||||||||
| CausalR 1.38.0  (landing page) Glyn Bradley 
 | nebbiolo2 | Linux (Ubuntu 24.04.1 LTS) / x86_64 | OK | OK | OK |  | ||||||||
| palomino8 | Windows Server 2022 Datacenter / x64 | OK | OK | OK | OK |  | ||||||||
| merida1 | macOS 12.7.5 Monterey / x86_64 | OK | OK | OK | OK |  | ||||||||
| kjohnson1 | macOS 13.6.6 Ventura / arm64 | OK | OK | OK | OK |  | ||||||||
| taishan | Linux (openEuler 24.03 LTS) / aarch64 | OK | OK | OK | ||||||||||
| To the developers/maintainers of the CausalR package: - Allow up to 24 hours (and sometimes 48 hours) for your latest push to git@git.bioconductor.org:packages/CausalR.git to reflect on this report. See Troubleshooting Build Report for more information. - Use the following Renviron settings to reproduce errors and warnings. - If 'R CMD check' started to fail recently on the Linux builder(s) over a missing dependency, add the missing dependency to 'Suggests:' in your DESCRIPTION file. See Renviron.bioc for more information. | 
| Package: CausalR | 
| Version: 1.38.0 | 
| Command: /home/biocbuild/bbs-3.20-bioc/R/bin/R CMD check --install=check:CausalR.install-out.txt --library=/home/biocbuild/bbs-3.20-bioc/R/site-library --timings CausalR_1.38.0.tar.gz | 
| StartedAt: 2025-03-31 20:30:33 -0400 (Mon, 31 Mar 2025) | 
| EndedAt: 2025-03-31 20:31:29 -0400 (Mon, 31 Mar 2025) | 
| EllapsedTime: 56.0 seconds | 
| RetCode: 0 | 
| Status: OK | 
| CheckDir: CausalR.Rcheck | 
| Warnings: 0 | 
##############################################################################
##############################################################################
###
### Running command:
###
###   /home/biocbuild/bbs-3.20-bioc/R/bin/R CMD check --install=check:CausalR.install-out.txt --library=/home/biocbuild/bbs-3.20-bioc/R/site-library --timings CausalR_1.38.0.tar.gz
###
##############################################################################
##############################################################################
* using log directory ‘/home/biocbuild/bbs-3.20-bioc/meat/CausalR.Rcheck’
* using R version 4.4.3 (2025-02-28)
* using platform: x86_64-pc-linux-gnu
* R was compiled by
    gcc (Ubuntu 13.3.0-6ubuntu2~24.04) 13.3.0
    GNU Fortran (Ubuntu 13.3.0-6ubuntu2~24.04) 13.3.0
* running under: Ubuntu 24.04.2 LTS
* using session charset: UTF-8
* checking for file ‘CausalR/DESCRIPTION’ ... OK
* checking extension type ... Package
* this is package ‘CausalR’ version ‘1.38.0’
* checking package namespace information ... OK
* checking package dependencies ... OK
* checking if this is a source package ... OK
* checking if there is a namespace ... OK
* checking for hidden files and directories ... OK
* checking for portable file names ... OK
* checking for sufficient/correct file permissions ... OK
* checking whether package ‘CausalR’ can be installed ... OK
* checking installed package size ... OK
* checking package directory ... OK
* checking ‘build’ directory ... OK
* checking DESCRIPTION meta-information ... OK
* checking top-level files ... OK
* checking for left-over files ... OK
* checking index information ... OK
* checking package subdirectories ... OK
* checking code files for non-ASCII characters ... OK
* checking R files for syntax errors ... OK
* checking whether the package can be loaded ... OK
* checking whether the package can be loaded with stated dependencies ... OK
* checking whether the package can be unloaded cleanly ... OK
* checking whether the namespace can be loaded with stated dependencies ... OK
* checking whether the namespace can be unloaded cleanly ... OK
* checking loading without being on the library search path ... OK
* checking dependencies in R code ... OK
* checking S3 generic/method consistency ... OK
* checking replacement functions ... OK
* checking foreign function calls ... OK
* checking R code for possible problems ... OK
* checking Rd files ... OK
* checking Rd metadata ... OK
* checking Rd cross-references ... OK
* checking for missing documentation entries ... OK
* checking for code/documentation mismatches ... OK
* checking Rd \usage sections ... OK
* checking Rd contents ... OK
* checking for unstated dependencies in examples ... OK
* checking files in ‘vignettes’ ... NOTE
The following directory looks like a leftover from 'knitr':
  ‘figure’
Please remove from your package.
* checking examples ... OK
* checking for unstated dependencies in ‘tests’ ... OK
* checking tests ...
  Running ‘runTests.R’
 OK
* checking for unstated dependencies in vignettes ... OK
* checking package vignettes ... OK
* checking re-building of vignette outputs ... OK
* checking PDF version of manual ... OK
* DONE
Status: 1 NOTE
See
  ‘/home/biocbuild/bbs-3.20-bioc/meat/CausalR.Rcheck/00check.log’
for details.
CausalR.Rcheck/00install.out
############################################################################## ############################################################################## ### ### Running command: ### ### /home/biocbuild/bbs-3.20-bioc/R/bin/R CMD INSTALL CausalR ### ############################################################################## ############################################################################## * installing to library ‘/home/biocbuild/bbs-3.20-bioc/R/site-library’ * installing *source* package ‘CausalR’ ... ** using staged installation ** R ** inst ** byte-compile and prepare package for lazy loading ** help *** installing help indices ** building package indices ** installing vignettes ** testing if installed package can be loaded from temporary location ** testing if installed package can be loaded from final location ** testing if installed package keeps a record of temporary installation path * DONE (CausalR)
CausalR.Rcheck/tests/runTests.Rout
R version 4.4.3 (2025-02-28) -- "Trophy Case"
Copyright (C) 2025 The R Foundation for Statistical Computing
Platform: x86_64-pc-linux-gnu
R is free software and comes with ABSOLUTELY NO WARRANTY.
You are welcome to redistribute it under certain conditions.
Type 'license()' or 'licence()' for distribution details.
R is a collaborative project with many contributors.
Type 'contributors()' for more information and
'citation()' on how to cite R or R packages in publications.
Type 'demo()' for some demos, 'help()' for on-line help, or
'help.start()' for an HTML browser interface to help.
Type 'q()' to quit R.
> # Make sure that the igraph package has been loaded
> 
> library(igraph)
Attaching package: 'igraph'
The following objects are masked from 'package:stats':
    decompose, spectrum
The following object is masked from 'package:base':
    union
> 
> BiocGenerics:::testPackage("CausalR")
[1] "File read complete - read in 3 lines. Now constructing network"
[1] "Network has been created - now adding edge properties"
[1] "Added weights to edges"
[1] "File read complete - read in 2 lines. Now constructing network"
[1] "Network has been created - now adding edge properties"
[1] "Added weights to edges"
[1] "File read complete - read in 2 lines. Now constructing network"
[1] "Network has been created - now adding edge properties"
[1] "Added weights to edges"
[1] "File read complete - read in 4 lines. Now constructing network"
[1] "Network has been created - now adding edge properties"
[1] "Added weights to edges"
[1] "File read complete - read in 4 lines. Now constructing network"
[1] "Network has been created - now adding edge properties"
[1] "Added weights to edges"
[1] "The values in the second column do not match what is expected. They should be (+)1, 0 or -1"
[1] "The experimental data read in didn't have two columns"
Number of Nodes to analyse: 3 
Number of Nodes to analyse: 1 
Number of Nodes to analyse: 1 
Number of Nodes to analyse: 3 
Number of Nodes to analyse: 3 
Number of Nodes to analyse: 3 
Number of Nodes to analyse: 3 
Number of Nodes to analyse: 3 
Number of Nodes to analyse: 3 
Number of Nodes to analyse: 3 
Number of Nodes to analyse: 3 
Number of Nodes to analyse: 3 
Number of Nodes to analyse: 3 
Number of Nodes to analyse: 3 
Number of Nodes to analyse: 1 
Number of Nodes to analyse: 1 
Number of Nodes to analyse: 1 
Number of Nodes to analyse: 1 
Number of Nodes to analyse: 2 
Number of Nodes to analyse: 2 
Number of Nodes to analyse: 1 
Number of Nodes to analyse: 1 
Number of Nodes to analyse: 1 
Number of Nodes to analyse: 1 
Number of Nodes to analyse: 2 
Number of Nodes to analyse: 2 
Number of Nodes to analyse: 2 
Number of Nodes to analyse: 2 
Number of Nodes to analyse: 1 
Number of Nodes to analyse: 1 
Number of Nodes to analyse: 1 
Number of Nodes to analyse: 1 
Number of Nodes to analyse: 3 
Number of Nodes to analyse: 3 
[1] "File read complete - read in 2 lines. Now constructing network"
[1] "Network has been created - now adding edge properties"
[1] "Added weights to edges"
Writing sif file to: /home/biocbuild/bbs-3.20-bioc/tmpdir/Rtmplfoh8b-588930400/corExplainedNodes-file2105f74d3812f8.sif
Writing annotation file to: /home/biocbuild/bbs-3.20-bioc/tmpdir/Rtmplfoh8b-588930400/corExplainedNodes-file2105f74d3812f8_anno.txt
corExplainedNodes 
Node0	Activates	Node1
Node0	Inhibits	Node2
Node1	Activates	Node3
Node2	Activates	Node6
Node2	Activates	Node7
Writing sif file to: /home/biocbuild/bbs-3.20-bioc/tmpdir/Rtmplfoh8b-316387098/corExplainedNodes-testNetwork1-testData1-delta2-Node0+.sif
Writing annotation file to: /home/biocbuild/bbs-3.20-bioc/tmpdir/Rtmplfoh8b-316387098/corExplainedNodes-testNetwork1-testData1-delta2-Node0+_anno.txt
corExplainedNodes 
Node0	Activates	Node1
Node0	Inhibits	Node2
Node1	Activates	Node3
Node2	Activates	Node6
Node2	Activates	Node7
Writing sif file to: /home/biocbuild/bbs-3.20-bioc/tmpdir/Rtmplfoh8b-501753711/corExplainedNodes-testNetwork1-testData1-delta2-Node0+.sif
Writing annotation file to: /home/biocbuild/bbs-3.20-bioc/tmpdir/Rtmplfoh8b-501753711/corExplainedNodes-testNetwork1-testData1-delta2-Node0+_anno.txt
corExplainedNodes 
Node0	Activates	Node1
Node0	Inhibits	Node2
Node1	Activates	Node3
Node2	Activates	Node6
Node2	Activates	Node7
Writing sif file to: /home/biocbuild/bbs-3.20-bioc/tmpdir/Rtmplfoh8b-501753711/incorExplainedNodes-testNetwork1-testData1-delta2-Node0+.sif
Writing annotation file to: /home/biocbuild/bbs-3.20-bioc/tmpdir/Rtmplfoh8b-501753711/incorExplainedNodes-testNetwork1-testData1-delta2-Node0+_anno.txt
incorExplainedNodes 
Node0	Inhibits	Node2
Writing sif file to: /home/biocbuild/bbs-3.20-bioc/tmpdir/Rtmplfoh8b-501753711/ambExplainedNodes-testNetwork1-testData1-delta2-Node0+.sif
Writing annotation file to: /home/biocbuild/bbs-3.20-bioc/tmpdir/Rtmplfoh8b-501753711/ambExplainedNodes-testNetwork1-testData1-delta2-Node0+_anno.txt
ambExplainedNodes 
Node0	Activates	Node1
Node0	Inhibits	Node2
Node1	Inhibits	Node5
Node2	Inhibits	Node5
Writing sif file to: /home/biocbuild/bbs-3.20-bioc/tmpdir/Rtmplfoh8b/corExplainedNodes-file2105f71ff5f97d.sif
Writing annotation file to: /home/biocbuild/bbs-3.20-bioc/tmpdir/Rtmplfoh8b/corExplainedNodes-file2105f71ff5f97d_anno.txt
corExplainedNodes 
Node0	Activates	Node1
Writing sif file to: /home/biocbuild/bbs-3.20-bioc/tmpdir/Rtmplfoh8b/incorExplainedNodes-file2105f71ff5f97d.sif
Writing annotation file to: /home/biocbuild/bbs-3.20-bioc/tmpdir/Rtmplfoh8b/incorExplainedNodes-file2105f71ff5f97d_anno.txt
incorExplainedNodes 
Node0	Inhibits	Node2
Writing sif file to: /home/biocbuild/bbs-3.20-bioc/tmpdir/Rtmplfoh8b/ambExplainedNodes-file2105f71ff5f97d.sif
Writing annotation file to: /home/biocbuild/bbs-3.20-bioc/tmpdir/Rtmplfoh8b/ambExplainedNodes-file2105f71ff5f97d_anno.txt
ambExplainedNodes 
Writing sif file to: /home/biocbuild/bbs-3.20-bioc/tmpdir/Rtmplfoh8b/corExplainedNodes-file2105f7439ad0e1.sif
Writing annotation file to: /home/biocbuild/bbs-3.20-bioc/tmpdir/Rtmplfoh8b/corExplainedNodes-file2105f7439ad0e1_anno.txt
corExplainedNodes 
Node0	Activates	Node1
Node0	Inhibits	Node2
Node1	Activates	Node3
Node2	Activates	Node6
Node2	Activates	Node7
Writing sif file to: /home/biocbuild/bbs-3.20-bioc/tmpdir/Rtmplfoh8b/incorExplainedNodes-file2105f7439ad0e1.sif
Writing annotation file to: /home/biocbuild/bbs-3.20-bioc/tmpdir/Rtmplfoh8b/incorExplainedNodes-file2105f7439ad0e1_anno.txt
incorExplainedNodes 
Node0	Inhibits	Node2
Writing sif file to: /home/biocbuild/bbs-3.20-bioc/tmpdir/Rtmplfoh8b/ambExplainedNodes-file2105f7439ad0e1.sif
Writing annotation file to: /home/biocbuild/bbs-3.20-bioc/tmpdir/Rtmplfoh8b/ambExplainedNodes-file2105f7439ad0e1_anno.txt
ambExplainedNodes 
Node0	Activates	Node1
Node0	Inhibits	Node2
Node1	Inhibits	Node5
Node2	Inhibits	Node5
Writing sif file to: /home/biocbuild/bbs-3.20-bioc/tmpdir/Rtmplfoh8b-847991563/corExplainedNodes-file2105f72f3d453f.sif
Writing annotation file to: /home/biocbuild/bbs-3.20-bioc/tmpdir/Rtmplfoh8b-847991563/corExplainedNodes-file2105f72f3d453f_anno.txt
corExplainedNodes 
Node0	Activates	Node1
Node0	Inhibits	Node2
Node1	Activates	Node3
Node2	Activates	Node6
Node2	Activates	Node7
Writing sif file to: /home/biocbuild/bbs-3.20-bioc/tmpdir/Rtmplfoh8b-204476913/corExplainedNodes-testNetwork1-testData1-delta2-Node0+.sif
Writing annotation file to: /home/biocbuild/bbs-3.20-bioc/tmpdir/Rtmplfoh8b-204476913/corExplainedNodes-testNetwork1-testData1-delta2-Node0+_anno.txt
corExplainedNodes 
Node0	Activates	Node1
Node0	Inhibits	Node2
Node1	Activates	Node3
Node2	Activates	Node6
Node2	Activates	Node7
Writing sif file to: /home/biocbuild/bbs-3.20-bioc/tmpdir/Rtmplfoh8b-465965549/corExplainedNodes-testNetwork1-testData1-delta2-Node0+.sif
Writing annotation file to: /home/biocbuild/bbs-3.20-bioc/tmpdir/Rtmplfoh8b-465965549/corExplainedNodes-testNetwork1-testData1-delta2-Node0+_anno.txt
corExplainedNodes 
Node0	Activates	Node1
Node0	Inhibits	Node2
Node1	Activates	Node3
Node2	Activates	Node6
Node2	Activates	Node7
Writing sif file to: /home/biocbuild/bbs-3.20-bioc/tmpdir/Rtmplfoh8b-465965549/incorExplainedNodes-testNetwork1-testData1-delta2-Node0+.sif
Writing annotation file to: /home/biocbuild/bbs-3.20-bioc/tmpdir/Rtmplfoh8b-465965549/incorExplainedNodes-testNetwork1-testData1-delta2-Node0+_anno.txt
incorExplainedNodes 
Node0	Inhibits	Node2
Writing sif file to: /home/biocbuild/bbs-3.20-bioc/tmpdir/Rtmplfoh8b-465965549/ambExplainedNodes-testNetwork1-testData1-delta2-Node0+.sif
Writing annotation file to: /home/biocbuild/bbs-3.20-bioc/tmpdir/Rtmplfoh8b-465965549/ambExplainedNodes-testNetwork1-testData1-delta2-Node0+_anno.txt
ambExplainedNodes 
Node0	Activates	Node1
Node0	Inhibits	Node2
Node1	Inhibits	Node5
Node2	Inhibits	Node5
RUNIT TEST PROTOCOL -- Mon Mar 31 20:30:55 2025 
*********************************************** 
Number of test functions: 129 
Number of errors: 0 
Number of failures: 0 
 
1 Test Suite : 
CausalR RUnit Tests - 129 test functions, 0 errors, 0 failures
Number of test functions: 129 
Number of errors: 0 
Number of failures: 0 
Warning messages:
1: In file(file, "rt") :
  cannot open file 'nonExistentFile.sif': No such file or directory
2: In file(file, "rt") :
  cannot open file 'nonExistentFile.sif': No such file or directory
> 
> proc.time()
   user  system elapsed 
  1.752   0.423   1.951 
CausalR.Rcheck/CausalR-Ex.timings
| name | user | system | elapsed | |
| AnalysePredictionsList | 0.020 | 0.002 | 0.023 | |
| CalculateEnrichmentPValue | 0.002 | 0.000 | 0.001 | |
| CalculateSignificance | 0.048 | 0.000 | 0.048 | |
| CalculateSignificanceUsingCubicAlgorithm | 0.044 | 0.002 | 0.046 | |
| CalculateSignificanceUsingCubicAlgorithm1b | 0.043 | 0.000 | 0.044 | |
| CalculateSignificanceUsingQuarticAlgorithm | 0.044 | 0.000 | 0.045 | |
| CompareHypothesis | 0.005 | 0.000 | 0.006 | |
| CreateCCG | 0.004 | 0.001 | 0.006 | |
| CreateCG | 0.004 | 0.001 | 0.006 | |
| GetNodeName | 0.01 | 0.00 | 0.01 | |
| GetNumberOfPositiveAndNegativeEntries | 0.000 | 0.001 | 0.002 | |
| GetShortestPathsFromCCG | 0.006 | 0.001 | 0.007 | |
| MakePredictions | 0.006 | 0.000 | 0.006 | |
| MakePredictionsFromCCG | 0.011 | 0.000 | 0.010 | |
| MakePredictionsFromCG | 0.044 | 0.000 | 0.044 | |
| PlotGraphWithNodeNames | 0.055 | 0.002 | 0.057 | |
| RankTheHypotheses | 0.173 | 0.055 | 0.223 | |
| ReadExperimentalData | 0.150 | 0.068 | 0.099 | |
| ScoreHypothesis | 0.002 | 0.000 | 0.002 | |
| WriteAllExplainedNodesToSifFile | 0.063 | 0.056 | 0.077 | |
| WriteExplainedNodesToSifFile | 0.028 | 0.005 | 0.034 | |
| runSCANR | 0.247 | 0.069 | 0.280 | |