| Back to Multiple platform build/check report for BioC 3.20: simplified long |
|
This page was generated on 2024-11-20 12:05 -0500 (Wed, 20 Nov 2024).
| Hostname | OS | Arch (*) | R version | Installed pkgs |
|---|---|---|---|---|
| teran2 | Linux (Ubuntu 24.04.1 LTS) | x86_64 | 4.4.2 (2024-10-31) -- "Pile of Leaves" | 4481 |
| nebbiolo2 | Linux (Ubuntu 24.04.1 LTS) | x86_64 | 4.4.2 (2024-10-31) -- "Pile of Leaves" | 4479 |
| palomino8 | Windows Server 2022 Datacenter | x64 | 4.4.2 (2024-10-31 ucrt) -- "Pile of Leaves" | 4359 |
| lconway | macOS 12.7.1 Monterey | x86_64 | 4.4.1 (2024-06-14) -- "Race for Your Life" | 4539 |
| kunpeng2 | Linux (openEuler 22.03 LTS-SP1) | aarch64 | 4.4.1 (2024-06-14) -- "Race for Your Life" | 4493 |
| Click on any hostname to see more info about the system (e.g. compilers) (*) as reported by 'uname -p', except on Windows and Mac OS X | ||||
| Package 310/2289 | Hostname | OS / Arch | INSTALL | BUILD | CHECK | BUILD BIN | ||||||||
| CEMiTool 1.30.0 (landing page) Helder Nakaya
| teran2 | Linux (Ubuntu 24.04.1 LTS) / x86_64 | OK | OK | OK | |||||||||
| nebbiolo2 | Linux (Ubuntu 24.04.1 LTS) / x86_64 | OK | OK | OK | ||||||||||
| palomino8 | Windows Server 2022 Datacenter / x64 | OK | OK | OK | OK | |||||||||
| lconway | macOS 12.7.1 Monterey / x86_64 | OK | OK | OK | OK | |||||||||
| kunpeng2 | Linux (openEuler 22.03 LTS-SP1) / aarch64 | OK | OK | OK | ||||||||||
|
To the developers/maintainers of the CEMiTool package: - Allow up to 24 hours (and sometimes 48 hours) for your latest push to git@git.bioconductor.org:packages/CEMiTool.git to reflect on this report. See Troubleshooting Build Report for more information. - Use the following Renviron settings to reproduce errors and warnings. - If 'R CMD check' started to fail recently on the Linux builder(s) over a missing dependency, add the missing dependency to 'Suggests:' in your DESCRIPTION file. See Renviron.bioc for more information. |
| Package: CEMiTool |
| Version: 1.30.0 |
| Command: /Library/Frameworks/R.framework/Resources/bin/R CMD check --install=check:CEMiTool.install-out.txt --library=/Library/Frameworks/R.framework/Resources/library --no-vignettes --timings CEMiTool_1.30.0.tar.gz |
| StartedAt: 2024-11-19 20:23:20 -0500 (Tue, 19 Nov 2024) |
| EndedAt: 2024-11-19 20:30:30 -0500 (Tue, 19 Nov 2024) |
| EllapsedTime: 429.7 seconds |
| RetCode: 0 |
| Status: OK |
| CheckDir: CEMiTool.Rcheck |
| Warnings: 0 |
##############################################################################
##############################################################################
###
### Running command:
###
### /Library/Frameworks/R.framework/Resources/bin/R CMD check --install=check:CEMiTool.install-out.txt --library=/Library/Frameworks/R.framework/Resources/library --no-vignettes --timings CEMiTool_1.30.0.tar.gz
###
##############################################################################
##############################################################################
* using log directory ‘/Users/biocbuild/bbs-3.20-bioc/meat/CEMiTool.Rcheck’
* using R version 4.4.1 (2024-06-14)
* using platform: x86_64-apple-darwin20
* R was compiled by
Apple clang version 14.0.0 (clang-1400.0.29.202)
GNU Fortran (GCC) 12.2.0
* running under: macOS Monterey 12.7.6
* using session charset: UTF-8
* using option ‘--no-vignettes’
* checking for file ‘CEMiTool/DESCRIPTION’ ... OK
* this is package ‘CEMiTool’ version ‘1.30.0’
* package encoding: UTF-8
* checking package namespace information ... OK
* checking package dependencies ...Warning: unable to access index for repository https://CRAN.R-project.org/src/contrib:
cannot open URL 'https://CRAN.R-project.org/src/contrib/PACKAGES'
OK
* checking if this is a source package ... OK
* checking if there is a namespace ... OK
* checking for hidden files and directories ... OK
* checking for portable file names ... OK
* checking for sufficient/correct file permissions ... OK
* checking whether package ‘CEMiTool’ can be installed ... OK
* checking installed package size ... NOTE
installed size is 6.5Mb
sub-directories of 1Mb or more:
data 3.1Mb
extdata 2.8Mb
* checking package directory ... OK
* checking ‘build’ directory ... OK
* checking DESCRIPTION meta-information ... OK
* checking top-level files ... OK
* checking for left-over files ... OK
* checking index information ... OK
* checking package subdirectories ... OK
* checking code files for non-ASCII characters ... OK
* checking R files for syntax errors ... OK
* checking whether the package can be loaded ... OK
* checking whether the package can be loaded with stated dependencies ... OK
* checking whether the package can be unloaded cleanly ... OK
* checking whether the namespace can be loaded with stated dependencies ... OK
* checking whether the namespace can be unloaded cleanly ... OK
* checking dependencies in R code ... OK
* checking S3 generic/method consistency ... OK
* checking replacement functions ... OK
* checking foreign function calls ... OK
* checking R code for possible problems ... NOTE
flip_vector: no visible global function definition for ‘setNames’
select_genes: no visible global function definition for ‘var’
get_hubs,CEMiTool : <anonymous>: no visible global function definition
for ‘head’
get_merged_mods,CEMiTool: no visible global function definition for
‘as.dist’
get_mods,CEMiTool: no visible global function definition for ‘as.dist’
get_phi,CEMiTool: no visible global function definition for ‘tail’
get_phi,CEMiTool: no visible global function definition for ‘head’
mod_gene_num,CEMiTool: no visible binding for global variable ‘modules’
mod_gene_num,CEMiTool: no visible binding for global variable
‘num_genes’
mod_summary,CEMiTool: no visible global function definition for ‘:=’
plot_gsea,CEMiTool: no visible global function definition for ‘dist’
plot_mean_var,CEMiTool: no visible binding for global variable ‘var’
plot_mean_var,CEMiTool: no visible binding for global variable ‘Mean’
plot_mean_var,CEMiTool: no visible binding for global variable
‘Variance’
plot_mean_var,CEMiTool: no visible binding for global variable
‘..eq.label..’
plot_mean_var,CEMiTool: no visible binding for global variable
‘..rr.label..’
plot_ora,CEMiTool : <anonymous>: no visible global function definition
for ‘head’
plot_qq,CEMiTool: no visible binding for global variable ‘data’
plot_sample_tree,CEMiTool: no visible global function definition for
‘dist’
plot_sample_tree,CEMiTool: no visible global function definition for
‘dev.off’
save_plots,CEMiTool : <anonymous>: no visible global function
definition for ‘dev.off’
save_plots,CEMiTool: no visible global function definition for
‘dev.off’
Undefined global functions or variables:
..eq.label.. ..rr.label.. := Mean Variance as.dist data dev.off dist
head modules num_genes setNames tail var
Consider adding
importFrom("grDevices", "dev.off")
importFrom("stats", "as.dist", "dist", "setNames", "var")
importFrom("utils", "data", "head", "tail")
to your NAMESPACE file.
* checking Rd files ... OK
* checking Rd metadata ... OK
* checking Rd cross-references ... OK
* checking for missing documentation entries ... OK
* checking for code/documentation mismatches ... OK
* checking Rd \usage sections ... OK
* checking Rd contents ... OK
* checking for unstated dependencies in examples ... OK
* checking contents of ‘data’ directory ... OK
* checking data for non-ASCII characters ... OK
* checking LazyData ... OK
* checking data for ASCII and uncompressed saves ... OK
* checking files in ‘vignettes’ ... OK
* checking examples ... OK
Examples with CPU (user + system) or elapsed time > 5s
user system elapsed
cemitool 7.346 0.205 7.576
plot_interactions 7.021 0.138 7.166
* checking for unstated dependencies in ‘tests’ ... OK
* checking tests ...
Running ‘testthat.R’
OK
* checking for unstated dependencies in vignettes ... OK
* checking package vignettes ... OK
* checking running R code from vignettes ... SKIPPED
* checking re-building of vignette outputs ... SKIPPED
* checking PDF version of manual ... OK
* DONE
Status: 2 NOTEs
See
‘/Users/biocbuild/bbs-3.20-bioc/meat/CEMiTool.Rcheck/00check.log’
for details.
CEMiTool.Rcheck/00install.out
############################################################################## ############################################################################## ### ### Running command: ### ### /Library/Frameworks/R.framework/Resources/bin/R CMD INSTALL CEMiTool ### ############################################################################## ############################################################################## * installing to library ‘/Library/Frameworks/R.framework/Versions/4.4-x86_64/Resources/library’ * installing *source* package ‘CEMiTool’ ... ** using staged installation ** R ** data *** moving datasets to lazyload DB ** exec ** inst ** byte-compile and prepare package for lazy loading ** help *** installing help indices ** building package indices ** installing vignettes ** testing if installed package can be loaded from temporary location ** testing if installed package can be loaded from final location ** testing if installed package keeps a record of temporary installation path * DONE (CEMiTool)
CEMiTool.Rcheck/tests/testthat.Rout
R version 4.4.1 (2024-06-14) -- "Race for Your Life"
Copyright (C) 2024 The R Foundation for Statistical Computing
Platform: x86_64-apple-darwin20
R is free software and comes with ABSOLUTELY NO WARRANTY.
You are welcome to redistribute it under certain conditions.
Type 'license()' or 'licence()' for distribution details.
R is a collaborative project with many contributors.
Type 'contributors()' for more information and
'citation()' on how to cite R or R packages in publications.
Type 'demo()' for some demos, 'help()' for on-line help, or
'help.start()' for an HTML browser interface to help.
Type 'q()' to quit R.
> library(testthat)
> library(CEMiTool)
> test_check('CEMiTool')
[ FAIL 0 | WARN 13 | SKIP 0 | PASS 105 ]
[ FAIL 0 | WARN 13 | SKIP 0 | PASS 105 ]
>
> proc.time()
user system elapsed
20.556 0.910 21.542
CEMiTool.Rcheck/CEMiTool-Ex.timings
| name | user | system | elapsed | |
| CEMiTool-class | 0.013 | 0.002 | 0.015 | |
| adj_data | 0.231 | 0.015 | 0.246 | |
| cem | 0.447 | 0.004 | 0.451 | |
| cemitool | 7.346 | 0.205 | 7.576 | |
| expr0 | 0.000 | 0.001 | 0.002 | |
| expr_data | 0.079 | 0.005 | 0.083 | |
| filter_expr | 0.120 | 0.009 | 0.129 | |
| find_modules | 1.351 | 0.024 | 1.379 | |
| fit_data | 1.804 | 0.027 | 1.834 | |
| generate_report | 0 | 0 | 0 | |
| get_adj | 0.075 | 0.003 | 0.077 | |
| get_beta_data | 0.613 | 0.015 | 0.629 | |
| get_cemitool_r2_beta | 1.357 | 0.020 | 1.384 | |
| get_connectivity | 1.324 | 0.021 | 1.347 | |
| get_hubs | 0.014 | 0.003 | 0.018 | |
| get_merged_mods | 0.727 | 0.013 | 0.741 | |
| get_mods | 0.610 | 0.013 | 0.623 | |
| get_phi | 1.353 | 0.015 | 1.369 | |
| gsea_data | 2.980 | 0.018 | 3.003 | |
| interactions_data | 0.169 | 0.014 | 0.185 | |
| mod_colors | 0.027 | 0.009 | 0.036 | |
| mod_gene_num | 0.050 | 0.002 | 0.052 | |
| mod_gsea | 1.199 | 0.008 | 1.212 | |
| mod_names | 0.014 | 0.001 | 0.016 | |
| mod_ora | 1.552 | 0.077 | 1.634 | |
| mod_summary | 0.082 | 0.002 | 0.085 | |
| module_genes | 0.017 | 0.004 | 0.021 | |
| new_cem | 0.012 | 0.002 | 0.013 | |
| nmodules | 0.027 | 0.006 | 0.033 | |
| ora_data | 1.605 | 0.101 | 1.715 | |
| plot_beta_r2 | 0.105 | 0.002 | 0.107 | |
| plot_gsea | 1.307 | 0.015 | 1.325 | |
| plot_hist | 0.223 | 0.002 | 0.226 | |
| plot_interactions | 7.021 | 0.138 | 7.166 | |
| plot_mean_k | 0.128 | 0.004 | 0.133 | |
| plot_mean_var | 0.272 | 0.009 | 0.283 | |
| plot_ora | 2.284 | 0.094 | 2.384 | |
| plot_profile | 1.066 | 0.020 | 1.088 | |
| plot_qq | 0.261 | 0.012 | 0.274 | |
| plot_sample_tree | 0.481 | 0.008 | 0.490 | |
| read_gmt | 0.372 | 0.005 | 0.378 | |
| sample_annot | 0.002 | 0.002 | 0.003 | |
| sample_annotation | 0.012 | 0.002 | 0.014 | |
| save_plots | 0.022 | 0.001 | 0.024 | |
| select_genes | 0.121 | 0.010 | 0.132 | |
| show_plot | 0.103 | 0.003 | 0.107 | |
| write_files | 0.344 | 0.045 | 0.392 | |