| Back to Multiple platform build/check report for BioC 3.20: simplified long | 
 | 
This page was generated on 2024-06-11 15:40 -0400 (Tue, 11 Jun 2024).
| Hostname | OS | Arch (*) | R version | Installed pkgs | 
|---|---|---|---|---|
| nebbiolo2 | Linux (Ubuntu 22.04.3 LTS) | x86_64 | 4.4.0 RC (2024-04-16 r86468) -- "Puppy Cup" | 4679 | 
| palomino4 | Windows Server 2022 Datacenter | x64 | 4.4.0 RC (2024-04-16 r86468 ucrt) -- "Puppy Cup" | 4414 | 
| merida1 | macOS 12.7.4 Monterey | x86_64 | 4.4.0 Patched (2024-04-24 r86482) -- "Puppy Cup" | 4441 | 
| kjohnson1 | macOS 13.6.6 Ventura | arm64 | 4.4.0 Patched (2024-04-24 r86482) -- "Puppy Cup" | 4394 | 
| Click on any hostname to see more info about the system (e.g. compilers) (*) as reported by 'uname -p', except on Windows and Mac OS X | ||||
| Package 284/2239 | Hostname | OS / Arch | INSTALL | BUILD | CHECK | BUILD BIN | ||||||||
| CCPROMISE 1.31.0  (landing page) Xueyuan Cao 
 | nebbiolo2 | Linux (Ubuntu 22.04.3 LTS) / x86_64 | OK | OK | WARNINGS |  | ||||||||
| palomino4 | Windows Server 2022 Datacenter / x64 | OK | OK | WARNINGS | OK |  | ||||||||
| merida1 | macOS 12.7.4 Monterey / x86_64 | OK | OK | WARNINGS | OK |  | ||||||||
| kjohnson1 | macOS 13.6.6 Ventura / arm64 | OK | OK | WARNINGS | OK |  | ||||||||
| To the developers/maintainers of the CCPROMISE package: - Allow up to 24 hours (and sometimes 48 hours) for your latest push to git@git.bioconductor.org:packages/CCPROMISE.git to reflect on this report. See Troubleshooting Build Report for more information. - Use the following Renviron settings to reproduce errors and warnings. - If 'R CMD check' started to fail recently on the Linux builder(s) over a missing dependency, add the missing dependency to 'Suggests:' in your DESCRIPTION file. See Renviron.bioc for more information. | 
| Package: CCPROMISE | 
| Version: 1.31.0 | 
| Command: rm -rf CCPROMISE.buildbin-libdir && mkdir CCPROMISE.buildbin-libdir && F:\biocbuild\bbs-3.20-bioc\R\bin\R.exe CMD INSTALL --build --library=CCPROMISE.buildbin-libdir CCPROMISE_1.31.0.tar.gz | 
| StartedAt: 2024-06-10 13:05:51 -0400 (Mon, 10 Jun 2024) | 
| EndedAt: 2024-06-10 13:07:01 -0400 (Mon, 10 Jun 2024) | 
| EllapsedTime: 70.0 seconds | 
| RetCode: 0 | 
| Status: OK | 
| PackageFile: CCPROMISE_1.31.0.zip | 
| PackageFileSize: 1.084 MiB | 
############################################################################## ############################################################################## ### ### Running command: ### ### rm -rf CCPROMISE.buildbin-libdir && mkdir CCPROMISE.buildbin-libdir && F:\biocbuild\bbs-3.20-bioc\R\bin\R.exe CMD INSTALL --build --library=CCPROMISE.buildbin-libdir CCPROMISE_1.31.0.tar.gz ### ############################################################################## ############################################################################## * installing *source* package 'CCPROMISE' ... ** using staged installation ** R ** data ** inst ** byte-compile and prepare package for lazy loading Note: break used in wrong context: no loop is visible Note: break used in wrong context: no loop is visible Note: break used in wrong context: no loop is visible Note: break used in wrong context: no loop is visible ** help *** installing help indices ** building package indices ** installing vignettes ** testing if installed package can be loaded from temporary location ** testing if installed package can be loaded from final location ** testing if installed package keeps a record of temporary installation path * MD5 sums packaged installation of 'CCPROMISE' as CCPROMISE_1.31.0.zip * DONE (CCPROMISE)