| Back to Multiple platform build/check report for BioC 3.20: simplified long |
|
This page was generated on 2025-04-02 19:28 -0400 (Wed, 02 Apr 2025).
| Hostname | OS | Arch (*) | R version | Installed pkgs |
|---|---|---|---|---|
| nebbiolo2 | Linux (Ubuntu 24.04.1 LTS) | x86_64 | 4.4.3 (2025-02-28) -- "Trophy Case" | 4764 |
| palomino8 | Windows Server 2022 Datacenter | x64 | 4.4.3 (2025-02-28 ucrt) -- "Trophy Case" | 4495 |
| merida1 | macOS 12.7.5 Monterey | x86_64 | 4.4.3 (2025-02-28) -- "Trophy Case" | 4522 |
| kjohnson1 | macOS 13.6.6 Ventura | arm64 | 4.4.3 (2025-02-28) -- "Trophy Case" | 4449 |
| taishan | Linux (openEuler 24.03 LTS) | aarch64 | 4.4.3 (2025-02-28) -- "Trophy Case" | 4426 |
| Click on any hostname to see more info about the system (e.g. compilers) (*) as reported by 'uname -p', except on Windows and Mac OS X | ||||
| Package 264/2289 | Hostname | OS / Arch | INSTALL | BUILD | CHECK | BUILD BIN | ||||||||
| CAGEfightR 1.26.0 (landing page) Malte Thodberg
| nebbiolo2 | Linux (Ubuntu 24.04.1 LTS) / x86_64 | OK | OK | OK | |||||||||
| palomino8 | Windows Server 2022 Datacenter / x64 | OK | OK | OK | OK | |||||||||
| merida1 | macOS 12.7.5 Monterey / x86_64 | OK | OK | OK | OK | |||||||||
| kjohnson1 | macOS 13.6.6 Ventura / arm64 | OK | OK | OK | OK | |||||||||
| taishan | Linux (openEuler 24.03 LTS) / aarch64 | OK | OK | OK | ||||||||||
|
To the developers/maintainers of the CAGEfightR package: - Allow up to 24 hours (and sometimes 48 hours) for your latest push to git@git.bioconductor.org:packages/CAGEfightR.git to reflect on this report. See Troubleshooting Build Report for more information. - Use the following Renviron settings to reproduce errors and warnings. - If 'R CMD check' started to fail recently on the Linux builder(s) over a missing dependency, add the missing dependency to 'Suggests:' in your DESCRIPTION file. See Renviron.bioc for more information. |
| Package: CAGEfightR |
| Version: 1.26.0 |
| Command: /home/biocbuild/bbs-3.20-bioc/R/bin/R CMD check --install=check:CAGEfightR.install-out.txt --library=/home/biocbuild/bbs-3.20-bioc/R/site-library --timings CAGEfightR_1.26.0.tar.gz |
| StartedAt: 2025-03-31 20:27:03 -0400 (Mon, 31 Mar 2025) |
| EndedAt: 2025-03-31 20:35:40 -0400 (Mon, 31 Mar 2025) |
| EllapsedTime: 517.5 seconds |
| RetCode: 0 |
| Status: OK |
| CheckDir: CAGEfightR.Rcheck |
| Warnings: 0 |
##############################################################################
##############################################################################
###
### Running command:
###
### /home/biocbuild/bbs-3.20-bioc/R/bin/R CMD check --install=check:CAGEfightR.install-out.txt --library=/home/biocbuild/bbs-3.20-bioc/R/site-library --timings CAGEfightR_1.26.0.tar.gz
###
##############################################################################
##############################################################################
* using log directory ‘/home/biocbuild/bbs-3.20-bioc/meat/CAGEfightR.Rcheck’
* using R version 4.4.3 (2025-02-28)
* using platform: x86_64-pc-linux-gnu
* R was compiled by
gcc (Ubuntu 13.3.0-6ubuntu2~24.04) 13.3.0
GNU Fortran (Ubuntu 13.3.0-6ubuntu2~24.04) 13.3.0
* running under: Ubuntu 24.04.2 LTS
* using session charset: UTF-8
* checking for file ‘CAGEfightR/DESCRIPTION’ ... OK
* checking extension type ... Package
* this is package ‘CAGEfightR’ version ‘1.26.0’
* package encoding: UTF-8
* checking package namespace information ... OK
* checking package dependencies ... OK
* checking if this is a source package ... OK
* checking if there is a namespace ... OK
* checking for hidden files and directories ... OK
* checking for portable file names ... OK
* checking for sufficient/correct file permissions ... OK
* checking whether package ‘CAGEfightR’ can be installed ... OK
* checking installed package size ... OK
* checking package directory ... OK
* checking ‘build’ directory ... OK
* checking DESCRIPTION meta-information ... OK
* checking top-level files ... OK
* checking for left-over files ... OK
* checking index information ... OK
* checking package subdirectories ... OK
* checking code files for non-ASCII characters ... OK
* checking R files for syntax errors ... OK
* checking whether the package can be loaded ... OK
* checking whether the package can be loaded with stated dependencies ... OK
* checking whether the package can be unloaded cleanly ... OK
* checking whether the namespace can be loaded with stated dependencies ... OK
* checking whether the namespace can be unloaded cleanly ... OK
* checking loading without being on the library search path ... OK
* checking whether startup messages can be suppressed ... OK
* checking dependencies in R code ... OK
* checking S3 generic/method consistency ... OK
* checking replacement functions ... OK
* checking foreign function calls ... OK
* checking R code for possible problems ... OK
* checking Rd files ... OK
* checking Rd metadata ... OK
* checking Rd cross-references ... OK
* checking for missing documentation entries ... OK
* checking for code/documentation mismatches ... OK
* checking Rd \usage sections ... OK
* checking Rd contents ... OK
* checking for unstated dependencies in examples ... OK
* checking contents of ‘data’ directory ... OK
* checking data for non-ASCII characters ... OK
* checking LazyData ... OK
* checking data for ASCII and uncompressed saves ... OK
* checking files in ‘vignettes’ ... OK
* checking examples ... OK
Examples with CPU (user + system) or elapsed time > 5s
user system elapsed
findLinks 5.823 0.818 6.089
* checking for unstated dependencies in vignettes ... OK
* checking package vignettes ... OK
* checking re-building of vignette outputs ... OK
* checking PDF version of manual ... OK
* DONE
Status: OK
CAGEfightR.Rcheck/00install.out
############################################################################## ############################################################################## ### ### Running command: ### ### /home/biocbuild/bbs-3.20-bioc/R/bin/R CMD INSTALL CAGEfightR ### ############################################################################## ############################################################################## * installing to library ‘/home/biocbuild/bbs-3.20-bioc/R/site-library’ * installing *source* package ‘CAGEfightR’ ... ** using staged installation ** R ** data *** moving datasets to lazyload DB ** inst ** byte-compile and prepare package for lazy loading ** help *** installing help indices ** building package indices ** installing vignettes ** testing if installed package can be loaded from temporary location ** testing if installed package can be loaded from final location ** testing if installed package keeps a record of temporary installation path * DONE (CAGEfightR)
CAGEfightR.Rcheck/CAGEfightR-Ex.timings
| name | user | system | elapsed | |
| assignGeneID | 3.621 | 0.112 | 3.737 | |
| assignMissingID | 0.919 | 0.002 | 0.920 | |
| assignTxID | 0.802 | 0.007 | 0.808 | |
| assignTxType | 0 | 0 | 0 | |
| balanceBC | 0 | 0 | 0 | |
| balanceD | 0.001 | 0.000 | 0.000 | |
| bwCommonGenome | 0.034 | 0.000 | 0.035 | |
| bwGenomeCompatibility | 0.015 | 0.000 | 0.015 | |
| bwValid | 0.006 | 0.001 | 0.007 | |
| calcBidirectionality | 0.405 | 0.022 | 0.427 | |
| calcComposition | 2.303 | 0.100 | 2.402 | |
| calcPooled | 0.083 | 0.000 | 0.083 | |
| calcShape | 2.193 | 0.161 | 2.355 | |
| calcSupport | 0.101 | 0.002 | 0.103 | |
| calcTPM | 0.109 | 0.003 | 0.111 | |
| calcTotalTags | 0.051 | 0.003 | 0.055 | |
| checkCTSSs | 0.226 | 0.000 | 0.226 | |
| checkPeaked | 0.057 | 0.005 | 0.062 | |
| checkPooled | 0.052 | 0.000 | 0.053 | |
| clusterBidirectionally | 0 | 0 | 0 | |
| clusterUnidirectionally | 1.195 | 0.002 | 1.196 | |
| combineClusters | 0.704 | 0.001 | 0.705 | |
| convertBAM2BigWig | 0 | 0 | 0 | |
| convertBED2BigWig | 0 | 0 | 0 | |
| convertGRanges2GPos | 0.064 | 0.000 | 0.064 | |
| exampleDesign | 0.002 | 0.002 | 0.004 | |
| findLinks | 5.823 | 0.818 | 6.089 | |
| findStretches | 0.338 | 0.033 | 0.371 | |
| quantifyCTSSs | 0.001 | 0.000 | 0.000 | |
| quantifyCTSSs2 | 0 | 0 | 0 | |
| quantifyClusters | 0.344 | 0.032 | 0.376 | |
| quantifyGenes | 1.100 | 0.077 | 1.177 | |
| quickEnhancers | 0 | 0 | 0 | |
| quickGenes | 0 | 0 | 0 | |
| quickTSSs | 0 | 0 | 0 | |
| shapeEntropy | 0.001 | 0.000 | 0.000 | |
| shapeIQR | 0.000 | 0.000 | 0.001 | |
| shapeMean | 0 | 0 | 0 | |
| shapeMultimodality | 0 | 0 | 0 | |
| subsetByBidirectionality | 0.355 | 0.011 | 0.366 | |
| subsetByComposition | 1.038 | 0.013 | 1.051 | |
| subsetBySupport | 0.062 | 0.005 | 0.066 | |
| swapRanges | 0.154 | 0.002 | 0.156 | |
| swapScores | 0.081 | 0.001 | 0.082 | |
| trackBalance | 0.000 | 0.000 | 0.001 | |
| trackCTSS | 3.040 | 0.243 | 3.283 | |
| trackClusters | 1.936 | 0.004 | 1.940 | |
| trackLinks | 0.859 | 0.528 | 1.043 | |
| trimToPeak | 0.760 | 0.063 | 0.822 | |
| trimToPercentiles | 1.901 | 0.157 | 2.058 | |
| tuneTagClustering | 0 | 0 | 0 | |
| utilsAggregateRows | 0.293 | 0.090 | 0.383 | |
| utilsDeStrand | 0.126 | 0.035 | 0.161 | |
| utilsScoreOverlaps | 0.063 | 0.014 | 0.077 | |
| utilsSimplifyTxDb | 0 | 0 | 0 | |