| Back to Multiple platform build/check report for BioC 3.20: simplified long | 
 | 
This page was generated on 2024-07-16 11:40 -0400 (Tue, 16 Jul 2024).
| Hostname | OS | Arch (*) | R version | Installed pkgs | 
|---|---|---|---|---|
| nebbiolo2 | Linux (Ubuntu 22.04.3 LTS) | x86_64 | 4.4.1 (2024-06-14) -- "Race for Your Life" | 4677 | 
| palomino6 | Windows Server 2022 Datacenter | x64 | 4.4.1 (2024-06-14 ucrt) -- "Race for Your Life" | 4416 | 
| lconway | macOS 12.7.1 Monterey | x86_64 | 4.4.1 (2024-06-14) -- "Race for Your Life" | 4444 | 
| kjohnson3 | macOS 13.6.5 Ventura | arm64 | 4.4.1 (2024-06-14) -- "Race for Your Life" | 4393 | 
| palomino8 | Windows Server 2022 Datacenter | x64 | 4.4.1 (2024-06-14 ucrt) -- "Race for Your Life" | 4373 | 
| Click on any hostname to see more info about the system (e.g. compilers) (*) as reported by 'uname -p', except on Windows and Mac OS X | ||||
| Package 225/2243 | Hostname | OS / Arch | INSTALL | BUILD | CHECK | BUILD BIN | ||||||||
| BloodGen3Module 1.13.0  (landing page) Darawan Rinchai 
 | nebbiolo2 | Linux (Ubuntu 22.04.3 LTS) / x86_64 | OK | OK | WARNINGS |  | ||||||||
| palomino6 | Windows Server 2022 Datacenter / x64 | OK | OK | WARNINGS | OK | |||||||||
| lconway | macOS 12.7.1 Monterey / x86_64 | OK | OK | WARNINGS | OK |  | ||||||||
| kjohnson3 | macOS 13.6.5 Ventura / arm64 | OK | OK | WARNINGS | OK |  | ||||||||
| palomino8 | Windows Server 2022 Datacenter / x64 | OK | OK | WARNINGS | OK | |||||||||
| To the developers/maintainers of the BloodGen3Module package: - Allow up to 24 hours (and sometimes 48 hours) for your latest push to git@git.bioconductor.org:packages/BloodGen3Module.git to reflect on this report. See Troubleshooting Build Report for more information. - Use the following Renviron settings to reproduce errors and warnings. - If 'R CMD check' started to fail recently on the Linux builder(s) over a missing dependency, add the missing dependency to 'Suggests:' in your DESCRIPTION file. See Renviron.bioc for more information. | 
| Package: BloodGen3Module | 
| Version: 1.13.0 | 
| Command: rm -rf BloodGen3Module.buildbin-libdir && mkdir BloodGen3Module.buildbin-libdir && C:\Users\biocbuild\bbs-3.20-bioc\R\bin\R.exe CMD INSTALL --build --library=BloodGen3Module.buildbin-libdir BloodGen3Module_1.13.0.tar.gz | 
| StartedAt: 2024-07-16 05:57:35 -0400 (Tue, 16 Jul 2024) | 
| EndedAt: 2024-07-16 05:58:09 -0400 (Tue, 16 Jul 2024) | 
| EllapsedTime: 34.2 seconds | 
| RetCode: 0 | 
| Status: OK | 
| PackageFile: BloodGen3Module_1.13.0.zip | 
| PackageFileSize: 245.2 KiB | 
############################################################################## ############################################################################## ### ### Running command: ### ### rm -rf BloodGen3Module.buildbin-libdir && mkdir BloodGen3Module.buildbin-libdir && C:\Users\biocbuild\bbs-3.20-bioc\R\bin\R.exe CMD INSTALL --build --library=BloodGen3Module.buildbin-libdir BloodGen3Module_1.13.0.tar.gz ### ############################################################################## ############################################################################## * installing *source* package 'BloodGen3Module' ... ** using staged installation ** R ** inst ** byte-compile and prepare package for lazy loading Warning: replacing previous import 'SummarizedExperiment::rowRanges' by 'matrixStats::rowRanges' when loading 'BloodGen3Module' Warning: replacing previous import 'SummarizedExperiment::start' by 'stats::start' when loading 'BloodGen3Module' Warning: replacing previous import 'SummarizedExperiment::end' by 'stats::end' when loading 'BloodGen3Module' Warning: replacing previous import 'matrixStats::rowRanges' by 'SummarizedExperiment::rowRanges' when loading 'BloodGen3Module' ** help *** installing help indices ** building package indices ** installing vignettes ** testing if installed package can be loaded from temporary location Warning: replacing previous import 'SummarizedExperiment::rowRanges' by 'matrixStats::rowRanges' when loading 'BloodGen3Module' Warning: replacing previous import 'SummarizedExperiment::start' by 'stats::start' when loading 'BloodGen3Module' Warning: replacing previous import 'SummarizedExperiment::end' by 'stats::end' when loading 'BloodGen3Module' Warning: replacing previous import 'matrixStats::rowRanges' by 'SummarizedExperiment::rowRanges' when loading 'BloodGen3Module' ** testing if installed package can be loaded from final location Warning: replacing previous import 'SummarizedExperiment::rowRanges' by 'matrixStats::rowRanges' when loading 'BloodGen3Module' Warning: replacing previous import 'SummarizedExperiment::start' by 'stats::start' when loading 'BloodGen3Module' Warning: replacing previous import 'SummarizedExperiment::end' by 'stats::end' when loading 'BloodGen3Module' Warning: replacing previous import 'matrixStats::rowRanges' by 'SummarizedExperiment::rowRanges' when loading 'BloodGen3Module' ** testing if installed package keeps a record of temporary installation path * MD5 sums packaged installation of 'BloodGen3Module' as BloodGen3Module_1.13.0.zip * DONE (BloodGen3Module)