| Back to Multiple platform build/check report for BioC 3.20: simplified long |
|
This page was generated on 2025-04-02 19:29 -0400 (Wed, 02 Apr 2025).
| Hostname | OS | Arch (*) | R version | Installed pkgs |
|---|---|---|---|---|
| nebbiolo2 | Linux (Ubuntu 24.04.1 LTS) | x86_64 | 4.4.3 (2025-02-28) -- "Trophy Case" | 4764 |
| palomino8 | Windows Server 2022 Datacenter | x64 | 4.4.3 (2025-02-28 ucrt) -- "Trophy Case" | 4495 |
| merida1 | macOS 12.7.5 Monterey | x86_64 | 4.4.3 (2025-02-28) -- "Trophy Case" | 4522 |
| kjohnson1 | macOS 13.6.6 Ventura | arm64 | 4.4.3 (2025-02-28) -- "Trophy Case" | 4449 |
| taishan | Linux (openEuler 24.03 LTS) | aarch64 | 4.4.3 (2025-02-28) -- "Trophy Case" | 4426 |
| Click on any hostname to see more info about the system (e.g. compilers) (*) as reported by 'uname -p', except on Windows and Mac OS X | ||||
| Package 177/2289 | Hostname | OS / Arch | INSTALL | BUILD | CHECK | BUILD BIN | ||||||||
| BiocBaseUtils 1.8.0 (landing page) Marcel Ramos
| nebbiolo2 | Linux (Ubuntu 24.04.1 LTS) / x86_64 | OK | OK | OK | |||||||||
| palomino8 | Windows Server 2022 Datacenter / x64 | OK | OK | OK | OK | |||||||||
| merida1 | macOS 12.7.5 Monterey / x86_64 | OK | OK | OK | OK | |||||||||
| kjohnson1 | macOS 13.6.6 Ventura / arm64 | OK | OK | OK | OK | |||||||||
| taishan | Linux (openEuler 24.03 LTS) / aarch64 | OK | OK | OK | ||||||||||
|
To the developers/maintainers of the BiocBaseUtils package: - Allow up to 24 hours (and sometimes 48 hours) for your latest push to git@git.bioconductor.org:packages/BiocBaseUtils.git to reflect on this report. See Troubleshooting Build Report for more information. - Use the following Renviron settings to reproduce errors and warnings. - If 'R CMD check' started to fail recently on the Linux builder(s) over a missing dependency, add the missing dependency to 'Suggests:' in your DESCRIPTION file. See Renviron.bioc for more information. |
| Package: BiocBaseUtils |
| Version: 1.8.0 |
| Command: F:\biocbuild\bbs-3.20-bioc\R\bin\R.exe CMD check --no-multiarch --install=check:BiocBaseUtils.install-out.txt --library=F:\biocbuild\bbs-3.20-bioc\R\library --no-vignettes --timings BiocBaseUtils_1.8.0.tar.gz |
| StartedAt: 2025-03-31 23:17:04 -0400 (Mon, 31 Mar 2025) |
| EndedAt: 2025-03-31 23:17:36 -0400 (Mon, 31 Mar 2025) |
| EllapsedTime: 32.0 seconds |
| RetCode: 0 |
| Status: OK |
| CheckDir: BiocBaseUtils.Rcheck |
| Warnings: 0 |
##############################################################################
##############################################################################
###
### Running command:
###
### F:\biocbuild\bbs-3.20-bioc\R\bin\R.exe CMD check --no-multiarch --install=check:BiocBaseUtils.install-out.txt --library=F:\biocbuild\bbs-3.20-bioc\R\library --no-vignettes --timings BiocBaseUtils_1.8.0.tar.gz
###
##############################################################################
##############################################################################
* using log directory 'F:/biocbuild/bbs-3.20-bioc/meat/BiocBaseUtils.Rcheck'
* using R version 4.4.3 (2025-02-28 ucrt)
* using platform: x86_64-w64-mingw32
* R was compiled by
gcc.exe (GCC) 13.3.0
GNU Fortran (GCC) 13.3.0
* running under: Windows Server 2022 x64 (build 20348)
* using session charset: UTF-8
* using option '--no-vignettes'
* checking for file 'BiocBaseUtils/DESCRIPTION' ... OK
* this is package 'BiocBaseUtils' version '1.8.0'
* package encoding: UTF-8
* checking package namespace information ... OK
* checking package dependencies ... OK
* checking if this is a source package ... OK
* checking if there is a namespace ... OK
* checking for hidden files and directories ... OK
* checking for portable file names ... OK
* checking whether package 'BiocBaseUtils' can be installed ... OK
* checking installed package size ... OK
* checking package directory ... OK
* checking 'build' directory ... OK
* checking DESCRIPTION meta-information ... OK
* checking top-level files ... OK
* checking for left-over files ... OK
* checking index information ... OK
* checking package subdirectories ... OK
* checking code files for non-ASCII characters ... OK
* checking R files for syntax errors ... OK
* checking whether the package can be loaded ... OK
* checking whether the package can be loaded with stated dependencies ... OK
* checking whether the package can be unloaded cleanly ... OK
* checking whether the namespace can be loaded with stated dependencies ... OK
* checking whether the namespace can be unloaded cleanly ... OK
* checking dependencies in R code ... OK
* checking S3 generic/method consistency ... OK
* checking replacement functions ... OK
* checking foreign function calls ... OK
* checking R code for possible problems ... OK
* checking Rd files ... OK
* checking Rd metadata ... OK
* checking Rd cross-references ... OK
* checking for missing documentation entries ... OK
* checking for code/documentation mismatches ... OK
* checking Rd \usage sections ... OK
* checking Rd contents ... OK
* checking for unstated dependencies in examples ... OK
* checking files in 'vignettes' ... OK
* checking examples ... OK
* checking for unstated dependencies in 'tests' ... OK
* checking tests ...
Running 'tinytest.R'
OK
* checking for unstated dependencies in vignettes ... OK
* checking package vignettes ... OK
* checking running R code from vignettes ... SKIPPED
* checking re-building of vignette outputs ... SKIPPED
* checking PDF version of manual ... OK
* DONE
Status: OK
BiocBaseUtils.Rcheck/00install.out
############################################################################## ############################################################################## ### ### Running command: ### ### F:\biocbuild\bbs-3.20-bioc\R\bin\R.exe CMD INSTALL BiocBaseUtils ### ############################################################################## ############################################################################## * installing to library 'F:/biocbuild/bbs-3.20-bioc/R/library' * installing *source* package 'BiocBaseUtils' ... ** using staged installation ** R ** inst ** byte-compile and prepare package for lazy loading ** help *** installing help indices ** building package indices ** installing vignettes ** testing if installed package can be loaded from temporary location ** testing if installed package can be loaded from final location ** testing if installed package keeps a record of temporary installation path * DONE (BiocBaseUtils)
BiocBaseUtils.Rcheck/tests/tinytest.Rout
R version 4.4.3 (2025-02-28 ucrt) -- "Trophy Case"
Copyright (C) 2025 The R Foundation for Statistical Computing
Platform: x86_64-w64-mingw32/x64
R is free software and comes with ABSOLUTELY NO WARRANTY.
You are welcome to redistribute it under certain conditions.
Type 'license()' or 'licence()' for distribution details.
R is a collaborative project with many contributors.
Type 'contributors()' for more information and
'citation()' on how to cite R or R packages in publications.
Type 'demo()' for some demos, 'help()' for on-line help, or
'help.start()' for an HTML browser interface to help.
Type 'q()' to quit R.
> if (requireNamespace("tinytest", quietly = TRUE))
+ tinytest::test_package("BiocBaseUtils")
test_assertions.R............. 1 tests [0;32mOK[0m
test_assertions.R............. 2 tests [0;32mOK[0m
test_assertions.R............. 3 tests [0;32mOK[0m
test_assertions.R............. 4 tests [0;32mOK[0m
test_assertions.R............. 5 tests [0;32mOK[0m
test_assertions.R............. 6 tests [0;32mOK[0m
test_assertions.R............. 7 tests [0;32mOK[0m
test_assertions.R............. 8 tests [0;32mOK[0m
test_assertions.R............. 9 tests [0;32mOK[0m
test_assertions.R............. 10 tests [0;32mOK[0m
test_assertions.R............. 11 tests [0;32mOK[0m
test_assertions.R............. 12 tests [0;32mOK[0m
test_assertions.R............. 13 tests [0;32mOK[0m [0;36m64ms[0m
You are using 'tinytest::' to express test expectations.
The results from these tests are not collected. Found the following occurrences:
> test_checkInstalled.R#006: tinytest::expect_match
Remove the 'tinytest::' prefix to register the test results.FALSE
The following package(s) are required for this function:
BiocManager::install("abc123xyzjfk")
test_checkInstalled.R......... 1 tests [0;32mOK[0m
test_checkInstalled.R......... 1 tests [0;32mOK[0m
test_checkInstalled.R......... 2 tests [0;32mOK[0m [0;36m7ms[0m
test_internals.R.............. 0 tests
test_internals.R.............. 0 tests
test_internals.R.............. 0 tests
test_internals.R.............. 1 tests [0;32mOK[0m
test_internals.R.............. 1 tests [0;32mOK[0m
test_internals.R.............. 2 tests [0;32mOK[0m
test_internals.R.............. 3 tests [0;32mOK[0m [0;36m13ms[0m
test_lifeCycle.R.............. 0 tests
test_lifeCycle.R.............. 1 tests [0;32mOK[0m
test_lifeCycle.R.............. 2 tests [0;32mOK[0m
test_lifeCycle.R.............. 3 tests [0;32mOK[0m
test_lifeCycle.R.............. 3 tests [0;32mOK[0m
test_lifeCycle.R.............. 4 tests [0;32mOK[0m
test_lifeCycle.R.............. 5 tests [0;32mOK[0m
test_lifeCycle.R.............. 6 tests [0;32mOK[0m [0;36m6ms[0m
test_showUtils.R.............. 1 tests [0;32mOK[0m
test_showUtils.R.............. 2 tests [0;32mOK[0m
test_showUtils.R.............. 3 tests [0;32mOK[0m
test_showUtils.R.............. 4 tests [0;32mOK[0m
test_showUtils.R.............. 5 tests [0;32mOK[0m
test_showUtils.R.............. 6 tests [0;32mOK[0m [0;36m12ms[0m
All ok, 30 results (0.1s)
>
> proc.time()
user system elapsed
0.31 0.06 0.42
BiocBaseUtils.Rcheck/BiocBaseUtils-Ex.timings
| name | user | system | elapsed | |
| Assertions | 0 | 0 | 0 | |
| askUserYesNo | 0 | 0 | 0 | |
| checkInstalled | 0.02 | 0.00 | 0.02 | |
| lifeCycle | 0 | 0 | 0 | |
| selectSome | 0 | 0 | 0 | |
| setSlots | 0 | 0 | 0 | |