| Back to Multiple platform build/check report for BioC 3.20: simplified long |
|
This page was generated on 2025-04-02 19:28 -0400 (Wed, 02 Apr 2025).
| Hostname | OS | Arch (*) | R version | Installed pkgs |
|---|---|---|---|---|
| nebbiolo2 | Linux (Ubuntu 24.04.1 LTS) | x86_64 | 4.4.3 (2025-02-28) -- "Trophy Case" | 4764 |
| palomino8 | Windows Server 2022 Datacenter | x64 | 4.4.3 (2025-02-28 ucrt) -- "Trophy Case" | 4495 |
| merida1 | macOS 12.7.5 Monterey | x86_64 | 4.4.3 (2025-02-28) -- "Trophy Case" | 4522 |
| kjohnson1 | macOS 13.6.6 Ventura | arm64 | 4.4.3 (2025-02-28) -- "Trophy Case" | 4449 |
| taishan | Linux (openEuler 24.03 LTS) | aarch64 | 4.4.3 (2025-02-28) -- "Trophy Case" | 4426 |
| Click on any hostname to see more info about the system (e.g. compilers) (*) as reported by 'uname -p', except on Windows and Mac OS X | ||||
| Package 172/2289 | Hostname | OS / Arch | INSTALL | BUILD | CHECK | BUILD BIN | ||||||||
| Biobase 2.66.0 (landing page) Bioconductor Package Maintainer
| nebbiolo2 | Linux (Ubuntu 24.04.1 LTS) / x86_64 | OK | OK | OK | |||||||||
| palomino8 | Windows Server 2022 Datacenter / x64 | OK | OK | OK | OK | |||||||||
| merida1 | macOS 12.7.5 Monterey / x86_64 | OK | OK | OK | OK | |||||||||
| kjohnson1 | macOS 13.6.6 Ventura / arm64 | OK | OK | OK | OK | |||||||||
| taishan | Linux (openEuler 24.03 LTS) / aarch64 | OK | OK | OK | ||||||||||
|
To the developers/maintainers of the Biobase package: - Allow up to 24 hours (and sometimes 48 hours) for your latest push to git@git.bioconductor.org:packages/Biobase.git to reflect on this report. See Troubleshooting Build Report for more information. - Use the following Renviron settings to reproduce errors and warnings. - If 'R CMD check' started to fail recently on the Linux builder(s) over a missing dependency, add the missing dependency to 'Suggests:' in your DESCRIPTION file. See Renviron.bioc for more information. |
| Package: Biobase |
| Version: 2.66.0 |
| Command: /home/biocbuild/bbs-3.20-bioc/R/bin/R CMD check --install=check:Biobase.install-out.txt --library=/home/biocbuild/bbs-3.20-bioc/R/site-library --timings Biobase_2.66.0.tar.gz |
| StartedAt: 2025-03-31 20:10:32 -0400 (Mon, 31 Mar 2025) |
| EndedAt: 2025-03-31 20:11:48 -0400 (Mon, 31 Mar 2025) |
| EllapsedTime: 76.1 seconds |
| RetCode: 0 |
| Status: OK |
| CheckDir: Biobase.Rcheck |
| Warnings: 0 |
##############################################################################
##############################################################################
###
### Running command:
###
### /home/biocbuild/bbs-3.20-bioc/R/bin/R CMD check --install=check:Biobase.install-out.txt --library=/home/biocbuild/bbs-3.20-bioc/R/site-library --timings Biobase_2.66.0.tar.gz
###
##############################################################################
##############################################################################
* using log directory ‘/home/biocbuild/bbs-3.20-bioc/meat/Biobase.Rcheck’
* using R version 4.4.3 (2025-02-28)
* using platform: x86_64-pc-linux-gnu
* R was compiled by
gcc (Ubuntu 13.3.0-6ubuntu2~24.04) 13.3.0
GNU Fortran (Ubuntu 13.3.0-6ubuntu2~24.04) 13.3.0
* running under: Ubuntu 24.04.2 LTS
* using session charset: UTF-8
* checking for file ‘Biobase/DESCRIPTION’ ... OK
* this is package ‘Biobase’ version ‘2.66.0’
* checking package namespace information ... OK
* checking package dependencies ... OK
* checking if this is a source package ... OK
* checking if there is a namespace ... OK
* checking for hidden files and directories ... OK
* checking for portable file names ... OK
* checking for sufficient/correct file permissions ... OK
* checking whether package ‘Biobase’ can be installed ... OK
* used C compiler: ‘gcc (Ubuntu 13.3.0-6ubuntu2~24.04) 13.3.0’
* checking installed package size ... OK
* checking package directory ... OK
* checking ‘build’ directory ... OK
* checking DESCRIPTION meta-information ... OK
* checking top-level files ... OK
* checking for left-over files ... OK
* checking index information ... OK
* checking package subdirectories ... OK
* checking code files for non-ASCII characters ... OK
* checking R files for syntax errors ... OK
* checking whether the package can be loaded ... OK
* checking whether the package can be loaded with stated dependencies ... OK
* checking whether the package can be unloaded cleanly ... OK
* checking whether the namespace can be loaded with stated dependencies ... OK
* checking whether the namespace can be unloaded cleanly ... OK
* checking loading without being on the library search path ... OK
* checking whether startup messages can be suppressed ... OK
* checking dependencies in R code ... OK
* checking S3 generic/method consistency ... OK
* checking replacement functions ... OK
* checking foreign function calls ... OK
* checking R code for possible problems ... OK
* checking Rd files ... OK
* checking Rd metadata ... OK
* checking Rd cross-references ... OK
* checking for missing documentation entries ... OK
* checking for code/documentation mismatches ... OK
* checking Rd \usage sections ... OK
* checking Rd contents ... OK
* checking for unstated dependencies in examples ... OK
* checking contents of ‘data’ directory ... OK
* checking data for non-ASCII characters ... OK
* checking data for ASCII and uncompressed saves ... OK
* checking line endings in C/C++/Fortran sources/headers ... OK
* checking compiled code ... NOTE
Note: information on .o files is not available
* checking files in ‘vignettes’ ... OK
* checking examples ... OK
* checking for unstated dependencies in ‘tests’ ... OK
* checking tests ...
Running ‘test-all.R’
Running ‘test-rowMedians.R’
OK
* checking for unstated dependencies in vignettes ... OK
* checking package vignettes ... OK
* checking re-building of vignette outputs ... OK
* checking PDF version of manual ... OK
* DONE
Status: 1 NOTE
See
‘/home/biocbuild/bbs-3.20-bioc/meat/Biobase.Rcheck/00check.log’
for details.
Biobase.Rcheck/00install.out
############################################################################## ############################################################################## ### ### Running command: ### ### /home/biocbuild/bbs-3.20-bioc/R/bin/R CMD INSTALL Biobase ### ############################################################################## ############################################################################## * installing to library ‘/home/biocbuild/bbs-3.20-bioc/R/site-library’ * installing *source* package ‘Biobase’ ... ** using staged installation ** libs using C compiler: ‘gcc (Ubuntu 13.3.0-6ubuntu2~24.04) 13.3.0’ gcc -I"/home/biocbuild/bbs-3.20-bioc/R/include" -DNDEBUG -I/usr/local/include -fpic -g -O2 -Wall -c Rinit.c -o Rinit.o gcc -I"/home/biocbuild/bbs-3.20-bioc/R/include" -DNDEBUG -I/usr/local/include -fpic -g -O2 -Wall -c anyMissing.c -o anyMissing.o gcc -I"/home/biocbuild/bbs-3.20-bioc/R/include" -DNDEBUG -I/usr/local/include -fpic -g -O2 -Wall -c envir.c -o envir.o gcc -I"/home/biocbuild/bbs-3.20-bioc/R/include" -DNDEBUG -I/usr/local/include -fpic -g -O2 -Wall -c matchpt.c -o matchpt.o gcc -I"/home/biocbuild/bbs-3.20-bioc/R/include" -DNDEBUG -I/usr/local/include -fpic -g -O2 -Wall -c rowMedians.c -o rowMedians.o gcc -I"/home/biocbuild/bbs-3.20-bioc/R/include" -DNDEBUG -I/usr/local/include -fpic -g -O2 -Wall -c sublist_extract.c -o sublist_extract.o gcc -shared -L/home/biocbuild/bbs-3.20-bioc/R/lib -L/usr/local/lib -o Biobase.so Rinit.o anyMissing.o envir.o matchpt.o rowMedians.o sublist_extract.o -L/home/biocbuild/bbs-3.20-bioc/R/lib -lR installing to /home/biocbuild/bbs-3.20-bioc/R/site-library/00LOCK-Biobase/00new/Biobase/libs ** R ** data ** inst ** byte-compile and prepare package for lazy loading ** help *** installing help indices ** building package indices ** installing vignettes ** testing if installed package can be loaded from temporary location ** checking absolute paths in shared objects and dynamic libraries ** testing if installed package can be loaded from final location ** testing if installed package keeps a record of temporary installation path * DONE (Biobase)
Biobase.Rcheck/tests/test-all.Rout
R version 4.4.3 (2025-02-28) -- "Trophy Case"
Copyright (C) 2025 The R Foundation for Statistical Computing
Platform: x86_64-pc-linux-gnu
R is free software and comes with ABSOLUTELY NO WARRANTY.
You are welcome to redistribute it under certain conditions.
Type 'license()' or 'licence()' for distribution details.
R is a collaborative project with many contributors.
Type 'contributors()' for more information and
'citation()' on how to cite R or R packages in publications.
Type 'demo()' for some demos, 'help()' for on-line help, or
'help.start()' for an HTML browser interface to help.
Type 'q()' to quit R.
> BiocGenerics:::testPackage("Biobase")
Attaching package: 'BiocGenerics'
The following objects are masked from 'package:stats':
IQR, mad, sd, var, xtabs
The following objects are masked from 'package:base':
Filter, Find, Map, Position, Reduce, anyDuplicated, aperm, append,
as.data.frame, basename, cbind, colnames, dirname, do.call,
duplicated, eval, evalq, get, grep, grepl, intersect, is.unsorted,
lapply, mapply, match, mget, order, paste, pmax, pmax.int, pmin,
pmin.int, rank, rbind, rownames, sapply, saveRDS, setdiff, table,
tapply, union, unique, unsplit, which.max, which.min
Welcome to Bioconductor
Vignettes contain introductory material; view with
'browseVignettes()'. To cite Bioconductor, see
'citation("Biobase")', and for packages 'citation("pkgname")'.
RUNIT TEST PROTOCOL -- Mon Mar 31 20:11:14 2025
***********************************************
Number of test functions: 101
Number of errors: 0
Number of failures: 0
1 Test Suite :
Biobase RUnit Tests - 101 test functions, 0 errors, 0 failures
Number of test functions: 101
Number of errors: 0
Number of failures: 0
>
> proc.time()
user system elapsed
9.426 0.111 9.530
Biobase.Rcheck/tests/test-rowMedians.Rout
R version 4.4.3 (2025-02-28) -- "Trophy Case"
Copyright (C) 2025 The R Foundation for Statistical Computing
Platform: x86_64-pc-linux-gnu
R is free software and comes with ABSOLUTELY NO WARRANTY.
You are welcome to redistribute it under certain conditions.
Type 'license()' or 'licence()' for distribution details.
R is a collaborative project with many contributors.
Type 'contributors()' for more information and
'citation()' on how to cite R or R packages in publications.
Type 'demo()' for some demos, 'help()' for on-line help, or
'help.start()' for an HTML browser interface to help.
Type 'q()' to quit R.
> library(Biobase)
Loading required package: BiocGenerics
Attaching package: 'BiocGenerics'
The following objects are masked from 'package:stats':
IQR, mad, sd, var, xtabs
The following objects are masked from 'package:base':
Filter, Find, Map, Position, Reduce, anyDuplicated, aperm, append,
as.data.frame, basename, cbind, colnames, dirname, do.call,
duplicated, eval, evalq, get, grep, grepl, intersect, is.unsorted,
lapply, mapply, match, mget, order, paste, pmax, pmax.int, pmin,
pmin.int, rank, rbind, rownames, sapply, saveRDS, setdiff, table,
tapply, union, unique, unsplit, which.max, which.min
Welcome to Bioconductor
Vignettes contain introductory material; view with
'browseVignettes()'. To cite Bioconductor, see
'citation("Biobase")', and for packages 'citation("pkgname")'.
> set.seed(1)
>
> # - - - - - - - - - - - - - - - - - - - - - - - - - - - -
> # Consistency checks
> # - - - - - - - - - - - - - - - - - - - - - - - - - - - -
>
> # rowMedians() by rowQ()
> rowMedians2 <- function(imat) {
+ nr <- ncol(imat)
+ half <- (nr + 1)/2
+ if (nr%%2 == 1) {
+ return(rowQ(imat, half))
+ } else {
+ return((rowQ(imat, half) + rowQ(imat, half+1))/2)
+ }
+ }
>
> cat("Consistency checks:\n")
Consistency checks:
> set.seed(1)
> for (kk in 1:20) {
+ cat("Random test #", kk, "\n", sep="")
+
+ # Simulate data in a matrix of any shape
+ nrow <- sample(2000, size=1)
+ ncol <- sample(2000, size=1)
+ x <- rnorm(nrow*ncol)
+ dim(x) <- c(nrow, ncol)
+
+ # Add NAs?
+ nas <- sample(c(TRUE,FALSE), size=1)
+ if (nas) {
+ nna <- sample(nrow*ncol, size=1)
+ x[sample(length(x), size=nna)] <- NA
+ }
+
+ na.rm <- nas
+ t1 <- system.time({
+ y1 <- rowMedians(x, na.rm=na.rm)
+ })
+ t2 <- system.time({
+ y2 <- apply(x, MARGIN=1, FUN=median, na.rm=na.rm)
+ })
+ # When all values of 'y2' are NA, 'y2' is logical
+ if (is.logical(y2)) y2 <- as.double(y2)
+ stopifnot(all.equal(y1,y2))
+ cat(sprintf("rowMedians()/apply(): %.3g\n", (t1/t2)[3]))
+
+ if (!nas) {
+ t3 <- system.time({
+ y3 <- rowMedians2(x)
+ })
+ stopifnot(all.equal(y1,y3))
+ cat(sprintf("rowMedians()/rowMedians2(): %.3g\n", (t1/t3)[3]))
+ }
+ }
Random test #1
rowMedians()/apply(): 0.304
Random test #2
rowMedians()/apply(): 0.182
rowMedians()/rowMedians2(): 0.348
Random test #3
rowMedians()/apply(): 0.0833
Random test #4
rowMedians()/apply(): 0.233
rowMedians()/rowMedians2(): 0.312
Random test #5
rowMedians()/apply(): 0.302
rowMedians()/rowMedians2(): 0.412
Random test #6
rowMedians()/apply(): 0.311
rowMedians()/rowMedians2(): 0.368
Random test #7
rowMedians()/apply(): 0.348
Random test #8
rowMedians()/apply(): 0
rowMedians()/rowMedians2(): NaN
Random test #9
rowMedians()/apply(): 0.143
Random test #10
rowMedians()/apply(): 0.0857
Random test #11
rowMedians()/apply(): 0.188
Random test #12
rowMedians()/apply(): 0.162
Random test #13
rowMedians()/apply(): 0.357
rowMedians()/rowMedians2(): 0.833
Random test #14
rowMedians()/apply(): 0.275
Random test #15
rowMedians()/apply(): 0.298
Random test #16
rowMedians()/apply(): 0.195
rowMedians()/rowMedians2(): 0.385
Random test #17
rowMedians()/apply(): 0.206
Random test #18
rowMedians()/apply(): 0.162
rowMedians()/rowMedians2(): 0.733
Random test #19
rowMedians()/apply(): 0.386
rowMedians()/rowMedians2(): 0.773
Random test #20
rowMedians()/apply(): 0.28
rowMedians()/rowMedians2(): 0.381
>
>
> # - - - - - - - - - - - - - - - - - - - - - - - - - - - -
> # Benchmarking
> # - - - - - - - - - - - - - - - - - - - - - - - - - - - -
> cat("Benchmarking:\n")
Benchmarking:
>
> # Simulate data in a matrix of any shape
> nrow <- 1000
> ncol <- 1000
> x <- rnorm(nrow*ncol)
> dim(x) <- c(nrow, ncol)
>
> gc()
used (Mb) gc trigger (Mb) max used (Mb)
Ncells 598320 32 1194970 63.9 1062009 56.8
Vcells 2096046 16 12255595 93.6 12329127 94.1
> t0 <- system.time({
+ for (rr in 1:20)
+ y0 <- apply(x, MARGIN=1, FUN=median, na.rm=FALSE)
+ })
> gc()
used (Mb) gc trigger (Mb) max used (Mb)
Ncells 598336 32 1194970 63.9 1194970 63.9
Vcells 2097063 16 12255595 93.6 12329127 94.1
> t1 <- system.time({
+ for (rr in 1:20)
+ y1 <- rowMedians(x, na.rm=FALSE)
+ })
> gc()
used (Mb) gc trigger (Mb) max used (Mb)
Ncells 598336 32 1194970 63.9 1194970 63.9
Vcells 2096188 16 12255595 93.6 12329127 94.1
> stopifnot(all.equal(y0,y1))
> cat(sprintf("rowMedians()/apply(): %.3g\n", (t1/t0)[3]))
rowMedians()/apply(): 0.271
>
>
> # - - - - - - - - - - - - - - - - - - - - - - - - - - - -
> # Consistency checks
> # - - - - - - - - - - - - - - - - - - - - - - - - - - - -
> cat("Consistency checks without NAs:\n")
Consistency checks without NAs:
> for (kk in 1:20) {
+ cat("Random test #", kk, "\n", sep="")
+
+ # Simulate data in a matrix of any shape
+ nrow <- sample(1000, size=1)
+ ncol <- sample(1000, size=1)
+ x <- rnorm(nrow*ncol)
+ dim(x) <- c(nrow, ncol)
+
+ t0 <- system.time({
+ y0 <- apply(x, MARGIN=1, FUN=median, na.rm=FALSE)
+ })
+ t1 <- system.time({
+ y1 <- rowMedians(x, na.rm=FALSE)
+ })
+ stopifnot(all.equal(y0,y1))
+ } # for (kk in ...)
Random test #1
Random test #2
Random test #3
Random test #4
Random test #5
Random test #6
Random test #7
Random test #8
Random test #9
Random test #10
Random test #11
Random test #12
Random test #13
Random test #14
Random test #15
Random test #16
Random test #17
Random test #18
Random test #19
Random test #20
>
>
>
> cat("Consistency checks with NAs:\n")
Consistency checks with NAs:
> for (kk in 1:20) {
+ cat("Random test #", kk, "\n", sep="")
+
+ # Simulate data in a matrix of any shape
+ nrow <- sample(1000, size=1)
+ ncol <- sample(1000, size=1)
+ x <- rnorm(nrow*ncol)
+ dim(x) <- c(nrow, ncol)
+
+ # Add NAs
+ nna <- sample(nrow*ncol-1, size=1)
+ x[sample(length(x), size=nna)] <- NA
+
+ t0 <- system.time({
+ y0 <- apply(x, MARGIN=1, FUN=median, na.rm=TRUE)
+ y0[is.na(y0)] <- NA
+ })
+ t1 <- system.time({
+ y1 <- rowMedians(x, na.rm=TRUE)
+ })
+ stopifnot(all.equal(y0,y1))
+ } # for (kk in ...)
Random test #1
Random test #2
Random test #3
Random test #4
Random test #5
Random test #6
Random test #7
Random test #8
Random test #9
Random test #10
Random test #11
Random test #12
Random test #13
Random test #14
Random test #15
Random test #16
Random test #17
Random test #18
Random test #19
Random test #20
>
> proc.time()
user system elapsed
17.555 0.201 17.757
Biobase.Rcheck/Biobase-Ex.timings
| name | user | system | elapsed | |
| Aggregate | 0.004 | 0.000 | 0.004 | |
| ScalarObject-class | 0.063 | 0.000 | 0.064 | |
| addVig2Menu | 0 | 0 | 0 | |
| anyMissing | 0.001 | 0.000 | 0.001 | |
| cache | 0.003 | 0.000 | 0.002 | |
| channel | 0.130 | 0.021 | 0.150 | |
| channelNames | 0.031 | 0.001 | 0.033 | |
| class.AnnotatedDataFrame | 0.019 | 0.000 | 0.020 | |
| class.ExpressionSet | 0.146 | 0.004 | 0.152 | |
| class.MIAxE | 0.016 | 0.000 | 0.016 | |
| class.MultiSet | 0.022 | 0.000 | 0.021 | |
| class.NChannelSet | 0.123 | 0.000 | 0.122 | |
| class.Versioned | 0.052 | 0.000 | 0.052 | |
| class.VersionedBiobase | 0.019 | 0.000 | 0.019 | |
| class.Versions | 0.008 | 0.000 | 0.008 | |
| class.VersionsNull | 0 | 0 | 0 | |
| class.container | 0.002 | 0.000 | 0.001 | |
| class.eSet | 0.06 | 0.00 | 0.06 | |
| classVersion | 0.002 | 0.001 | 0.003 | |
| contents | 0.000 | 0.000 | 0.001 | |
| copyEnv | 0 | 0 | 0 | |
| copySubstitute | 0.005 | 0.002 | 0.008 | |
| createPackage | 0.003 | 0.002 | 0.005 | |
| data.aaMap | 0.001 | 0.000 | 0.001 | |
| data.geneData | 0.017 | 0.000 | 0.018 | |
| data.reporter | 0.001 | 0.000 | 0.001 | |
| data.sample.ExpressionSet | 0.010 | 0.000 | 0.011 | |
| data.sample.MultiSet | 0.004 | 0.000 | 0.004 | |
| dumpPackTxt | 0.000 | 0.000 | 0.001 | |
| esApply | 0.798 | 0.007 | 0.806 | |
| getPkgVigs | 0.006 | 0.000 | 0.007 | |
| isCurrent | 0.02 | 0.00 | 0.02 | |
| isUnique | 0 | 0 | 0 | |
| isVersioned | 0.008 | 0.001 | 0.008 | |
| lcSuffix | 0.001 | 0.000 | 0.001 | |
| listLen | 0.001 | 0.000 | 0.001 | |
| makeDataPackage | 0.058 | 0.001 | 0.060 | |
| matchpt | 0.003 | 0.000 | 0.004 | |
| multiassign | 0.000 | 0.000 | 0.001 | |
| note | 0 | 0 | 0 | |
| openPDF | 0 | 0 | 0 | |
| openVignette | 0 | 0 | 0 | |
| package.version | 0.000 | 0.000 | 0.001 | |
| read.AnnotatedDataFrame | 0.010 | 0.000 | 0.011 | |
| read.MIAME | 0.002 | 0.000 | 0.001 | |
| readExpressionSet | 0.036 | 0.000 | 0.036 | |
| reverseSplit | 0.001 | 0.000 | 0.001 | |
| rowMedians | 0.027 | 0.002 | 0.029 | |
| rowQ | 0.012 | 0.002 | 0.014 | |
| selectChannels | 0.031 | 0.000 | 0.030 | |
| selectSome | 0 | 0 | 0 | |
| strbreak | 0.001 | 0.000 | 0.001 | |
| subListExtract | 0.578 | 0.012 | 0.591 | |
| testBioCConnection | 0.052 | 0.005 | 0.242 | |
| updateOldESet | 0 | 0 | 0 | |
| validMsg | 0 | 0 | 0 | |