| Back to Multiple platform build/check report for BioC 3.20: simplified long |
|
This page was generated on 2025-04-02 19:35 -0400 (Wed, 02 Apr 2025).
| Hostname | OS | Arch (*) | R version | Installed pkgs |
|---|---|---|---|---|
| nebbiolo2 | Linux (Ubuntu 24.04.1 LTS) | x86_64 | 4.4.3 (2025-02-28) -- "Trophy Case" | 4764 |
| palomino8 | Windows Server 2022 Datacenter | x64 | 4.4.3 (2025-02-28 ucrt) -- "Trophy Case" | 4495 |
| merida1 | macOS 12.7.5 Monterey | x86_64 | 4.4.3 (2025-02-28) -- "Trophy Case" | 4522 |
| kjohnson1 | macOS 13.6.6 Ventura | arm64 | 4.4.3 (2025-02-28) -- "Trophy Case" | 4449 |
| taishan | Linux (openEuler 24.03 LTS) | aarch64 | 4.4.3 (2025-02-28) -- "Trophy Case" | 4426 |
| Click on any hostname to see more info about the system (e.g. compilers) (*) as reported by 'uname -p', except on Windows and Mac OS X | ||||
| Package 218/2289 | Hostname | OS / Arch | INSTALL | BUILD | CHECK | BUILD BIN | ||||||||
| BioQC 1.34.0 (landing page) Jitao David Zhang
| nebbiolo2 | Linux (Ubuntu 24.04.1 LTS) / x86_64 | OK | OK | OK | |||||||||
| palomino8 | Windows Server 2022 Datacenter / x64 | OK | OK | OK | OK | |||||||||
| merida1 | macOS 12.7.5 Monterey / x86_64 | OK | OK | OK | OK | |||||||||
| kjohnson1 | macOS 13.6.6 Ventura / arm64 | OK | OK | OK | OK | |||||||||
| taishan | Linux (openEuler 24.03 LTS) / aarch64 | OK | OK | OK | ||||||||||
|
To the developers/maintainers of the BioQC package: - Allow up to 24 hours (and sometimes 48 hours) for your latest push to git@git.bioconductor.org:packages/BioQC.git to reflect on this report. See Troubleshooting Build Report for more information. - Use the following Renviron settings to reproduce errors and warnings. - If 'R CMD check' started to fail recently on the Linux builder(s) over a missing dependency, add the missing dependency to 'Suggests:' in your DESCRIPTION file. See Renviron.bioc for more information. - See Martin Grigorov's blog post for how to debug Linux ARM64 related issues on a x86_64 host. |
| Package: BioQC |
| Version: 1.34.0 |
| Command: /home/biocbuild/R/R/bin/R CMD check --install=check:BioQC.install-out.txt --library=/home/biocbuild/R/R/site-library --no-vignettes --timings BioQC_1.34.0.tar.gz |
| StartedAt: 2025-04-01 04:33:50 -0000 (Tue, 01 Apr 2025) |
| EndedAt: 2025-04-01 04:34:41 -0000 (Tue, 01 Apr 2025) |
| EllapsedTime: 51.1 seconds |
| RetCode: 0 |
| Status: OK |
| CheckDir: BioQC.Rcheck |
| Warnings: 0 |
##############################################################################
##############################################################################
###
### Running command:
###
### /home/biocbuild/R/R/bin/R CMD check --install=check:BioQC.install-out.txt --library=/home/biocbuild/R/R/site-library --no-vignettes --timings BioQC_1.34.0.tar.gz
###
##############################################################################
##############################################################################
* using log directory ‘/home/biocbuild/bbs-3.20-bioc/meat/BioQC.Rcheck’
* using R version 4.4.3 (2025-02-28)
* using platform: aarch64-unknown-linux-gnu
* R was compiled by
aarch64-unknown-linux-gnu-gcc (GCC) 14.2.0
GNU Fortran (GCC) 14.2.0
* running under: openEuler 24.03 (LTS)
* using session charset: UTF-8
* using option ‘--no-vignettes’
* checking for file ‘BioQC/DESCRIPTION’ ... OK
* checking extension type ... Package
* this is package ‘BioQC’ version ‘1.34.0’
* package encoding: UTF-8
* checking package namespace information ... OK
* checking package dependencies ... OK
* checking if this is a source package ... OK
* checking if there is a namespace ... OK
* checking for hidden files and directories ... OK
* checking for portable file names ... OK
* checking for sufficient/correct file permissions ... OK
* checking whether package ‘BioQC’ can be installed ... OK
* used C compiler: ‘aarch64-unknown-linux-gnu-gcc (GCC) 14.2.0’
* used C++ compiler: ‘aarch64-unknown-linux-gnu-g++ (GCC) 14.2.0’
* checking installed package size ... NOTE
installed size is 5.2Mb
sub-directories of 1Mb or more:
extdata 3.9Mb
* checking package directory ... OK
* checking ‘build’ directory ... OK
* checking DESCRIPTION meta-information ... OK
* checking top-level files ... OK
* checking for left-over files ... OK
* checking index information ... OK
* checking package subdirectories ... OK
* checking code files for non-ASCII characters ... OK
* checking R files for syntax errors ... OK
* checking whether the package can be loaded ... OK
* checking whether the package can be loaded with stated dependencies ... OK
* checking whether the package can be unloaded cleanly ... OK
* checking whether the namespace can be loaded with stated dependencies ... OK
* checking whether the namespace can be unloaded cleanly ... OK
* checking loading without being on the library search path ... OK
* checking dependencies in R code ... OK
* checking S3 generic/method consistency ... OK
* checking replacement functions ... OK
* checking foreign function calls ... OK
* checking R code for possible problems ... OK
* checking Rd files ... NOTE
checkRd: (-1) readCurrentSignatures.Rd:13: Lost braces
13 | \item{namespace}{Character, namespace of the gene-set, or code{NULL}, passed
| ^
checkRd: (-1) wmwTest.Rd:282: Lost braces
282 | code{wilcox.test} in the \code{stats} package, and \code{rankSumTestWithCorrelation} in
| ^
* checking Rd metadata ... OK
* checking Rd cross-references ... OK
* checking for missing documentation entries ... OK
* checking for code/documentation mismatches ... OK
* checking Rd \usage sections ... OK
* checking Rd contents ... OK
* checking for unstated dependencies in examples ... OK
* checking line endings in C/C++/Fortran sources/headers ... OK
* checking line endings in Makefiles ... OK
* checking compilation flags in Makevars ... OK
* checking for GNU extensions in Makefiles ... OK
* checking for portable use of $(BLAS_LIBS) and $(LAPACK_LIBS) ... OK
* checking use of PKG_*FLAGS in Makefiles ... OK
* checking compiled code ... NOTE
Note: information on .o files is not available
* checking files in ‘vignettes’ ... OK
* checking examples ... OK
* checking for unstated dependencies in ‘tests’ ... OK
* checking tests ...
Running ‘testthat.R’
OK
* checking for unstated dependencies in vignettes ... OK
* checking package vignettes ... OK
* checking running R code from vignettes ... SKIPPED
* checking re-building of vignette outputs ... SKIPPED
* checking PDF version of manual ... OK
* DONE
Status: 3 NOTEs
See
‘/home/biocbuild/bbs-3.20-bioc/meat/BioQC.Rcheck/00check.log’
for details.
BioQC.Rcheck/00install.out
############################################################################## ############################################################################## ### ### Running command: ### ### /home/biocbuild/R/R/bin/R CMD INSTALL BioQC ### ############################################################################## ############################################################################## * installing to library ‘/home/biocbuild/R/R-4.4.3/site-library’ * installing *source* package ‘BioQC’ ... ** using staged installation ** libs using C compiler: ‘aarch64-unknown-linux-gnu-gcc (GCC) 14.2.0’ using C++ compiler: ‘aarch64-unknown-linux-gnu-g++ (GCC) 14.2.0’ /opt/ohpc/pub/compiler/gcc/14.2.0/bin/aarch64-unknown-linux-gnu-gcc -I"/home/biocbuild/R/R-4.4.3/include" -DNDEBUG `/home/biocbuild/R/R-4.4.3/bin/Rscript -e 'Rcpp:::CxxFlags()'` -I'/home/biocbuild/R/R-4.4.3/site-library/Rcpp/include' -I/usr/local/include -fPIC -g -O2 -Wall -c gini.c -o gini.o /opt/ohpc/pub/compiler/gcc/14.2.0/bin/aarch64-unknown-linux-gnu-gcc -I"/home/biocbuild/R/R-4.4.3/include" -DNDEBUG `/home/biocbuild/R/R-4.4.3/bin/Rscript -e 'Rcpp:::CxxFlags()'` -I'/home/biocbuild/R/R-4.4.3/site-library/Rcpp/include' -I/usr/local/include -fPIC -g -O2 -Wall -c init.c -o init.o /opt/ohpc/pub/compiler/gcc/14.2.0/bin/aarch64-unknown-linux-gnu-g++ -std=gnu++17 -I"/home/biocbuild/R/R-4.4.3/include" -DNDEBUG `/home/biocbuild/R/R-4.4.3/bin/Rscript -e 'Rcpp:::CxxFlags()'` -I'/home/biocbuild/R/R-4.4.3/site-library/Rcpp/include' -I/usr/local/include -fPIC -g -O2 -Wall -c read_gmt.cpp -o read_gmt.o /opt/ohpc/pub/compiler/gcc/14.2.0/bin/aarch64-unknown-linux-gnu-gcc -I"/home/biocbuild/R/R-4.4.3/include" -DNDEBUG `/home/biocbuild/R/R-4.4.3/bin/Rscript -e 'Rcpp:::CxxFlags()'` -I'/home/biocbuild/R/R-4.4.3/site-library/Rcpp/include' -I/usr/local/include -fPIC -g -O2 -Wall -c stat_rank.c -o stat_rank.o /opt/ohpc/pub/compiler/gcc/14.2.0/bin/aarch64-unknown-linux-gnu-gcc -I"/home/biocbuild/R/R-4.4.3/include" -DNDEBUG `/home/biocbuild/R/R-4.4.3/bin/Rscript -e 'Rcpp:::CxxFlags()'` -I'/home/biocbuild/R/R-4.4.3/site-library/Rcpp/include' -I/usr/local/include -fPIC -g -O2 -Wall -c wmw_test.c -o wmw_test.o wmw_test.c: In function ‘wmw_test_list’: wmw_test.c:118: warning: ignoring ‘#pragma omp parallel’ [-Wunknown-pragmas] 118 | #pragma omp parallel for wmw_test.c: In function ‘wmw_test’: wmw_test.c:168: warning: ignoring ‘#pragma omp parallel’ [-Wunknown-pragmas] 168 | #pragma omp parallel for wmw_test.c: In function ‘signed_wmw_test_list’: wmw_test.c:201: warning: ignoring ‘#pragma omp parallel’ [-Wunknown-pragmas] 201 | #pragma omp parallel for wmw_test.c: In function ‘signed_wmw_test’: wmw_test.c:270: warning: ignoring ‘#pragma omp parallel’ [-Wunknown-pragmas] 270 | #pragma omp parallel for /opt/ohpc/pub/compiler/gcc/14.2.0/bin/aarch64-unknown-linux-gnu-g++ -std=gnu++17 -shared -L/home/biocbuild/R/R-4.4.3/lib -L/usr/local/lib -o BioQC.so gini.o init.o read_gmt.o stat_rank.o wmw_test.o -L/home/biocbuild/R/R-4.4.3/lib -lR installing to /home/biocbuild/R/R-4.4.3/site-library/00LOCK-BioQC/00new/BioQC/libs ** R ** inst ** byte-compile and prepare package for lazy loading ** help *** installing help indices *** copying figures ** building package indices ** installing vignettes ** testing if installed package can be loaded from temporary location ** checking absolute paths in shared objects and dynamic libraries ** testing if installed package can be loaded from final location ** testing if installed package keeps a record of temporary installation path * DONE (BioQC)
BioQC.Rcheck/tests/testthat.Rout
R version 4.4.3 (2025-02-28) -- "Trophy Case"
Copyright (C) 2025 The R Foundation for Statistical Computing
Platform: aarch64-unknown-linux-gnu
R is free software and comes with ABSOLUTELY NO WARRANTY.
You are welcome to redistribute it under certain conditions.
Type 'license()' or 'licence()' for distribution details.
R is a collaborative project with many contributors.
Type 'contributors()' for more information and
'citation()' on how to cite R or R packages in publications.
Type 'demo()' for some demos, 'help()' for on-line help, or
'help.start()' for an HTML browser interface to help.
Type 'q()' to quit R.
> library(testthat)
> library(BioQC)
Loading required package: Biobase
Loading required package: BiocGenerics
Attaching package: 'BiocGenerics'
The following objects are masked from 'package:stats':
IQR, mad, sd, var, xtabs
The following objects are masked from 'package:base':
Filter, Find, Map, Position, Reduce, anyDuplicated, aperm, append,
as.data.frame, basename, cbind, colnames, dirname, do.call,
duplicated, eval, evalq, get, grep, grepl, intersect, is.unsorted,
lapply, mapply, match, mget, order, paste, pmax, pmax.int, pmin,
pmin.int, rank, rbind, rownames, sapply, saveRDS, setdiff, table,
tapply, union, unique, unsplit, which.max, which.min
Welcome to Bioconductor
Vignettes contain introductory material; view with
'browseVignettes()'. To cite Bioconductor, see
'citation("Biobase")', and for packages 'citation("pkgname")'.
>
> test_check("BioQC")
[ FAIL 0 | WARN 0 | SKIP 0 | PASS 125 ]
>
> proc.time()
user system elapsed
7.775 0.132 7.918
BioQC.Rcheck/BioQC-Ex.timings
| name | user | system | elapsed | |
| GmtList | 0.002 | 0.000 | 0.002 | |
| IndexList | 0.004 | 0.000 | 0.005 | |
| SignedGenesets | 0.001 | 0.000 | 0.001 | |
| SignedIndexList | 0.003 | 0.000 | 0.003 | |
| absLog10p | 0.000 | 0.000 | 0.001 | |
| appendGmtList | 0.002 | 0.003 | 0.006 | |
| as.GmtList | 0.000 | 0.000 | 0.001 | |
| entropy | 0.001 | 0.000 | 0.002 | |
| entropyDiversity | 0.010 | 0.000 | 0.011 | |
| entropySpecificity | 0.006 | 0.000 | 0.006 | |
| filterPmat | 0.001 | 0.000 | 0.001 | |
| getLeadingEdgeIndexFromVector | 0.003 | 0.000 | 0.003 | |
| gini | 0.001 | 0.000 | 0.000 | |
| gmtlist2signedGenesets | 0.005 | 0.000 | 0.004 | |
| matchGenes | 0.091 | 0.004 | 0.095 | |
| offset-set | 0.001 | 0.000 | 0.002 | |
| offset | 0.000 | 0.000 | 0.001 | |
| prettySigNames | 0.050 | 0.000 | 0.053 | |
| readCurrentSignatures | 0.049 | 0.000 | 0.048 | |
| readGmt | 0.069 | 0.000 | 0.071 | |
| readSignedGmt | 0.004 | 0.004 | 0.008 | |
| sampleSpecialization | 0.007 | 0.000 | 0.007 | |
| setNamespace | 0.007 | 0.000 | 0.007 | |
| simplifyMatrix | 0 | 0 | 0 | |
| sub-.GmtList | 0.002 | 0.000 | 0.003 | |
| sub-sub-.GmtList | 0.001 | 0.000 | 0.001 | |
| uniqGenesetsByNamespace | 0.007 | 0.000 | 0.008 | |
| wmwLeadingEdge | 0.008 | 0.000 | 0.008 | |
| wmwTest | 0.247 | 0.004 | 0.252 | |
| wmwTestInR | 0.004 | 0.000 | 0.004 | |