| Back to Multiple platform build/check report for BioC 3.20: simplified long |
|
This page was generated on 2025-04-02 19:29 -0400 (Wed, 02 Apr 2025).
| Hostname | OS | Arch (*) | R version | Installed pkgs |
|---|---|---|---|---|
| nebbiolo2 | Linux (Ubuntu 24.04.1 LTS) | x86_64 | 4.4.3 (2025-02-28) -- "Trophy Case" | 4764 |
| palomino8 | Windows Server 2022 Datacenter | x64 | 4.4.3 (2025-02-28 ucrt) -- "Trophy Case" | 4495 |
| merida1 | macOS 12.7.5 Monterey | x86_64 | 4.4.3 (2025-02-28) -- "Trophy Case" | 4522 |
| kjohnson1 | macOS 13.6.6 Ventura | arm64 | 4.4.3 (2025-02-28) -- "Trophy Case" | 4449 |
| taishan | Linux (openEuler 24.03 LTS) | aarch64 | 4.4.3 (2025-02-28) -- "Trophy Case" | 4426 |
| Click on any hostname to see more info about the system (e.g. compilers) (*) as reported by 'uname -p', except on Windows and Mac OS X | ||||
| Package 210/2289 | Hostname | OS / Arch | INSTALL | BUILD | CHECK | BUILD BIN | ||||||||
| BioGA 1.0.0 (landing page) Dany Mukesha
| nebbiolo2 | Linux (Ubuntu 24.04.1 LTS) / x86_64 | OK | OK | OK | |||||||||
| palomino8 | Windows Server 2022 Datacenter / x64 | OK | OK | OK | OK | |||||||||
| merida1 | macOS 12.7.5 Monterey / x86_64 | OK | OK | OK | OK | |||||||||
| kjohnson1 | macOS 13.6.6 Ventura / arm64 | OK | OK | OK | OK | |||||||||
| taishan | Linux (openEuler 24.03 LTS) / aarch64 | OK | OK | OK | ||||||||||
|
To the developers/maintainers of the BioGA package: - Allow up to 24 hours (and sometimes 48 hours) for your latest push to git@git.bioconductor.org:packages/BioGA.git to reflect on this report. See Troubleshooting Build Report for more information. - Use the following Renviron settings to reproduce errors and warnings. - If 'R CMD check' started to fail recently on the Linux builder(s) over a missing dependency, add the missing dependency to 'Suggests:' in your DESCRIPTION file. See Renviron.bioc for more information. |
| Package: BioGA |
| Version: 1.0.0 |
| Command: rm -rf BioGA.buildbin-libdir && mkdir BioGA.buildbin-libdir && F:\biocbuild\bbs-3.20-bioc\R\bin\R.exe CMD INSTALL --build --library=BioGA.buildbin-libdir BioGA_1.0.0.tar.gz |
| StartedAt: 2025-04-01 07:46:28 -0400 (Tue, 01 Apr 2025) |
| EndedAt: 2025-04-01 07:47:20 -0400 (Tue, 01 Apr 2025) |
| EllapsedTime: 51.9 seconds |
| RetCode: 0 |
| Status: OK |
| PackageFile: BioGA_1.0.0.zip |
| PackageFileSize: 666.8 KiB |
############################################################################## ############################################################################## ### ### Running command: ### ### rm -rf BioGA.buildbin-libdir && mkdir BioGA.buildbin-libdir && F:\biocbuild\bbs-3.20-bioc\R\bin\R.exe CMD INSTALL --build --library=BioGA.buildbin-libdir BioGA_1.0.0.tar.gz ### ############################################################################## ############################################################################## * installing *source* package 'BioGA' ... ** using staged installation ** libs using C++ compiler: 'G__~1.EXE (GCC) 13.3.0' g++ -std=gnu++17 -I"F:/biocbuild/bbs-3.20-bioc/R/include" -DNDEBUG -I'F:/biocbuild/bbs-3.20-bioc/R/library/Rcpp/include' -I"C:/rtools44/x86_64-w64-mingw32.static.posix/include" -O2 -Wall -mfpmath=sse -msse2 -mstackrealign -c RcppExports.cpp -o RcppExports.o g++ -std=gnu++17 -I"F:/biocbuild/bbs-3.20-bioc/R/include" -DNDEBUG -I'F:/biocbuild/bbs-3.20-bioc/R/library/Rcpp/include' -I"C:/rtools44/x86_64-w64-mingw32.static.posix/include" -O2 -Wall -mfpmath=sse -msse2 -mstackrealign -c crossover.cpp -o crossover.o g++ -std=gnu++17 -I"F:/biocbuild/bbs-3.20-bioc/R/include" -DNDEBUG -I'F:/biocbuild/bbs-3.20-bioc/R/library/Rcpp/include' -I"C:/rtools44/x86_64-w64-mingw32.static.posix/include" -O2 -Wall -mfpmath=sse -msse2 -mstackrealign -c evaluate_fitness.cpp -o evaluate_fitness.o g++ -std=gnu++17 -I"F:/biocbuild/bbs-3.20-bioc/R/include" -DNDEBUG -I'F:/biocbuild/bbs-3.20-bioc/R/library/Rcpp/include' -I"C:/rtools44/x86_64-w64-mingw32.static.posix/include" -O2 -Wall -mfpmath=sse -msse2 -mstackrealign -c initialize_population.cpp -o initialize_population.o g++ -std=gnu++17 -I"F:/biocbuild/bbs-3.20-bioc/R/include" -DNDEBUG -I'F:/biocbuild/bbs-3.20-bioc/R/library/Rcpp/include' -I"C:/rtools44/x86_64-w64-mingw32.static.posix/include" -O2 -Wall -mfpmath=sse -msse2 -mstackrealign -c mutation.cpp -o mutation.o g++ -std=gnu++17 -I"F:/biocbuild/bbs-3.20-bioc/R/include" -DNDEBUG -I'F:/biocbuild/bbs-3.20-bioc/R/library/Rcpp/include' -I"C:/rtools44/x86_64-w64-mingw32.static.posix/include" -O2 -Wall -mfpmath=sse -msse2 -mstackrealign -c replacement.cpp -o replacement.o g++ -std=gnu++17 -I"F:/biocbuild/bbs-3.20-bioc/R/include" -DNDEBUG -I'F:/biocbuild/bbs-3.20-bioc/R/library/Rcpp/include' -I"C:/rtools44/x86_64-w64-mingw32.static.posix/include" -O2 -Wall -mfpmath=sse -msse2 -mstackrealign -c selection.cpp -o selection.o g++ -std=gnu++17 -shared -s -static-libgcc -o BioGA.dll tmp.def RcppExports.o crossover.o evaluate_fitness.o initialize_population.o mutation.o replacement.o selection.o -LC:/rtools44/x86_64-w64-mingw32.static.posix/lib/x64 -LC:/rtools44/x86_64-w64-mingw32.static.posix/lib -LF:/biocbuild/bbs-3.20-bioc/R/bin/x64 -lR installing to F:/biocbuild/bbs-3.20-bioc/meat/BioGA.buildbin-libdir/00LOCK-BioGA/00new/BioGA/libs/x64 ** R ** inst ** byte-compile and prepare package for lazy loading ** help *** installing help indices *** copying figures ** building package indices ** installing vignettes ** testing if installed package can be loaded from temporary location ** testing if installed package can be loaded from final location ** testing if installed package keeps a record of temporary installation path * MD5 sums packaged installation of 'BioGA' as BioGA_1.0.0.zip * DONE (BioGA)