| Back to Multiple platform build/check report for BioC 3.20: simplified long |
|
This page was generated on 2024-11-20 12:07 -0500 (Wed, 20 Nov 2024).
| Hostname | OS | Arch (*) | R version | Installed pkgs |
|---|---|---|---|---|
| teran2 | Linux (Ubuntu 24.04.1 LTS) | x86_64 | 4.4.2 (2024-10-31) -- "Pile of Leaves" | 4481 |
| nebbiolo2 | Linux (Ubuntu 24.04.1 LTS) | x86_64 | 4.4.2 (2024-10-31) -- "Pile of Leaves" | 4479 |
| palomino8 | Windows Server 2022 Datacenter | x64 | 4.4.2 (2024-10-31 ucrt) -- "Pile of Leaves" | 4359 |
| lconway | macOS 12.7.1 Monterey | x86_64 | 4.4.1 (2024-06-14) -- "Race for Your Life" | 4539 |
| kunpeng2 | Linux (openEuler 22.03 LTS-SP1) | aarch64 | 4.4.1 (2024-06-14) -- "Race for Your Life" | 4493 |
| Click on any hostname to see more info about the system (e.g. compilers) (*) as reported by 'uname -p', except on Windows and Mac OS X | ||||
| Package 224/2289 | Hostname | OS / Arch | INSTALL | BUILD | CHECK | BUILD BIN | ||||||||
| BiRewire 3.38.0 (landing page) Andrea Gobbi
| teran2 | Linux (Ubuntu 24.04.1 LTS) / x86_64 | OK | OK | WARNINGS | |||||||||
| nebbiolo2 | Linux (Ubuntu 24.04.1 LTS) / x86_64 | OK | OK | WARNINGS | ||||||||||
| palomino8 | Windows Server 2022 Datacenter / x64 | OK | OK | WARNINGS | OK | |||||||||
| lconway | macOS 12.7.1 Monterey / x86_64 | OK | OK | WARNINGS | OK | |||||||||
| kunpeng2 | Linux (openEuler 22.03 LTS-SP1) / aarch64 | OK | OK | WARNINGS | ||||||||||
|
To the developers/maintainers of the BiRewire package: - Allow up to 24 hours (and sometimes 48 hours) for your latest push to git@git.bioconductor.org:packages/BiRewire.git to reflect on this report. See Troubleshooting Build Report for more information. - Use the following Renviron settings to reproduce errors and warnings. - If 'R CMD check' started to fail recently on the Linux builder(s) over a missing dependency, add the missing dependency to 'Suggests:' in your DESCRIPTION file. See Renviron.bioc for more information. - See Martin Grigorov's blog post for how to debug Linux ARM64 related issues on a x86_64 host. |
| Package: BiRewire |
| Version: 3.38.0 |
| Command: /home/biocbuild/R/R/bin/R CMD INSTALL BiRewire |
| StartedAt: 2024-11-19 20:29:03 -0000 (Tue, 19 Nov 2024) |
| EndedAt: 2024-11-19 20:29:23 -0000 (Tue, 19 Nov 2024) |
| EllapsedTime: 19.5 seconds |
| RetCode: 0 |
| Status: OK |
##############################################################################
##############################################################################
###
### Running command:
###
### /home/biocbuild/R/R/bin/R CMD INSTALL BiRewire
###
##############################################################################
##############################################################################
* installing to library ‘/home/biocbuild/R/R-4.4.1/site-library’
* installing *source* package ‘BiRewire’ ...
** using staged installation
** libs
using C compiler: ‘gcc (conda-forge gcc 14.2.0-1) 14.2.0’
gcc -I"/home/biocbuild/R/R-4.4.1/include" -DNDEBUG -I/usr/local/include -fPIC -g -O2 -Wall -c BiRewire.c -o BiRewire.o
BiRewire.c: In function 'analysis':
BiRewire.c:149:35: warning: format '%d' expects argument of type 'int', but argument 2 has type 'time_t' {aka 'long int'} [-Wformat=]
149 | Rprintf("DONE in %d seconds \n",-(tin-tfin));
| ~^ ~~~~~~~~~~~
| | |
| int time_t {aka long int}
| %ld
BiRewire.c: In function 'analysis_ex':
BiRewire.c:221:51: warning: format '%d' expects argument of type 'int', but argument 2 has type 'time_t' {aka 'long int'} [-Wformat=]
221 | Rprintf("DONE in %d seconds \n",-(tin-tfin));
| ~^ ~~~~~~~~~~~
| | |
| int time_t {aka long int}
| %ld
BiRewire.c:229:35: warning: format '%d' expects argument of type 'int', but argument 2 has type 'time_t' {aka 'long int'} [-Wformat=]
229 | Rprintf("DONE in %d seconds \n",-(tin-tfin));
| ~^ ~~~~~~~~~~~
| | |
| int time_t {aka long int}
| %ld
BiRewire.c: In function 'rewire_bipartite':
BiRewire.c:280:35: warning: format '%d' expects argument of type 'int', but argument 2 has type 'time_t' {aka 'long int'} [-Wformat=]
280 | Rprintf("DONE in %d seconds \n",-(tin-tfin));
| ~^ ~~~~~~~~~~~
| | |
| int time_t {aka long int}
| %ld
BiRewire.c: In function 'rewire_bipartite_ex':
BiRewire.c:332:51: warning: format '%d' expects argument of type 'int', but argument 2 has type 'time_t' {aka 'long int'} [-Wformat=]
332 | Rprintf("DONE in %d seconds \n",-(tin-tfin));
| ~^ ~~~~~~~~~~~
| | |
| int time_t {aka long int}
| %ld
BiRewire.c:339:35: warning: format '%d' expects argument of type 'int', but argument 2 has type 'time_t' {aka 'long int'} [-Wformat=]
339 | Rprintf("DONE in %d seconds \n",-(tin-tfin));
| ~^ ~~~~~~~~~~~
| | |
| int time_t {aka long int}
| %ld
BiRewire.c: In function 'rewire_sparse_bipartite':
BiRewire.c:402:35: warning: format '%d' expects argument of type 'int', but argument 2 has type 'time_t' {aka 'long int'} [-Wformat=]
402 | Rprintf("DONE in %d seconds \n",-(tin-tfin));
| ~^ ~~~~~~~~~~~
| | |
| int time_t {aka long int}
| %ld
BiRewire.c: In function 'rewire_sparse_bipartite_ex':
BiRewire.c:454:51: warning: format '%d' expects argument of type 'int', but argument 2 has type 'time_t' {aka 'long int'} [-Wformat=]
454 | Rprintf("DONE in %d seconds \n",-(tin-tfin));
| ~^ ~~~~~~~~~~~
| | |
| int time_t {aka long int}
| %ld
BiRewire.c:461:35: warning: format '%d' expects argument of type 'int', but argument 2 has type 'time_t' {aka 'long int'} [-Wformat=]
461 | Rprintf("DONE in %d seconds \n",-(tin-tfin));
| ~^ ~~~~~~~~~~~
| | |
| int time_t {aka long int}
| %ld
BiRewire.c: In function 'analysis_undirected':
BiRewire.c:588:35: warning: format '%d' expects argument of type 'int', but argument 2 has type 'time_t' {aka 'long int'} [-Wformat=]
588 | Rprintf("DONE in %d seconds \n",-(tin-tfin));
| ~^ ~~~~~~~~~~~
| | |
| int time_t {aka long int}
| %ld
BiRewire.c: In function 'analysis_undirected_ex':
BiRewire.c:652:51: warning: format '%d' expects argument of type 'int', but argument 2 has type 'time_t' {aka 'long int'} [-Wformat=]
652 | Rprintf("DONE in %d seconds \n",-(tin-tfin));
| ~^ ~~~~~~~~~~~
| | |
| int time_t {aka long int}
| %ld
BiRewire.c:737:35: warning: format '%d' expects argument of type 'int', but argument 2 has type 'time_t' {aka 'long int'} [-Wformat=]
737 | Rprintf("DONE in %d seconds \n",-(tin-tfin));
| ~^ ~~~~~~~~~~~
| | |
| int time_t {aka long int}
| %ld
BiRewire.c: In function 'rewire':
BiRewire.c:844:35: warning: format '%d' expects argument of type 'int', but argument 2 has type 'time_t' {aka 'long int'} [-Wformat=]
844 | Rprintf("DONE in %d seconds \n",-(tin-tfin));
| ~^ ~~~~~~~~~~~
| | |
| int time_t {aka long int}
| %ld
BiRewire.c: In function 'rewire_ex':
BiRewire.c:893:51: warning: format '%d' expects argument of type 'int', but argument 2 has type 'time_t' {aka 'long int'} [-Wformat=]
893 | Rprintf("DONE in %d seconds \n",-(tin-tfin));
| ~^ ~~~~~~~~~~~
| | |
| int time_t {aka long int}
| %ld
BiRewire.c:962:35: warning: format '%d' expects argument of type 'int', but argument 2 has type 'time_t' {aka 'long int'} [-Wformat=]
962 | Rprintf("DONE in %d seconds \n",-(tin-tfin));
| ~^ ~~~~~~~~~~~
| | |
| int time_t {aka long int}
| %ld
BiRewire.c: In function 'rewire_sparse':
BiRewire.c:1066:30: warning: suggest parentheses around comparison in operand of '&' [-Wparentheses]
1066 | if( a!=c && b!=d & a!=d && c!=b && (( ad==1 && cb==1 )|| (ac==1 && bd==1) )) {
| ~^~~
BiRewire.c:1096:35: warning: format '%d' expects argument of type 'int', but argument 2 has type 'time_t' {aka 'long int'} [-Wformat=]
1096 | Rprintf("DONE in %d seconds \n",-(tin-tfin));
| ~^ ~~~~~~~~~~~
| | |
| int time_t {aka long int}
| %ld
BiRewire.c: In function 'rewire_sparse_ex':
BiRewire.c:1144:51: warning: format '%d' expects argument of type 'int', but argument 2 has type 'time_t' {aka 'long int'} [-Wformat=]
1144 | Rprintf("DONE in %d seconds \n",-(tin-tfin));
| ~^ ~~~~~~~~~~~
| | |
| int time_t {aka long int}
| %ld
BiRewire.c:1149:30: warning: suggest parentheses around comparison in operand of '&' [-Wparentheses]
1149 | if( a!=c && b!=d & a!=d && c!=b && (( ad==1 && cb==1 )|| (ac==1 && bd==1) )) {
| ~^~~
BiRewire.c:1183:35: warning: format '%d' expects argument of type 'int', but argument 2 has type 'time_t' {aka 'long int'} [-Wformat=]
1183 | Rprintf("DONE in %d seconds \n",-(tin-tfin));
| ~^ ~~~~~~~~~~~
| | |
| int time_t {aka long int}
| %ld
gcc -I"/home/biocbuild/R/R-4.4.1/include" -DNDEBUG -I/usr/local/include -fPIC -g -O2 -Wall -c interface.c -o interface.o
interface.c: In function 'R_rewire_bipartite':
interface.c:105:25: warning: too many arguments for format [-Wformat-extra-args]
105 | warning("Reached the maximum number admissible of iterations!\n",asInteger(MAXITER));
| ^~~~~~~~~~~~~~~~~~~~~~~~~~~~~~~~~~~~~~~~~~~~~~~~~~~~~~~~
interface.c: In function 'R_rewire_sparse_bipartite':
interface.c:147:25: warning: too many arguments for format [-Wformat-extra-args]
147 | warning("Reached the maximum number admissible of iterations!\n",asInteger(MAXITER));
| ^~~~~~~~~~~~~~~~~~~~~~~~~~~~~~~~~~~~~~~~~~~~~~~~~~~~~~~~
interface.c: In function 'R_rewire':
interface.c:252:25: warning: too many arguments for format [-Wformat-extra-args]
252 | warning("Reached the maximum number admissible of iterations!\n",asInteger(MAXITER));
| ^~~~~~~~~~~~~~~~~~~~~~~~~~~~~~~~~~~~~~~~~~~~~~~~~~~~~~~~
interface.c: In function 'R_rewire_sparse':
interface.c:296:25: warning: too many arguments for format [-Wformat-extra-args]
296 | warning("Reached the maximum number admissible of iterations!\n",asInteger(MAXITER));
| ^~~~~~~~~~~~~~~~~~~~~~~~~~~~~~~~~~~~~~~~~~~~~~~~~~~~~~~~
gcc -shared -L/home/biocbuild/R/R-4.4.1/lib -L/usr/local/lib -o BiRewire.so BiRewire.o interface.o -L/home/biocbuild/R/R-4.4.1/lib -lR
installing to /home/biocbuild/R/R-4.4.1/site-library/00LOCK-BiRewire/00new/BiRewire/libs
** R
** data
** inst
** byte-compile and prepare package for lazy loading
** help
*** installing help indices
** building package indices
** installing vignettes
** testing if installed package can be loaded from temporary location
** checking absolute paths in shared objects and dynamic libraries
** testing if installed package can be loaded from final location
** testing if installed package keeps a record of temporary installation path
* DONE (BiRewire)