| Back to Multiple platform build/check report for BioC 3.20: simplified long |
|
This page was generated on 2025-04-02 19:35 -0400 (Wed, 02 Apr 2025).
| Hostname | OS | Arch (*) | R version | Installed pkgs |
|---|---|---|---|---|
| nebbiolo2 | Linux (Ubuntu 24.04.1 LTS) | x86_64 | 4.4.3 (2025-02-28) -- "Trophy Case" | 4764 |
| palomino8 | Windows Server 2022 Datacenter | x64 | 4.4.3 (2025-02-28 ucrt) -- "Trophy Case" | 4495 |
| merida1 | macOS 12.7.5 Monterey | x86_64 | 4.4.3 (2025-02-28) -- "Trophy Case" | 4522 |
| kjohnson1 | macOS 13.6.6 Ventura | arm64 | 4.4.3 (2025-02-28) -- "Trophy Case" | 4449 |
| taishan | Linux (openEuler 24.03 LTS) | aarch64 | 4.4.3 (2025-02-28) -- "Trophy Case" | 4426 |
| Click on any hostname to see more info about the system (e.g. compilers) (*) as reported by 'uname -p', except on Windows and Mac OS X | ||||
| Package 163/2289 | Hostname | OS / Arch | INSTALL | BUILD | CHECK | BUILD BIN | ||||||||
| BgeeCall 1.22.0 (landing page) Julien Wollbrett
| nebbiolo2 | Linux (Ubuntu 24.04.1 LTS) / x86_64 | OK | OK | OK | |||||||||
| palomino8 | Windows Server 2022 Datacenter / x64 | OK | OK | OK | OK | |||||||||
| merida1 | macOS 12.7.5 Monterey / x86_64 | OK | OK | OK | OK | |||||||||
| kjohnson1 | macOS 13.6.6 Ventura / arm64 | OK | OK | OK | OK | |||||||||
| taishan | Linux (openEuler 24.03 LTS) / aarch64 | OK | OK | ERROR | ||||||||||
|
To the developers/maintainers of the BgeeCall package: - Allow up to 24 hours (and sometimes 48 hours) for your latest push to git@git.bioconductor.org:packages/BgeeCall.git to reflect on this report. See Troubleshooting Build Report for more information. - Use the following Renviron settings to reproduce errors and warnings. - If 'R CMD check' started to fail recently on the Linux builder(s) over a missing dependency, add the missing dependency to 'Suggests:' in your DESCRIPTION file. See Renviron.bioc for more information. - See Martin Grigorov's blog post for how to debug Linux ARM64 related issues on a x86_64 host. |
| Package: BgeeCall |
| Version: 1.22.0 |
| Command: /home/biocbuild/R/R/bin/R CMD check --install=check:BgeeCall.install-out.txt --library=/home/biocbuild/R/R/site-library --no-vignettes --timings BgeeCall_1.22.0.tar.gz |
| StartedAt: 2025-04-01 04:10:23 -0000 (Tue, 01 Apr 2025) |
| EndedAt: 2025-04-01 04:32:55 -0000 (Tue, 01 Apr 2025) |
| EllapsedTime: 1351.5 seconds |
| RetCode: 1 |
| Status: ERROR |
| CheckDir: BgeeCall.Rcheck |
| Warnings: NA |
##############################################################################
##############################################################################
###
### Running command:
###
### /home/biocbuild/R/R/bin/R CMD check --install=check:BgeeCall.install-out.txt --library=/home/biocbuild/R/R/site-library --no-vignettes --timings BgeeCall_1.22.0.tar.gz
###
##############################################################################
##############################################################################
* using log directory ‘/home/biocbuild/bbs-3.20-bioc/meat/BgeeCall.Rcheck’
* using R version 4.4.3 (2025-02-28)
* using platform: aarch64-unknown-linux-gnu
* R was compiled by
aarch64-unknown-linux-gnu-gcc (GCC) 14.2.0
GNU Fortran (GCC) 14.2.0
* running under: openEuler 24.03 (LTS)
* using session charset: UTF-8
* using option ‘--no-vignettes’
* checking for file ‘BgeeCall/DESCRIPTION’ ... OK
* checking extension type ... Package
* this is package ‘BgeeCall’ version ‘1.22.0’
* package encoding: UTF-8
* checking package namespace information ... OK
* checking package dependencies ... OK
* checking if this is a source package ... OK
* checking if there is a namespace ... OK
* checking for hidden files and directories ... OK
* checking for portable file names ... OK
* checking for sufficient/correct file permissions ... OK
* checking whether package ‘BgeeCall’ can be installed ... OK
* checking installed package size ... NOTE
installed size is 9.2Mb
sub-directories of 1Mb or more:
extdata 8.7Mb
* checking package directory ... OK
* checking ‘build’ directory ... OK
* checking DESCRIPTION meta-information ... OK
* checking top-level files ... OK
* checking for left-over files ... OK
* checking index information ... OK
* checking package subdirectories ... OK
* checking code files for non-ASCII characters ... OK
* checking R files for syntax errors ... OK
* checking whether the package can be loaded ... OK
* checking whether the package can be loaded with stated dependencies ... OK
* checking whether the package can be unloaded cleanly ... OK
* checking whether the namespace can be loaded with stated dependencies ... OK
* checking whether the namespace can be unloaded cleanly ... OK
* checking loading without being on the library search path ... OK
* checking dependencies in R code ... NOTE
Namespace in Imports field not imported from: ‘txdbmaker’
All declared Imports should be used.
* checking S3 generic/method consistency ... OK
* checking replacement functions ... OK
* checking foreign function calls ... OK
* checking R code for possible problems ... NOTE
approachesMerging : <anonymous>: no visible global function definition
for ‘p.adjust’
generate_calls_workflow: no visible binding for global variable
‘myUserMetadata’
generate_qValue: no visible global function definition for ‘approxfun’
generate_qValue: no visible global function definition for ‘integrate’
generate_qValue : calculate_qValue: no visible global function
definition for ‘integrate’
generate_theoretical_pValue: no visible binding for global variable
‘abundance’
generate_theoretical_pValue: no visible binding for global variable
‘type’
generate_theoretical_pValue: no visible global function definition for
‘pnorm’
merging_libraries: no visible binding for global variable ‘read.delim’
should_ignore_tx_version: no visible global function definition for
‘complete.cases’
Undefined global functions or variables:
abundance approxfun complete.cases integrate myUserMetadata p.adjust
pnorm read.delim type
Consider adding
importFrom("stats", "approxfun", "complete.cases", "integrate",
"p.adjust", "pnorm")
importFrom("utils", "read.delim")
to your NAMESPACE file.
* checking Rd files ... NOTE
checkRd: (-1) list_bgee_ref_intergenic_species.Rd:22: Lost braces in \itemize; meant \describe ?
checkRd: (-1) list_bgee_ref_intergenic_species.Rd:23: Lost braces in \itemize; meant \describe ?
checkRd: (-1) list_bgee_ref_intergenic_species.Rd:24-25: Lost braces in \itemize; meant \describe ?
checkRd: (-1) list_bgee_ref_intergenic_species.Rd:26: Lost braces in \itemize; meant \describe ?
* checking Rd metadata ... OK
* checking Rd cross-references ... OK
* checking for missing documentation entries ... OK
* checking for code/documentation mismatches ... OK
* checking Rd \usage sections ... OK
* checking Rd contents ... OK
* checking for unstated dependencies in examples ... OK
* checking files in ‘vignettes’ ... OK
* checking examples ... OK
Examples with CPU (user + system) or elapsed time > 5s
user system elapsed
generate_presence_absence 4.134 0.420 65.447
run_tximport 1.107 0.095 8.801
merge_transcriptome_and_intergenic 0.456 0.076 36.031
download_kallisto 0.169 0.113 31.554
list_bgee_ref_intergenic_species 0.227 0.032 7.008
setAnnotationFromFile 0.206 0.024 12.407
* checking for unstated dependencies in ‘tests’ ... OK
* checking tests ...
Running ‘testthat.R’/home/biocbuild/R/R-4.4.3/bin/BATCH: line 60: 1999301 Killed ${R_HOME}/bin/R -f ${in} ${opts} ${R_BATCH_OPTIONS} > ${out} 2>&1
ERROR
Running the tests in ‘tests/testthat.R’ failed.
Complete output:
> library(testthat)
> library(BgeeCall)
>
> Sys.setenv("R_TESTS" = "")
> test_check("BgeeCall")
* checking for unstated dependencies in vignettes ... OK
* checking package vignettes ... OK
* checking running R code from vignettes ... SKIPPED
* checking re-building of vignette outputs ... SKIPPED
* checking PDF version of manual ... OK
* DONE
Status: 1 ERROR, 4 NOTEs
See
‘/home/biocbuild/bbs-3.20-bioc/meat/BgeeCall.Rcheck/00check.log’
for details.
BgeeCall.Rcheck/00install.out
############################################################################## ############################################################################## ### ### Running command: ### ### /home/biocbuild/R/R/bin/R CMD INSTALL BgeeCall ### ############################################################################## ############################################################################## * installing to library ‘/home/biocbuild/R/R-4.4.3/site-library’ * installing *source* package ‘BgeeCall’ ... ** using staged installation ** R ** inst ** byte-compile and prepare package for lazy loading ** help *** installing help indices ** building package indices ** installing vignettes ** testing if installed package can be loaded from temporary location ** testing if installed package can be loaded from final location ** testing if installed package keeps a record of temporary installation path * DONE (BgeeCall)
BgeeCall.Rcheck/tests/testthat.Rout.fail
R version 4.4.3 (2025-02-28) -- "Trophy Case"
Copyright (C) 2025 The R Foundation for Statistical Computing
Platform: aarch64-unknown-linux-gnu
R is free software and comes with ABSOLUTELY NO WARRANTY.
You are welcome to redistribute it under certain conditions.
Type 'license()' or 'licence()' for distribution details.
R is a collaborative project with many contributors.
Type 'contributors()' for more information and
'citation()' on how to cite R or R packages in publications.
Type 'demo()' for some demos, 'help()' for on-line help, or
'help.start()' for an HTML browser interface to help.
Type 'q()' to quit R.
> library(testthat)
> library(BgeeCall)
>
> Sys.setenv("R_TESTS" = "")
> test_check("BgeeCall")
BgeeCall.Rcheck/BgeeCall-Ex.timings
| name | user | system | elapsed | |
| create_kallisto_index | 0 | 0 | 0 | |
| download_fasta_intergenic | 0.001 | 0.000 | 0.002 | |
| download_kallisto | 0.169 | 0.113 | 31.554 | |
| generate_calls_workflow | 0 | 0 | 0 | |
| generate_presence_absence | 4.134 | 0.420 | 65.447 | |
| generate_slurm_calls | 0 | 0 | 0 | |
| generate_slurm_indexes | 0 | 0 | 0 | |
| getIntergenicPrefix | 0.061 | 0.024 | 2.567 | |
| getIntergenicRelease | 0.057 | 0.004 | 2.318 | |
| getRunIds | 0 | 0 | 0 | |
| getSimpleArborescence | 0 | 0 | 0 | |
| getWorkingPath | 0 | 0 | 0 | |
| list_bgee_ref_intergenic_species | 0.227 | 0.032 | 7.008 | |
| list_community_ref_intergenic_species | 0.059 | 0.012 | 1.445 | |
| list_intergenic_release | 0.055 | 0.007 | 2.349 | |
| merge_transcriptome_and_intergenic | 0.456 | 0.076 | 36.031 | |
| merging_libraries | 0 | 0 | 0 | |
| run_kallisto | 0 | 0 | 0 | |
| run_tximport | 1.107 | 0.095 | 8.801 | |
| setAnnotationFromFile | 0.206 | 0.024 | 12.407 | |
| setAnnotationFromObject | 0.149 | 0.024 | 0.999 | |
| setIntergenicRelease | 0.056 | 0.008 | 2.399 | |
| setOutputDir | 0 | 0 | 0 | |
| setRNASeqLibPath | 0.000 | 0.000 | 0.001 | |
| setRunIds | 0.001 | 0.000 | 0.000 | |
| setSimpleArborescence | 0 | 0 | 0 | |
| setTranscriptomeFromFile | 0.007 | 0.000 | 0.011 | |
| setTranscriptomeFromObject | 0.008 | 0.000 | 0.009 | |
| setWorkingPath | 0 | 0 | 0 | |