| Back to Multiple platform build/check report for BioC 3.20: simplified long |
|
This page was generated on 2024-11-09 21:30 -0500 (Sat, 09 Nov 2024).
| Hostname | OS | Arch (*) | R version | Installed pkgs |
|---|---|---|---|---|
| teran2 | Linux (Ubuntu 24.04.1 LTS) | x86_64 | 4.4.1 (2024-06-14) -- "Race for Your Life" | 4505 |
| palomino8 | Windows Server 2022 Datacenter | x64 | 4.4.1 (2024-06-14 ucrt) -- "Race for Your Life" | 4506 |
| lconway | macOS 12.7.1 Monterey | x86_64 | 4.4.1 (2024-06-14) -- "Race for Your Life" | 4538 |
| kjohnson3 | macOS 13.6.5 Ventura | arm64 | 4.4.1 (2024-06-14) -- "Race for Your Life" | 4486 |
| kunpeng2 | Linux (openEuler 22.03 LTS-SP1) | aarch64 | 4.4.1 (2024-06-14) -- "Race for Your Life" | 4493 |
| Click on any hostname to see more info about the system (e.g. compilers) (*) as reported by 'uname -p', except on Windows and Mac OS X | ||||
| Package 142/2289 | Hostname | OS / Arch | INSTALL | BUILD | CHECK | BUILD BIN | ||||||||
| BatchQC 2.2.0 (landing page) Jessica McClintock
| teran2 | Linux (Ubuntu 24.04.1 LTS) / x86_64 | OK | OK | OK | |||||||||
| palomino8 | Windows Server 2022 Datacenter / x64 | OK | OK | OK | OK | |||||||||
| lconway | macOS 12.7.1 Monterey / x86_64 | OK | OK | OK | OK | |||||||||
| kjohnson3 | macOS 13.6.5 Ventura / arm64 | OK | OK | OK | OK | |||||||||
| kunpeng2 | Linux (openEuler 22.03 LTS-SP1) / aarch64 | OK | OK | OK | ||||||||||
|
To the developers/maintainers of the BatchQC package: - Allow up to 24 hours (and sometimes 48 hours) for your latest push to git@git.bioconductor.org:packages/BatchQC.git to reflect on this report. See Troubleshooting Build Report for more information. - Use the following Renviron settings to reproduce errors and warnings. - If 'R CMD check' started to fail recently on the Linux builder(s) over a missing dependency, add the missing dependency to 'Suggests:' in your DESCRIPTION file. See Renviron.bioc for more information. |
| Package: BatchQC |
| Version: 2.2.0 |
| Command: /Library/Frameworks/R.framework/Resources/bin/R CMD check --install=check:BatchQC.install-out.txt --library=/Library/Frameworks/R.framework/Resources/library --no-vignettes --timings BatchQC_2.2.0.tar.gz |
| StartedAt: 2024-11-08 20:50:03 -0500 (Fri, 08 Nov 2024) |
| EndedAt: 2024-11-08 20:55:59 -0500 (Fri, 08 Nov 2024) |
| EllapsedTime: 355.4 seconds |
| RetCode: 0 |
| Status: OK |
| CheckDir: BatchQC.Rcheck |
| Warnings: 0 |
##############################################################################
##############################################################################
###
### Running command:
###
### /Library/Frameworks/R.framework/Resources/bin/R CMD check --install=check:BatchQC.install-out.txt --library=/Library/Frameworks/R.framework/Resources/library --no-vignettes --timings BatchQC_2.2.0.tar.gz
###
##############################################################################
##############################################################################
* using log directory ‘/Users/biocbuild/bbs-3.20-bioc/meat/BatchQC.Rcheck’
* using R version 4.4.1 (2024-06-14)
* using platform: aarch64-apple-darwin20
* R was compiled by
Apple clang version 14.0.0 (clang-1400.0.29.202)
GNU Fortran (GCC) 12.2.0
* running under: macOS Ventura 13.6.7
* using session charset: UTF-8
* using option ‘--no-vignettes’
* checking for file ‘BatchQC/DESCRIPTION’ ... OK
* checking extension type ... Package
* this is package ‘BatchQC’ version ‘2.2.0’
* package encoding: UTF-8
* checking package namespace information ... OK
* checking package dependencies ...Warning: unable to access index for repository https://CRAN.R-project.org/src/contrib:
cannot open URL 'https://CRAN.R-project.org/src/contrib/PACKAGES'
OK
* checking if this is a source package ... OK
* checking if there is a namespace ... OK
* checking for hidden files and directories ... OK
* checking for portable file names ... OK
* checking for sufficient/correct file permissions ... OK
* checking whether package ‘BatchQC’ can be installed ... OK
* checking installed package size ... OK
* checking package directory ... OK
* checking ‘build’ directory ... OK
* checking DESCRIPTION meta-information ... OK
* checking top-level files ... OK
* checking for left-over files ... OK
* checking index information ... OK
* checking package subdirectories ... OK
* checking code files for non-ASCII characters ... OK
* checking R files for syntax errors ... OK
* checking whether the package can be loaded ... OK
* checking whether the package can be loaded with stated dependencies ... OK
* checking whether the package can be unloaded cleanly ... OK
* checking whether the namespace can be loaded with stated dependencies ... OK
* checking whether the namespace can be unloaded cleanly ... OK
* checking dependencies in R code ... OK
* checking S3 generic/method consistency ... OK
* checking replacement functions ... OK
* checking foreign function calls ... OK
* checking R code for possible problems ... OK
* checking Rd files ... OK
* checking Rd metadata ... OK
* checking Rd cross-references ... OK
* checking for missing documentation entries ... OK
* checking for code/documentation mismatches ... OK
* checking Rd \usage sections ... OK
* checking Rd contents ... OK
* checking for unstated dependencies in examples ... OK
* checking contents of ‘data’ directory ... OK
* checking data for non-ASCII characters ... OK
* checking data for ASCII and uncompressed saves ... OK
* checking files in ‘vignettes’ ... OK
* checking examples ... OK
Examples with CPU (user + system) or elapsed time > 5s
user system elapsed
volcano_plot 9.308 0.140 9.477
DE_analyze 7.329 0.106 7.436
pval_plotter 6.569 0.112 6.684
pval_summary 6.450 0.108 6.557
* checking for unstated dependencies in ‘tests’ ... OK
* checking tests ...
Running ‘spelling.R’
Running ‘testthat.R’
OK
* checking for unstated dependencies in vignettes ... OK
* checking package vignettes ... OK
* checking running R code from vignettes ... SKIPPED
* checking re-building of vignette outputs ... SKIPPED
* checking PDF version of manual ... OK
* DONE
Status: OK
BatchQC.Rcheck/00install.out
############################################################################## ############################################################################## ### ### Running command: ### ### /Library/Frameworks/R.framework/Resources/bin/R CMD INSTALL BatchQC ### ############################################################################## ############################################################################## * installing to library ‘/Library/Frameworks/R.framework/Versions/4.4-arm64/Resources/library’ * installing *source* package ‘BatchQC’ ... ** using staged installation ** R ** data ** inst ** byte-compile and prepare package for lazy loading ** help *** installing help indices ** building package indices ** installing vignettes ** testing if installed package can be loaded from temporary location ** testing if installed package can be loaded from final location ** testing if installed package keeps a record of temporary installation path * DONE (BatchQC)
BatchQC.Rcheck/tests/spelling.Rout
R version 4.4.1 (2024-06-14) -- "Race for Your Life"
Copyright (C) 2024 The R Foundation for Statistical Computing
Platform: aarch64-apple-darwin20
R is free software and comes with ABSOLUTELY NO WARRANTY.
You are welcome to redistribute it under certain conditions.
Type 'license()' or 'licence()' for distribution details.
R is a collaborative project with many contributors.
Type 'contributors()' for more information and
'citation()' on how to cite R or R packages in publications.
Type 'demo()' for some demos, 'help()' for on-line help, or
'help.start()' for an HTML browser interface to help.
Type 'q()' to quit R.
> if (requireNamespace('spelling', quietly = TRUE))
+ spelling::spell_check_test(vignettes = TRUE, error = FALSE,
+ skip_on_cran = TRUE)
NULL
>
> proc.time()
user system elapsed
0.066 0.019 0.084
BatchQC.Rcheck/tests/testthat.Rout
R version 4.4.1 (2024-06-14) -- "Race for Your Life"
Copyright (C) 2024 The R Foundation for Statistical Computing
Platform: aarch64-apple-darwin20
R is free software and comes with ABSOLUTELY NO WARRANTY.
You are welcome to redistribute it under certain conditions.
Type 'license()' or 'licence()' for distribution details.
R is a collaborative project with many contributors.
Type 'contributors()' for more information and
'citation()' on how to cite R or R packages in publications.
Type 'demo()' for some demos, 'help()' for on-line help, or
'help.start()' for an HTML browser interface to help.
Type 'q()' to quit R.
> library(testthat)
> library(BatchQC)
>
> test_check("BatchQC")
[ FAIL 0 | WARN 0 | SKIP 1 | PASS 0 ]
══ Skipped tests (1) ═══════════════════════════════════════════════════════════
• On CRAN (1): 'test-lintr.R:3:5'
[ FAIL 0 | WARN 0 | SKIP 1 | PASS 0 ]
>
> proc.time()
user system elapsed
4.058 0.163 4.246
BatchQC.Rcheck/BatchQC-Ex.timings
| name | user | system | elapsed | |
| BatchQC | 0 | 0 | 0 | |
| DE_analyze | 7.329 | 0.106 | 7.436 | |
| EV_plotter | 0.444 | 0.009 | 0.453 | |
| EV_table | 0.371 | 0.011 | 0.380 | |
| PCA_plotter | 4.314 | 0.124 | 4.439 | |
| batch_correct | 4.160 | 0.067 | 4.230 | |
| batch_design | 0.228 | 0.015 | 0.272 | |
| batchqc_explained_variation | 0.352 | 0.049 | 0.402 | |
| bladder_data_upload | 0.099 | 0.007 | 0.109 | |
| color_palette | 0.059 | 0.007 | 0.069 | |
| confound_metrics | 0.210 | 0.008 | 0.222 | |
| cor_props | 0.206 | 0.011 | 0.217 | |
| covariates_not_confounded | 0.210 | 0.008 | 0.218 | |
| cramers_v | 0.197 | 0.006 | 0.203 | |
| dendrogram_alpha_numeric_check | 0.206 | 0.009 | 0.219 | |
| dendrogram_color_palette | 0.286 | 0.008 | 0.295 | |
| dendrogram_plotter | 0.528 | 0.015 | 0.546 | |
| goodness_of_fit_DESeq2 | 1.195 | 0.010 | 1.207 | |
| heatmap_num_to_char_converter | 0.187 | 0.006 | 0.193 | |
| heatmap_plotter | 0.517 | 0.032 | 0.549 | |
| normalize_SE | 0.261 | 0.012 | 0.273 | |
| process_dendrogram | 0.305 | 0.026 | 0.331 | |
| pval_plotter | 6.569 | 0.112 | 6.684 | |
| pval_summary | 6.450 | 0.108 | 6.557 | |
| ratio_plotter | 0.388 | 0.010 | 0.400 | |
| std_pearson_corr_coef | 0.183 | 0.007 | 0.190 | |
| summarized_experiment | 0.004 | 0.001 | 0.006 | |
| variation_ratios | 0.336 | 0.019 | 0.355 | |
| volcano_plot | 9.308 | 0.140 | 9.477 | |