| Back to Multiple platform build/check report for BioC 3.20: simplified long |
|
This page was generated on 2024-11-20 12:07 -0500 (Wed, 20 Nov 2024).
| Hostname | OS | Arch (*) | R version | Installed pkgs |
|---|---|---|---|---|
| teran2 | Linux (Ubuntu 24.04.1 LTS) | x86_64 | 4.4.2 (2024-10-31) -- "Pile of Leaves" | 4481 |
| nebbiolo2 | Linux (Ubuntu 24.04.1 LTS) | x86_64 | 4.4.2 (2024-10-31) -- "Pile of Leaves" | 4479 |
| palomino8 | Windows Server 2022 Datacenter | x64 | 4.4.2 (2024-10-31 ucrt) -- "Pile of Leaves" | 4359 |
| lconway | macOS 12.7.1 Monterey | x86_64 | 4.4.1 (2024-06-14) -- "Race for Your Life" | 4539 |
| kunpeng2 | Linux (openEuler 22.03 LTS-SP1) | aarch64 | 4.4.1 (2024-06-14) -- "Race for Your Life" | 4493 |
| Click on any hostname to see more info about the system (e.g. compilers) (*) as reported by 'uname -p', except on Windows and Mac OS X | ||||
| Package 236/2289 | Hostname | OS / Arch | INSTALL | BUILD | CHECK | BUILD BIN | ||||||||
| BPRMeth 1.32.0 (landing page) Chantriolnt-Andreas Kapourani
| teran2 | Linux (Ubuntu 24.04.1 LTS) / x86_64 | OK | OK | OK | |||||||||
| nebbiolo2 | Linux (Ubuntu 24.04.1 LTS) / x86_64 | OK | OK | OK | ||||||||||
| palomino8 | Windows Server 2022 Datacenter / x64 | OK | OK | OK | OK | |||||||||
| lconway | macOS 12.7.1 Monterey / x86_64 | OK | OK | OK | OK | |||||||||
| kunpeng2 | Linux (openEuler 22.03 LTS-SP1) / aarch64 | OK | OK | OK | ||||||||||
|
To the developers/maintainers of the BPRMeth package: - Allow up to 24 hours (and sometimes 48 hours) for your latest push to git@git.bioconductor.org:packages/BPRMeth.git to reflect on this report. See Troubleshooting Build Report for more information. - Use the following Renviron settings to reproduce errors and warnings. - If 'R CMD check' started to fail recently on the Linux builder(s) over a missing dependency, add the missing dependency to 'Suggests:' in your DESCRIPTION file. See Renviron.bioc for more information. - See Martin Grigorov's blog post for how to debug Linux ARM64 related issues on a x86_64 host. |
| Package: BPRMeth |
| Version: 1.32.0 |
| Command: /home/biocbuild/R/R/bin/R CMD check --install=check:BPRMeth.install-out.txt --library=/home/biocbuild/R/R/site-library --no-vignettes --timings BPRMeth_1.32.0.tar.gz |
| StartedAt: 2024-11-20 05:45:52 -0000 (Wed, 20 Nov 2024) |
| EndedAt: 2024-11-20 05:49:02 -0000 (Wed, 20 Nov 2024) |
| EllapsedTime: 189.1 seconds |
| RetCode: 0 |
| Status: OK |
| CheckDir: BPRMeth.Rcheck |
| Warnings: 0 |
##############################################################################
##############################################################################
###
### Running command:
###
### /home/biocbuild/R/R/bin/R CMD check --install=check:BPRMeth.install-out.txt --library=/home/biocbuild/R/R/site-library --no-vignettes --timings BPRMeth_1.32.0.tar.gz
###
##############################################################################
##############################################################################
* using log directory ‘/home/biocbuild/bbs-3.20-bioc/meat/BPRMeth.Rcheck’
* using R version 4.4.1 (2024-06-14)
* using platform: aarch64-unknown-linux-gnu
* R was compiled by
gcc (GCC) 12.2.1 20220819 (openEuler 12.2.1-14)
GNU Fortran (GCC) 10.3.1
* running under: openEuler 22.03 (LTS-SP1)
* using session charset: UTF-8
* using option ‘--no-vignettes’
* checking for file ‘BPRMeth/DESCRIPTION’ ... OK
* checking extension type ... Package
* this is package ‘BPRMeth’ version ‘1.32.0’
* package encoding: UTF-8
* checking package namespace information ... OK
* checking package dependencies ... OK
* checking if this is a source package ... OK
* checking if there is a namespace ... OK
* checking for hidden files and directories ... OK
* checking for portable file names ... OK
* checking for sufficient/correct file permissions ... OK
* checking whether package ‘BPRMeth’ can be installed ... OK
* used C++ compiler: ‘g++ (conda-forge gcc 14.2.0-1) 14.2.0’
* checking C++ specification ... NOTE
Specified C++11: please drop specification unless essential
* checking installed package size ... NOTE
installed size is 5.7Mb
sub-directories of 1Mb or more:
extdata 1.5Mb
libs 2.2Mb
* checking package directory ... OK
* checking ‘build’ directory ... OK
* checking DESCRIPTION meta-information ... OK
* checking top-level files ... OK
* checking for left-over files ... OK
* checking index information ... OK
* checking package subdirectories ... OK
* checking code files for non-ASCII characters ... OK
* checking R files for syntax errors ... OK
* checking whether the package can be loaded ... OK
* checking whether the package can be loaded with stated dependencies ... OK
* checking whether the package can be unloaded cleanly ... OK
* checking whether the namespace can be loaded with stated dependencies ... OK
* checking whether the namespace can be unloaded cleanly ... OK
* checking loading without being on the library search path ... OK
* checking whether startup messages can be suppressed ... OK
* checking dependencies in R code ... NOTE
Namespace in Imports field not imported from: ‘BiocStyle’
All declared Imports should be used.
* checking S3 generic/method consistency ... OK
* checking replacement functions ... OK
* checking foreign function calls ... OK
* checking R code for possible problems ... OK
* checking Rd files ... OK
* checking Rd metadata ... OK
* checking Rd cross-references ... OK
* checking for missing documentation entries ... OK
* checking for code/documentation mismatches ... OK
* checking Rd \usage sections ... OK
* checking Rd contents ... OK
* checking for unstated dependencies in examples ... OK
* checking contents of ‘data’ directory ... OK
* checking data for non-ASCII characters ... OK
* checking LazyData ... OK
* checking data for ASCII and uncompressed saves ... OK
* checking line endings in C/C++/Fortran sources/headers ... OK
* checking line endings in Makefiles ... OK
* checking compilation flags in Makevars ... OK
* checking for GNU extensions in Makefiles ... OK
* checking for portable use of $(BLAS_LIBS) and $(LAPACK_LIBS) ... OK
* checking use of PKG_*FLAGS in Makefiles ... OK
* checking compiled code ... NOTE
Note: information on .o files is not available
* checking files in ‘vignettes’ ... OK
* checking examples ... OK
Examples with CPU (user + system) or elapsed time > 5s
user system elapsed
cluster_profiles_mle 5.773 0.052 5.836
cluster_profiles_vb 5.099 0.052 5.161
bpr_cluster_wrap 5.078 0.044 5.129
* checking for unstated dependencies in ‘tests’ ... OK
* checking tests ...
Running ‘testthat.R’
OK
* checking for unstated dependencies in vignettes ... OK
* checking package vignettes ... OK
* checking running R code from vignettes ... SKIPPED
* checking re-building of vignette outputs ... SKIPPED
* checking PDF version of manual ... OK
* DONE
Status: 4 NOTEs
See
‘/home/biocbuild/bbs-3.20-bioc/meat/BPRMeth.Rcheck/00check.log’
for details.
BPRMeth.Rcheck/00install.out
############################################################################## ############################################################################## ### ### Running command: ### ### /home/biocbuild/R/R/bin/R CMD INSTALL BPRMeth ### ############################################################################## ############################################################################## * installing to library ‘/home/biocbuild/R/R-4.4.1/site-library’ * installing *source* package ‘BPRMeth’ ... ** using staged installation ** libs using C++ compiler: ‘g++ (conda-forge gcc 14.2.0-1) 14.2.0’ using C++11 g++ -std=gnu++11 -I"/home/biocbuild/R/R-4.4.1/include" -DNDEBUG -I'/home/biocbuild/R/R-4.4.1/site-library/Rcpp/include' -I'/home/biocbuild/R/R-4.4.1/site-library/RcppArmadillo/include' -I/usr/local/include -fopenmp -fPIC -g -O2 -Wall -c RcppExports.cpp -o RcppExports.o g++ -std=gnu++11 -I"/home/biocbuild/R/R-4.4.1/include" -DNDEBUG -I'/home/biocbuild/R/R-4.4.1/site-library/Rcpp/include' -I'/home/biocbuild/R/R-4.4.1/site-library/RcppArmadillo/include' -I/usr/local/include -fopenmp -fPIC -g -O2 -Wall -c model_likelihood.cpp -o model_likelihood.o g++ -std=gnu++11 -shared -L/home/biocbuild/R/R-4.4.1/lib -L/usr/local/lib -o BPRMeth.so RcppExports.o model_likelihood.o -fopenmp -lopenblas -L/usr/lib/gcc/aarch64-linux-gnu/10.3.1 -lgfortran -lm -L/home/biocbuild/R/R-4.4.1/lib -lR installing to /home/biocbuild/R/R-4.4.1/site-library/00LOCK-BPRMeth/00new/BPRMeth/libs ** R ** data *** moving datasets to lazyload DB ** inst ** byte-compile and prepare package for lazy loading ** help *** installing help indices ** building package indices ** installing vignettes ** testing if installed package can be loaded from temporary location ** checking absolute paths in shared objects and dynamic libraries ** testing if installed package can be loaded from final location ** testing if installed package keeps a record of temporary installation path * DONE (BPRMeth)
BPRMeth.Rcheck/tests/testthat.Rout
R version 4.4.1 (2024-06-14) -- "Race for Your Life"
Copyright (C) 2024 The R Foundation for Statistical Computing
Platform: aarch64-unknown-linux-gnu
R is free software and comes with ABSOLUTELY NO WARRANTY.
You are welcome to redistribute it under certain conditions.
Type 'license()' or 'licence()' for distribution details.
R is a collaborative project with many contributors.
Type 'contributors()' for more information and
'citation()' on how to cite R or R packages in publications.
Type 'demo()' for some demos, 'help()' for on-line help, or
'help.start()' for an HTML browser interface to help.
Type 'q()' to quit R.
> library(testthat)
> library(BPRMeth)
Loading required package: GenomicRanges
Loading required package: stats4
Loading required package: BiocGenerics
Attaching package: 'BiocGenerics'
The following objects are masked from 'package:stats':
IQR, mad, sd, var, xtabs
The following objects are masked from 'package:base':
Filter, Find, Map, Position, Reduce, anyDuplicated, aperm, append,
as.data.frame, basename, cbind, colnames, dirname, do.call,
duplicated, eval, evalq, get, grep, grepl, intersect, is.unsorted,
lapply, mapply, match, mget, order, paste, pmax, pmax.int, pmin,
pmin.int, rank, rbind, rownames, sapply, saveRDS, setdiff, table,
tapply, union, unique, unsplit, which.max, which.min
Loading required package: S4Vectors
Attaching package: 'S4Vectors'
The following object is masked from 'package:utils':
findMatches
The following objects are masked from 'package:base':
I, expand.grid, unname
Loading required package: IRanges
Loading required package: GenomeInfoDb
>
> test_check("BPRMeth")
[ FAIL 0 | WARN 0 | SKIP 0 | PASS 70 ]
>
> proc.time()
user system elapsed
4.977 0.237 5.124
BPRMeth.Rcheck/BPRMeth-Ex.timings
| name | user | system | elapsed | |
| boxplot_cluster_expr | 4.859 | 0.076 | 4.940 | |
| bpr_cluster_wrap | 5.078 | 0.044 | 5.129 | |
| bpr_optimize | 1.962 | 0.020 | 1.986 | |
| bpr_predict_wrap | 1.173 | 0.004 | 1.180 | |
| cluster_profiles_mle | 5.773 | 0.052 | 5.836 | |
| cluster_profiles_vb | 5.099 | 0.052 | 5.161 | |
| create_anno_region | 0.080 | 0.012 | 0.093 | |
| create_basis | 0.002 | 0.000 | 0.001 | |
| create_region_object | 0.001 | 0.000 | 0.000 | |
| design_matrix | 0.002 | 0.000 | 0.002 | |
| eval_functions | 0.003 | 0.000 | 0.003 | |
| impute_bulk_met | 1.169 | 0.012 | 1.182 | |
| infer_profiles_gibbs | 2.914 | 0.020 | 2.939 | |
| infer_profiles_mle | 1.739 | 0.000 | 1.743 | |
| infer_profiles_vb | 2.622 | 0.028 | 2.655 | |
| inner_predict_model_expr | 0.009 | 0.000 | 0.009 | |
| inner_train_model_expr | 0.017 | 0.008 | 0.025 | |
| old_boxplot_cluster_gex | 4.861 | 0.008 | 4.877 | |
| old_plot_cluster_prof | 4.946 | 0.028 | 4.982 | |
| old_plot_fitted_profiles | 1.109 | 0.003 | 1.114 | |
| partition_bulk_dataset | 0.035 | 0.000 | 0.035 | |
| plot_cluster_profiles | 3.850 | 0.016 | 3.872 | |
| plot_infer_profiles | 2.283 | 0.036 | 2.328 | |
| plot_predicted_expr | 1.940 | 0.008 | 1.951 | |
| pool_bs_seq_rep | 0.337 | 0.000 | 0.335 | |
| predict_expr | 1.927 | 0.000 | 1.930 | |
| preprocess_bs_seq | 0.144 | 0.000 | 0.143 | |
| preprocess_final_HTS_data | 0.333 | 0.000 | 0.333 | |
| process_haib_caltech_wrap | 0.357 | 0.000 | 0.355 | |
| read_anno | 0.038 | 0.000 | 0.038 | |
| read_bs_encode_haib | 0.057 | 0.000 | 0.056 | |
| read_chrom_size | 0.007 | 0.000 | 0.007 | |
| read_expr | 0.001 | 0.002 | 0.002 | |
| read_met | 0.024 | 0.002 | 0.026 | |
| read_rna_encode_caltech | 0.103 | 0.000 | 0.102 | |