| Back to Multiple platform build/check report for BioC 3.20: simplified long | 
 | 
This page was generated on 2025-04-02 19:35 -0400 (Wed, 02 Apr 2025).
| Hostname | OS | Arch (*) | R version | Installed pkgs | 
|---|---|---|---|---|
| nebbiolo2 | Linux (Ubuntu 24.04.1 LTS) | x86_64 | 4.4.3 (2025-02-28) -- "Trophy Case" | 4764 | 
| palomino8 | Windows Server 2022 Datacenter | x64 | 4.4.3 (2025-02-28 ucrt) -- "Trophy Case" | 4495 | 
| merida1 | macOS 12.7.5 Monterey | x86_64 | 4.4.3 (2025-02-28) -- "Trophy Case" | 4522 | 
| kjohnson1 | macOS 13.6.6 Ventura | arm64 | 4.4.3 (2025-02-28) -- "Trophy Case" | 4449 | 
| taishan | Linux (openEuler 24.03 LTS) | aarch64 | 4.4.3 (2025-02-28) -- "Trophy Case" | 4426 | 
| Click on any hostname to see more info about the system (e.g. compilers) (*) as reported by 'uname -p', except on Windows and Mac OS X | ||||
| Package 229/2289 | Hostname | OS / Arch | INSTALL | BUILD | CHECK | BUILD BIN | ||||||||
| BLMA 1.30.0  (landing page) Van-Dung Pham 
 | nebbiolo2 | Linux (Ubuntu 24.04.1 LTS) / x86_64 | OK | OK | OK |  | ||||||||
| palomino8 | Windows Server 2022 Datacenter / x64 | OK | OK | OK | OK |  | ||||||||
| merida1 | macOS 12.7.5 Monterey / x86_64 | OK | OK | OK | OK |  | ||||||||
| kjohnson1 | macOS 13.6.6 Ventura / arm64 | OK | OK | OK | OK |  | ||||||||
| taishan | Linux (openEuler 24.03 LTS) / aarch64 | OK | OK | OK | ||||||||||
| To the developers/maintainers of the BLMA package: - Allow up to 24 hours (and sometimes 48 hours) for your latest push to git@git.bioconductor.org:packages/BLMA.git to reflect on this report. See Troubleshooting Build Report for more information. - Use the following Renviron settings to reproduce errors and warnings. - If 'R CMD check' started to fail recently on the Linux builder(s) over a missing dependency, add the missing dependency to 'Suggests:' in your DESCRIPTION file. See Renviron.bioc for more information. - See Martin Grigorov's blog post for how to debug Linux ARM64 related issues on a x86_64 host. | 
| Package: BLMA | 
| Version: 1.30.0 | 
| Command: /home/biocbuild/R/R/bin/R CMD check --install=check:BLMA.install-out.txt --library=/home/biocbuild/R/R/site-library --no-vignettes --timings BLMA_1.30.0.tar.gz | 
| StartedAt: 2025-04-01 04:35:40 -0000 (Tue, 01 Apr 2025) | 
| EndedAt: 2025-04-01 04:45:16 -0000 (Tue, 01 Apr 2025) | 
| EllapsedTime: 575.5 seconds | 
| RetCode: 0 | 
| Status: OK | 
| CheckDir: BLMA.Rcheck | 
| Warnings: 0 | 
##############################################################################
##############################################################################
###
### Running command:
###
###   /home/biocbuild/R/R/bin/R CMD check --install=check:BLMA.install-out.txt --library=/home/biocbuild/R/R/site-library --no-vignettes --timings BLMA_1.30.0.tar.gz
###
##############################################################################
##############################################################################
* using log directory ‘/home/biocbuild/bbs-3.20-bioc/meat/BLMA.Rcheck’
* using R version 4.4.3 (2025-02-28)
* using platform: aarch64-unknown-linux-gnu
* R was compiled by
    aarch64-unknown-linux-gnu-gcc (GCC) 14.2.0
    GNU Fortran (GCC) 14.2.0
* running under: openEuler 24.03 (LTS)
* using session charset: UTF-8
* using option ‘--no-vignettes’
* checking for file ‘BLMA/DESCRIPTION’ ... OK
* checking extension type ... Package
* this is package ‘BLMA’ version ‘1.30.0’
* checking package namespace information ... OK
* checking package dependencies ... NOTE
Depends: includes the non-default packages:
  'ROntoTools', 'GSA', 'PADOG', 'limma', 'graph', 'parallel',
  'Biobase', 'metafor'
Adding so many packages to the search path is excessive and importing
selectively is preferable.
* checking if this is a source package ... OK
* checking if there is a namespace ... OK
* checking for hidden files and directories ... OK
* checking for portable file names ... OK
* checking for sufficient/correct file permissions ... OK
* checking whether package ‘BLMA’ can be installed ... OK
* checking installed package size ... OK
* checking package directory ... OK
* checking ‘build’ directory ... OK
* checking DESCRIPTION meta-information ... OK
* checking top-level files ... OK
* checking for left-over files ... OK
* checking index information ... OK
* checking package subdirectories ... OK
* checking code files for non-ASCII characters ... OK
* checking R files for syntax errors ... OK
* checking whether the package can be loaded ... OK
* checking whether the package can be loaded with stated dependencies ... OK
* checking whether the package can be unloaded cleanly ... OK
* checking whether the namespace can be loaded with stated dependencies ... OK
* checking whether the namespace can be unloaded cleanly ... OK
* checking loading without being on the library search path ... OK
* checking dependencies in R code ... OK
* checking S3 generic/method consistency ... OK
* checking replacement functions ... OK
* checking foreign function calls ... OK
* checking R code for possible problems ... NOTE
addCLT: warning in pnorm(mean(x), 1/2, sqrt(1/(12 * n)), lower = TRUE):
  partial argument match of 'lower' to 'lower.tail'
additiveMethod: warning in pnorm(sum(x), n/2, sqrt(n/12), lower =
  TRUE): partial argument match of 'lower' to 'lower.tail'
bilevelAnalysisGeneset : <anonymous>: warning in topTable(fit2, adjust
  = "none", sort.by = "logFC", number = nrow(d) * percent, p.value =
  pCutoff): partial argument match of 'adjust' to 'adjust.method'
bilevelAnalysisPathway : <anonymous>: warning in topTable(fit2, adjust
  = "none", sort.by = "logFC", number = nrow(d) * percent, p.value =
  pCutoff): partial argument match of 'adjust' to 'adjust.method'
fisherMethod: warning in pchisq(-2 * sum(log(x)), df = 2 * length(x),
  lower = FALSE): partial argument match of 'lower' to 'lower.tail'
getStatistics: warning in topTable(fit2, adjust = "fdr", sort.by = "B",
  number = Inf): partial argument match of 'adjust' to 'adjust.method'
intraAnalysisGene : <anonymous>: warning in topTable(fit2, adjust =
  "none", sort.by = "none", number = Inf): partial argument match of
  'adjust' to 'adjust.method'
intraAnalysisGene: warning in topTable(fit2, adjust = "none", sort.by =
  "none", number = Inf): partial argument match of 'adjust' to
  'adjust.method'
calculateFC: no visible binding for global variable ‘m1i’
calculateFC: no visible binding for global variable ‘sd1i’
calculateFC: no visible binding for global variable ‘n1i’
calculateFC: no visible binding for global variable ‘m2i’
calculateFC: no visible binding for global variable ‘sd2i’
calculateFC: no visible binding for global variable ‘n2i’
calculateFC: no visible binding for global variable ‘yi’
getStatistics: no visible binding for global variable ‘d’
hierClustering: no visible binding for global variable ‘km’
hierClustering: no visible global function definition for ‘clusGap’
hierClustering: no visible global function definition for ‘maxSE’
intraAnalysisGene: no visible binding for global variable ‘d’
Undefined global functions or variables:
  clusGap d km m1i m2i maxSE n1i n2i sd1i sd2i yi
* checking Rd files ... OK
* checking Rd metadata ... OK
* checking Rd cross-references ... OK
* checking for missing documentation entries ... OK
* checking for code/documentation mismatches ... OK
* checking Rd \usage sections ... OK
* checking Rd contents ... OK
* checking for unstated dependencies in examples ... OK
* checking contents of ‘data’ directory ... OK
* checking data for non-ASCII characters ... OK
* checking data for ASCII and uncompressed saves ... OK
* checking files in ‘vignettes’ ... OK
* checking examples ... OK
Examples with CPU (user + system) or elapsed time > 5s
                          user system elapsed
bilevelAnalysisGeneset 146.595  0.810 147.764
getStatistics          126.011  0.594 126.988
bilevelAnalysisPathway  82.370  0.395  82.988
* checking for unstated dependencies in ‘tests’ ... OK
* checking tests ...
  Running ‘runTests.R’
 OK
* checking for unstated dependencies in vignettes ... OK
* checking package vignettes ... OK
* checking running R code from vignettes ... SKIPPED
* checking re-building of vignette outputs ... SKIPPED
* checking PDF version of manual ... OK
* DONE
Status: 2 NOTEs
See
  ‘/home/biocbuild/bbs-3.20-bioc/meat/BLMA.Rcheck/00check.log’
for details.
BLMA.Rcheck/00install.out
############################################################################## ############################################################################## ### ### Running command: ### ### /home/biocbuild/R/R/bin/R CMD INSTALL BLMA ### ############################################################################## ############################################################################## * installing to library ‘/home/biocbuild/R/R-4.4.3/site-library’ * installing *source* package ‘BLMA’ ... ** using staged installation ** R ** data ** inst ** byte-compile and prepare package for lazy loading ** help *** installing help indices ** building package indices ** installing vignettes ** testing if installed package can be loaded from temporary location ** testing if installed package can be loaded from final location ** testing if installed package keeps a record of temporary installation path * DONE (BLMA)
BLMA.Rcheck/tests/runTests.Rout
R version 4.4.3 (2025-02-28) -- "Trophy Case"
Copyright (C) 2025 The R Foundation for Statistical Computing
Platform: aarch64-unknown-linux-gnu
R is free software and comes with ABSOLUTELY NO WARRANTY.
You are welcome to redistribute it under certain conditions.
Type 'license()' or 'licence()' for distribution details.
R is a collaborative project with many contributors.
Type 'contributors()' for more information and
'citation()' on how to cite R or R packages in publications.
Type 'demo()' for some demos, 'help()' for on-line help, or
'help.start()' for an HTML browser interface to help.
Type 'q()' to quit R.
> BiocGenerics:::testPackage("BLMA")
Attaching package: 'BiocGenerics'
The following objects are masked from 'package:stats':
    IQR, mad, sd, var, xtabs
The following objects are masked from 'package:base':
    Filter, Find, Map, Position, Reduce, anyDuplicated, aperm, append,
    as.data.frame, basename, cbind, colnames, dirname, do.call,
    duplicated, eval, evalq, get, grep, grepl, intersect, is.unsorted,
    lapply, mapply, match, mget, order, paste, pmax, pmax.int, pmin,
    pmin.int, rank, rbind, rownames, sapply, saveRDS, setdiff, table,
    tapply, union, unique, unsplit, which.max, which.min
Attaching package: 'KEGGgraph'
The following object is masked from 'package:graphics':
    plot
The following object is masked from 'package:base':
    plot
Welcome to Bioconductor
    Vignettes contain introductory material; view with
    'browseVignettes()'. To cite Bioconductor, see
    'citation("Biobase")', and for packages 'citation("pkgname")'.
Attaching package: 'limma'
The following object is masked from 'package:BiocGenerics':
    plotMA
Loading the 'metafor' package (version 4.8-0). For an
introduction to the package please type: help(metafor)
Working on dataset GSE17054, 9 samples 
Using cached pathway data. Database info:
pathway          KEGG Pathway Database
path             Release 73.0+/01-03, Jan 15
                 Kanehisa Laboratories
                 343,170 entries
Default parameters detected. Using pre-parsed data.
Working on dataset GSE17054, 9 samples 
GSM426404, GSM426405, GSM426406, GSM426407, GSM426412
Working on dataset GSE17054, 9 samples 
GSM426404, GSM426405, GSM426406, GSM426407, GSM426412
Working on dataset GSE17054, 9 samples 
GSM426404, GSM426405, GSM426406, GSM426407, GSM426412
Using cached pathway data. Database info:
pathway          KEGG Pathway Database
path             Release 73.0+/01-03, Jan 15
                 Kanehisa Laboratories
                 343,170 entries
Default parameters detected. Using pre-parsed data.
Working on dataset GSE17054, 9 samples 
GSM426404, GSM426405, GSM426406, GSM426407, GSM426412
Using cached pathway data. Database info:
pathway          KEGG Pathway Database
path             Release 73.0+/01-03, Jan 15
                 Kanehisa Laboratories
                 343,170 entries
Default parameters detected. Using pre-parsed data.
RUNIT TEST PROTOCOL -- Tue Apr  1 04:45:12 2025 
*********************************************** 
Number of test functions: 10 
Number of errors: 0 
Number of failures: 0 
 
1 Test Suite : 
BLMA RUnit Tests - 10 test functions, 0 errors, 0 failures
Number of test functions: 10 
Number of errors: 0 
Number of failures: 0 
> 
> proc.time()
   user  system elapsed 
 36.300   0.532  36.909 
BLMA.Rcheck/BLMA-Ex.timings
| name | user | system | elapsed | |
| addCLT | 0.001 | 0.000 | 0.001 | |
| bilevelAnalysisClassic | 0.015 | 0.000 | 0.015 | |
| bilevelAnalysisGene | 3.343 | 0.100 | 3.453 | |
| bilevelAnalysisGeneset | 146.595 | 0.810 | 147.764 | |
| bilevelAnalysisPathway | 82.370 | 0.395 | 82.988 | |
| fisherMethod | 0.000 | 0.000 | 0.001 | |
| getStatistics | 126.011 | 0.594 | 126.988 | |
| intraAnalysisClassic | 0.007 | 0.000 | 0.008 | |
| intraAnalysisGene | 0.849 | 0.004 | 0.855 | |
| loadKEGGPathways | 2.729 | 0.020 | 2.756 | |
| stoufferMethod | 0 | 0 | 0 | |