Back to Multiple platform build/check report for BioC 3.20:   simplified   long
A[B]CDEFGHIJKLMNOPQRSTUVWXYZ

This page was generated on 2025-02-06 12:07 -0500 (Thu, 06 Feb 2025).

HostnameOSArch (*)R versionInstalled pkgs
nebbiolo2Linux (Ubuntu 24.04.1 LTS)x86_644.4.2 (2024-10-31) -- "Pile of Leaves" 4753
palomino8Windows Server 2022 Datacenterx644.4.2 (2024-10-31 ucrt) -- "Pile of Leaves" 4501
merida1macOS 12.7.5 Montereyx86_644.4.2 (2024-10-31) -- "Pile of Leaves" 4524
kjohnson1macOS 13.6.6 Venturaarm644.4.2 (2024-10-31) -- "Pile of Leaves" 4476
taishanLinux (openEuler 24.03 LTS)aarch644.4.2 (2024-10-31) -- "Pile of Leaves" 4407
Click on any hostname to see more info about the system (e.g. compilers)      (*) as reported by 'uname -p', except on Windows and Mac OS X

Package 136/2289HostnameOS / ArchINSTALLBUILDCHECKBUILD BIN
BASiCS 2.18.0  (landing page)
Catalina Vallejos
Snapshot Date: 2025-02-03 13:00 -0500 (Mon, 03 Feb 2025)
git_url: https://git.bioconductor.org/packages/BASiCS
git_branch: RELEASE_3_20
git_last_commit: d6d7ef6
git_last_commit_date: 2024-10-29 10:22:37 -0500 (Tue, 29 Oct 2024)
nebbiolo2Linux (Ubuntu 24.04.1 LTS) / x86_64  OK    OK    OK  UNNEEDED, same version is already published
palomino8Windows Server 2022 Datacenter / x64  OK    OK    OK    OK  UNNEEDED, same version is already published
merida1macOS 12.7.5 Monterey / x86_64  OK    OK    OK    OK  UNNEEDED, same version is already published
kjohnson1macOS 13.6.6 Ventura / arm64  OK    OK    WARNINGS    OK  UNNEEDED, same version is already published
taishanLinux (openEuler 24.03 LTS) / aarch64  OK    OK    OK  


CHECK results for BASiCS on merida1

To the developers/maintainers of the BASiCS package:
- Allow up to 24 hours (and sometimes 48 hours) for your latest push to git@git.bioconductor.org:packages/BASiCS.git to reflect on this report. See Troubleshooting Build Report for more information.
- Use the following Renviron settings to reproduce errors and warnings.
- If 'R CMD check' started to fail recently on the Linux builder(s) over a missing dependency, add the missing dependency to 'Suggests:' in your DESCRIPTION file. See Renviron.bioc for more information.

raw results


Summary

Package: BASiCS
Version: 2.18.0
Command: /Library/Frameworks/R.framework/Resources/bin/R CMD check --install=check:BASiCS.install-out.txt --library=/Library/Frameworks/R.framework/Resources/library --no-vignettes --timings BASiCS_2.18.0.tar.gz
StartedAt: 2025-02-03 23:59:15 -0500 (Mon, 03 Feb 2025)
EndedAt: 2025-02-04 00:19:43 -0500 (Tue, 04 Feb 2025)
EllapsedTime: 1227.8 seconds
RetCode: 0
Status:   OK  
CheckDir: BASiCS.Rcheck
Warnings: 0

Command output

##############################################################################
##############################################################################
###
### Running command:
###
###   /Library/Frameworks/R.framework/Resources/bin/R CMD check --install=check:BASiCS.install-out.txt --library=/Library/Frameworks/R.framework/Resources/library --no-vignettes --timings BASiCS_2.18.0.tar.gz
###
##############################################################################
##############################################################################


* using log directory ‘/Users/biocbuild/bbs-3.20-bioc/meat/BASiCS.Rcheck’
* using R version 4.4.2 (2024-10-31)
* using platform: x86_64-apple-darwin20
* R was compiled by
    Apple clang version 14.0.0 (clang-1400.0.29.202)
    GNU Fortran (GCC) 12.2.0
* running under: macOS Monterey 12.7.6
* using session charset: UTF-8
* using option ‘--no-vignettes’
* checking for file ‘BASiCS/DESCRIPTION’ ... OK
* checking extension type ... Package
* this is package ‘BASiCS’ version ‘2.18.0’
* package encoding: UTF-8
* checking package namespace information ... OK
* checking package dependencies ... OK
* checking if this is a source package ... OK
* checking if there is a namespace ... OK
* checking for hidden files and directories ... OK
* checking for portable file names ... OK
* checking for sufficient/correct file permissions ... OK
* checking whether package ‘BASiCS’ can be installed ... OK
* used C++ compiler: ‘Apple clang version 14.0.0 (clang-1400.0.29.202)’
* used SDK: ‘MacOSX11.3.sdk’
* checking C++ specification ... NOTE
  Specified C++11: please drop specification unless essential
* checking installed package size ... OK
* checking package directory ... OK
* checking ‘build’ directory ... OK
* checking DESCRIPTION meta-information ... OK
* checking top-level files ... OK
* checking for left-over files ... OK
* checking index information ... OK
* checking package subdirectories ... OK
* checking code files for non-ASCII characters ... OK
* checking R files for syntax errors ... OK
* checking whether the package can be loaded ... OK
* checking whether the package can be loaded with stated dependencies ... OK
* checking whether the package can be unloaded cleanly ... OK
* checking whether the namespace can be loaded with stated dependencies ... OK
* checking whether the namespace can be unloaded cleanly ... OK
* checking whether startup messages can be suppressed ... OK
* checking dependencies in R code ... OK
* checking S3 generic/method consistency ... OK
* checking replacement functions ... OK
* checking foreign function calls ... OK
* checking R code for possible problems ... OK
* checking Rd files ... OK
* checking Rd metadata ... OK
* checking Rd cross-references ... OK
* checking for missing documentation entries ... OK
* checking for code/documentation mismatches ... OK
* checking Rd \usage sections ... OK
* checking Rd contents ... OK
* checking for unstated dependencies in examples ... OK
* checking contents of ‘data’ directory ... OK
* checking data for non-ASCII characters ... OK
* checking data for ASCII and uncompressed saves ... OK
* checking line endings in C/C++/Fortran sources/headers ... OK
* checking line endings in Makefiles ... OK
* checking compilation flags in Makevars ... OK
* checking for GNU extensions in Makefiles ... OK
* checking for portable use of $(BLAS_LIBS) and $(LAPACK_LIBS) ... OK
* checking use of PKG_*FLAGS in Makefiles ... OK
* checking compiled code ... NOTE
Note: information on .o files is not available
* checking files in ‘vignettes’ ... OK
* checking examples ... OK
Examples with CPU (user + system) or elapsed time > 5s
                                   user system elapsed
BASiCS_TestDE                    15.401  0.147  16.397
BASiCS_MCMC                      11.811  0.193  13.025
BASiCS_PlotDE                     7.911  0.084   8.555
newBASiCS_Chain                   5.657  0.080   6.022
BASiCS_Chain                      5.227  0.163   6.081
BASiCS_DiagPlot                   5.003  0.045   5.762
BASiCS_VarThresholdSearchHVG_LVG  4.710  0.156   5.254
BASiCS_DivideAndConquer           3.837  0.096  61.269
* checking for unstated dependencies in ‘tests’ ... OK
* checking tests ...
  Running ‘testthat.R’
 OK
* checking for unstated dependencies in vignettes ... OK
* checking package vignettes ... OK
* checking running R code from vignettes ... SKIPPED
* checking re-building of vignette outputs ... SKIPPED
* checking PDF version of manual ... OK
* DONE

Status: 2 NOTEs
See
  ‘/Users/biocbuild/bbs-3.20-bioc/meat/BASiCS.Rcheck/00check.log’
for details.


Installation output

BASiCS.Rcheck/00install.out

##############################################################################
##############################################################################
###
### Running command:
###
###   /Library/Frameworks/R.framework/Resources/bin/R CMD INSTALL BASiCS
###
##############################################################################
##############################################################################


* installing to library ‘/Library/Frameworks/R.framework/Versions/4.4-x86_64/Resources/library’
* installing *source* package ‘BASiCS’ ...
** using staged installation
** libs
using C++ compiler: ‘Apple clang version 14.0.0 (clang-1400.0.29.202)’
using C++11
using SDK: ‘MacOSX11.3.sdk’
clang++ -arch x86_64 -std=gnu++11 -I"/Library/Frameworks/R.framework/Resources/include" -DNDEBUG  -I'/Library/Frameworks/R.framework/Versions/4.4-x86_64/Resources/library/Rcpp/include' -I'/Library/Frameworks/R.framework/Versions/4.4-x86_64/Resources/library/RcppArmadillo/include' -I/opt/R/x86_64/include    -fPIC  -falign-functions=64 -Wall -g -O2   -c BASiCS.cpp -o BASiCS.o
clang++ -arch x86_64 -std=gnu++11 -I"/Library/Frameworks/R.framework/Resources/include" -DNDEBUG  -I'/Library/Frameworks/R.framework/Versions/4.4-x86_64/Resources/library/Rcpp/include' -I'/Library/Frameworks/R.framework/Versions/4.4-x86_64/Resources/library/RcppArmadillo/include' -I/opt/R/x86_64/include    -fPIC  -falign-functions=64 -Wall -g -O2   -c RcppExports.cpp -o RcppExports.o
clang++ -arch x86_64 -std=gnu++11 -dynamiclib -Wl,-headerpad_max_install_names -undefined dynamic_lookup -L/Library/Frameworks/R.framework/Resources/lib -L/opt/R/x86_64/lib -o BASiCS.so BASiCS.o RcppExports.o -L/Library/Frameworks/R.framework/Resources/lib -lRlapack -L/Library/Frameworks/R.framework/Resources/lib -lRblas -L/opt/gfortran/lib/gcc/x86_64-apple-darwin20.0/12.2.0 -L/opt/gfortran/lib -lgfortran -lquadmath -F/Library/Frameworks/R.framework/.. -framework R -Wl,-framework -Wl,CoreFoundation
installing to /Library/Frameworks/R.framework/Versions/4.4-x86_64/Resources/library/00LOCK-BASiCS/00new/BASiCS/libs
** R
** data
** inst
** byte-compile and prepare package for lazy loading
** help
*** installing help indices
** building package indices
** installing vignettes
** testing if installed package can be loaded from temporary location
** checking absolute paths in shared objects and dynamic libraries
** testing if installed package can be loaded from final location
** testing if installed package keeps a record of temporary installation path
* DONE (BASiCS)

Tests output

BASiCS.Rcheck/tests/testthat.Rout


R version 4.4.2 (2024-10-31) -- "Pile of Leaves"
Copyright (C) 2024 The R Foundation for Statistical Computing
Platform: x86_64-apple-darwin20

R is free software and comes with ABSOLUTELY NO WARRANTY.
You are welcome to redistribute it under certain conditions.
Type 'license()' or 'licence()' for distribution details.

R is a collaborative project with many contributors.
Type 'contributors()' for more information and
'citation()' on how to cite R or R packages in publications.

Type 'demo()' for some demos, 'help()' for on-line help, or
'help.start()' for an HTML browser interface to help.
Type 'q()' to quit R.

> library(testthat)
> library(BASiCS)
Loading required package: SingleCellExperiment
Loading required package: SummarizedExperiment
Loading required package: MatrixGenerics
Loading required package: matrixStats

Attaching package: 'MatrixGenerics'

The following objects are masked from 'package:matrixStats':

    colAlls, colAnyNAs, colAnys, colAvgsPerRowSet, colCollapse,
    colCounts, colCummaxs, colCummins, colCumprods, colCumsums,
    colDiffs, colIQRDiffs, colIQRs, colLogSumExps, colMadDiffs,
    colMads, colMaxs, colMeans2, colMedians, colMins, colOrderStats,
    colProds, colQuantiles, colRanges, colRanks, colSdDiffs, colSds,
    colSums2, colTabulates, colVarDiffs, colVars, colWeightedMads,
    colWeightedMeans, colWeightedMedians, colWeightedSds,
    colWeightedVars, rowAlls, rowAnyNAs, rowAnys, rowAvgsPerColSet,
    rowCollapse, rowCounts, rowCummaxs, rowCummins, rowCumprods,
    rowCumsums, rowDiffs, rowIQRDiffs, rowIQRs, rowLogSumExps,
    rowMadDiffs, rowMads, rowMaxs, rowMeans2, rowMedians, rowMins,
    rowOrderStats, rowProds, rowQuantiles, rowRanges, rowRanks,
    rowSdDiffs, rowSds, rowSums2, rowTabulates, rowVarDiffs, rowVars,
    rowWeightedMads, rowWeightedMeans, rowWeightedMedians,
    rowWeightedSds, rowWeightedVars

Loading required package: GenomicRanges
Loading required package: stats4
Loading required package: BiocGenerics

Attaching package: 'BiocGenerics'

The following objects are masked from 'package:stats':

    IQR, mad, sd, var, xtabs

The following objects are masked from 'package:base':

    Filter, Find, Map, Position, Reduce, anyDuplicated, aperm, append,
    as.data.frame, basename, cbind, colnames, dirname, do.call,
    duplicated, eval, evalq, get, grep, grepl, intersect, is.unsorted,
    lapply, mapply, match, mget, order, paste, pmax, pmax.int, pmin,
    pmin.int, rank, rbind, rownames, sapply, saveRDS, setdiff, table,
    tapply, union, unique, unsplit, which.max, which.min

Loading required package: S4Vectors

Attaching package: 'S4Vectors'

The following object is masked from 'package:utils':

    findMatches

The following objects are masked from 'package:base':

    I, expand.grid, unname

Loading required package: IRanges
Loading required package: GenomeInfoDb
Loading required package: Biobase
Welcome to Bioconductor

    Vignettes contain introductory material; view with
    'browseVignettes()'. To cite Bioconductor, see
    'citation("Biobase")', and for packages 'citation("pkgname")'.


Attaching package: 'Biobase'

The following object is masked from 'package:MatrixGenerics':

    rowMedians

The following objects are masked from 'package:matrixStats':

    anyMissing, rowMedians

    Welcome to 'BASiCS'. If you used 'BASiCS' before its release in
    Bioconductor, please visit:
    https://github.com/catavallejos/BASiCS/wiki.
> 
> test_check("BASiCS")
-------------------------------------------------------------
Log-fold change thresholds are now set in a log2 scale. 
Original BASiCS release used a natural logarithm scale.
-------------------------------------------------------------
Offset estimate: 0.6714
(ratio SC vs P&S).
-------------------------------------------------------------

-------------------------------------------------------------
Log-fold change thresholds are now set in a log2 scale. 
Original BASiCS release used a natural logarithm scale.
-------------------------------------------------------------
Offset estimate: 0.6714
(ratio SC vs P&S).
To visualise its effect, please use 'PlotOffset = TRUE'.
-------------------------------------------------------------

-------------------------------------------------------------
Log-fold change thresholds are now set in a log2 scale. 
Original BASiCS release used a natural logarithm scale.
-------------------------------------------------------------
Offset estimate: 0.6714
(ratio Group1 vs Group2).
To visualise its effect, please use 'PlotOffset = TRUE'.
-------------------------------------------------------------

For Differential mean task:
the posterior probability threshold chosen via EFDR calibration is too low.
Probability threshold automatically set equal to 'ProbThresholdM'.
EFDR calibration failed for Differential dispersion task. 
Probability threshold automatically set equal to 'ProbThresholdD'.
-------------------------------------------------------------
Log-fold change thresholds are now set in a log2 scale. 
Original BASiCS release used a natural logarithm scale.
-------------------------------------------------------------
Offset estimate: 0.6714
(ratio SC vs P&S).
To visualise its effect, please use 'PlotOffset = TRUE'.
-------------------------------------------------------------

-------------------------------------------------------------
Log-fold change thresholds are now set in a log2 scale. 
Original BASiCS release used a natural logarithm scale.
-------------------------------------------------------------
Offset estimate: 0.6714
(ratio Group1 vs Group2).
-------------------------------------------------------------

For Differential mean task:
the posterior probability threshold chosen via EFDR calibration is too low.
Probability threshold automatically set equal to 'ProbThresholdM'.
EFDR calibration failed for Differential dispersion task. 
Probability threshold automatically set equal to 'ProbThresholdD'.
-------------------------------------------------------------
Log-fold change thresholds are now set in a log2 scale. 
Original BASiCS release used a natural logarithm scale.
-------------------------------------------------------------
Offset estimate: 0.6714
(ratio SC vs P&S).
To visualise its effect, please use 'PlotOffset = TRUE'.
-------------------------------------------------------------

-------------------------------------------------------------
Log-fold change thresholds are now set in a log2 scale. 
Original BASiCS release used a natural logarithm scale.
-------------------------------------------------------------
Offset estimate: 0.6714
(ratio SC vs P&S).
To visualise its effect, please use 'PlotOffset = TRUE'.
-------------------------------------------------------------

-------------------------------------------------------------
Log-fold change thresholds are now set in a log2 scale. 
Original BASiCS release used a natural logarithm scale.
-------------------------------------------------------------
Offset estimate: 0.6787
(ratio SC vs P&S).
To visualise its effect, please use 'PlotOffset = TRUE'.
-------------------------------------------------------------

-------------------------------------------------------------
Log-fold change thresholds are now set in a log2 scale. 
Original BASiCS release used a natural logarithm scale.
-------------------------------------------------------------
Log-fold change thresholds are now set in a log2 scale. 
Original BASiCS release used a natural logarithm scale.
-------------------------------------------------------------
Offset estimate: 0.6787
(ratio Group1 vs Group2).
To visualise its effect, please use 'PlotOffset = TRUE'.
-------------------------------------------------------------

-------------------------------------------------------------
Log-fold change thresholds are now set in a log2 scale. 
Original BASiCS release used a natural logarithm scale.
-------------------------------------------------------------
Offset estimate: 0.6787
(ratio Group1 vs Group2).
To visualise its effect, please use 'PlotOffset = TRUE'.
-------------------------------------------------------------

EFDR calibration failed for Differential mean task. 
Probability threshold automatically set equal to 'ProbThresholdM'.
EFDR calibration failed for Differential dispersion task. 
Probability threshold automatically set equal to 'ProbThresholdD'.
For Differential residual dispersion task:
the posterior probability threshold chosen via EFDR calibration is too low.
Probability threshold automatically set equal to 'ProbThresholdR'.
-------------------------------------------------------------
Log-fold change thresholds are now set in a log2 scale. 
Original BASiCS release used a natural logarithm scale.
-------------------------------------------------------------
Offset estimate: 0.6787
(ratio SC vs P&S).
To visualise its effect, please use 'PlotOffset = TRUE'.
-------------------------------------------------------------

-------------------------------------------------------------
Log-fold change thresholds are now set in a log2 scale. 
Original BASiCS release used a natural logarithm scale.
-------------------------------------------------------------
Offset estimate: 0.6787
(ratio Group1 vs Group2).
To visualise its effect, please use 'PlotOffset = TRUE'.
-------------------------------------------------------------

EFDR calibration failed for Differential mean task. 
Probability threshold automatically set equal to 'ProbThresholdM'.
EFDR calibration failed for Differential dispersion task. 
Probability threshold automatically set equal to 'ProbThresholdD'.
For Differential residual dispersion task:
the posterior probability threshold chosen via EFDR calibration is too low.
Probability threshold automatically set equal to 'ProbThresholdR'.
altExp 'spike-ins' is assumed to contain spike-in genes.
see help(altExp) for details. 

Running with spikes BASiCS sampler (regression case) ... 

-------------------------------------------------------------
MCMC running time 
-------------------------------------------------------------
user: 0.017
system: 0
elapsed: 0.018

-------------------------------------------------------------
Output 
-------------------------------------------------------------

-------------------------------------------------------------
BASiCS version 2.18.0 : 
vertical integration (spikes case) 
-------------------------------------------------------------

altExp 'spike-ins' is assumed to contain spike-in genes.
see help(altExp) for details. 

Running with spikes BASiCS sampler (regression case) ... 

-------------------------------------------------------------
MCMC running time 
-------------------------------------------------------------
user: 0.018
system: 0
elapsed: 0.021

-------------------------------------------------------------
Output 
-------------------------------------------------------------

-------------------------------------------------------------
BASiCS version 2.18.0 : 
vertical integration (spikes case) 
-------------------------------------------------------------

altExp 'spike-ins' is assumed to contain spike-in genes.
see help(altExp) for details. 

altExp 'spike-ins' is assumed to contain spike-in genes.
see help(altExp) for details. 

Running with spikes BASiCS sampler (regression case) ... 

-------------------------------------------------------------
MCMC running time 
-------------------------------------------------------------
user: 0.016
system: 0
elapsed: 0.016

-------------------------------------------------------------
Output 
-------------------------------------------------------------

-------------------------------------------------------------
BASiCS version 2.18.0 : 
vertical integration (spikes case) 
-------------------------------------------------------------

altExp 'spike-ins' is assumed to contain spike-in genes.
see help(altExp) for details. 

Running with spikes BASiCS sampler (regression case) ... 

-------------------------------------------------------------
MCMC running time 
-------------------------------------------------------------
user: 0.018
system: 0
elapsed: 0.021

-------------------------------------------------------------
Output 
-------------------------------------------------------------

-------------------------------------------------------------
BASiCS version 2.18.0 : 
vertical integration (spikes case) 
-------------------------------------------------------------

Combining batch posteriors for mu
Combining batch posteriors for delta
Combining batch posteriors for phi
Combining batch posteriors for s
Combining batch posteriors for nu
Combining batch posteriors for theta
Combining batch posteriors for beta
Combining batch posteriors for sigma2
Combining batch posteriors for epsilon
Combining batch posteriors for RBFLocations
altExp 'spike-ins' is assumed to contain spike-in genes.
see help(altExp) for details. 

altExp 'spike-ins' is assumed to contain spike-in genes.
see help(altExp) for details. 

-------------------------------------------------------------
NOTE: default choice PriorDelta = 'log-normal'  (recommended value). 
Vallejos et al (2015) used a 'gamma' prior instead.
-------------------------------------------------------------

Running with spikes BASiCS sampler (no regression) ... 

-------------------------------------------------------------
MCMC running time 
-------------------------------------------------------------
user: 0.014
system: 0.001
elapsed: 0.019

-------------------------------------------------------------
Output 
-------------------------------------------------------------

-------------------------------------------------------------
BASiCS version 2.18.0 : 
vertical integration (spikes case) 
-------------------------------------------------------------

altExp 'spike-ins' is assumed to contain spike-in genes.
see help(altExp) for details. 

-------------------------------------------------------------
NOTE: default choice PriorDelta = 'log-normal'  (recommended value). 
Vallejos et al (2015) used a 'gamma' prior instead.
-------------------------------------------------------------

Running with spikes BASiCS sampler (no regression) ... 

-------------------------------------------------------------
MCMC running time 
-------------------------------------------------------------
user: 0.016
system: 0
elapsed: 0.018

-------------------------------------------------------------
Output 
-------------------------------------------------------------

-------------------------------------------------------------
BASiCS version 2.18.0 : 
vertical integration (spikes case) 
-------------------------------------------------------------

Combining batch posteriors for mu
Combining batch posteriors for delta
Combining batch posteriors for phi
Combining batch posteriors for s
Combining batch posteriors for nu
Combining batch posteriors for theta
Running no spikes BASiCS sampler (regression case) ... 

-------------------------------------------------------------
MCMC running time 
-------------------------------------------------------------
user: 0.014
system: 0
elapsed: 0.02

-------------------------------------------------------------
Output 
-------------------------------------------------------------

Running no spikes BASiCS sampler (regression case) ... 

-------------------------------------------------------------
MCMC running time 
-------------------------------------------------------------
user: 0.016
system: 0.001
elapsed: 0.018

-------------------------------------------------------------
Output 
-------------------------------------------------------------

Combining batch posteriors for mu
Combining batch posteriors for delta
Combining batch posteriors for s
Combining batch posteriors for nu
Combining batch posteriors for theta
Combining batch posteriors for beta
Combining batch posteriors for sigma2
Combining batch posteriors for epsilon
Combining batch posteriors for RBFLocations
-------------------------------------------------------------
NOTE: default choice PriorDelta = 'log-normal'  (recommended value). 
Vallejos et al (2015) used a 'gamma' prior instead.
-------------------------------------------------------------

Running no spikes BASiCS sampler (no regression) ... 

-------------------------------------------------------------
MCMC running time 
-------------------------------------------------------------
user: 0.012
system: 0
elapsed: 0.022

-------------------------------------------------------------
Output 
-------------------------------------------------------------

-------------------------------------------------------------
NOTE: default choice PriorDelta = 'log-normal'  (recommended value). 
Vallejos et al (2015) used a 'gamma' prior instead.
-------------------------------------------------------------

Running no spikes BASiCS sampler (no regression) ... 

-------------------------------------------------------------
MCMC running time 
-------------------------------------------------------------
user: 0.016
system: 0
elapsed: 0.018

-------------------------------------------------------------
Output 
-------------------------------------------------------------

Combining batch posteriors for mu
Combining batch posteriors for delta
Combining batch posteriors for s
Combining batch posteriors for nu
Combining batch posteriors for theta
altExp 'spike-ins' is assumed to contain spike-in genes.
see help(altExp) for details. 

altExp 'spike-ins' is assumed to contain spike-in genes.
see help(altExp) for details. 

Running with spikes BASiCS sampler (regression case) ... 

-------------------------------------------------------------
MCMC running time 
-------------------------------------------------------------
user: 0.018
system: 0.001
elapsed: 0.02

-------------------------------------------------------------
Output 
-------------------------------------------------------------

-------------------------------------------------------------
BASiCS version 2.18.0 : 
vertical integration (spikes case) 
-------------------------------------------------------------

altExp 'spike-ins' is assumed to contain spike-in genes.
see help(altExp) for details. 

Running with spikes BASiCS sampler (regression case) ... 

-------------------------------------------------------------
MCMC running time 
-------------------------------------------------------------
user: 0.016
system: 0
elapsed: 0.016

-------------------------------------------------------------
Output 
-------------------------------------------------------------

-------------------------------------------------------------
BASiCS version 2.18.0 : 
vertical integration (spikes case) 
-------------------------------------------------------------

Combining batch posteriors for mu
Combining batch posteriors for delta
Combining batch posteriors for phi
Combining batch posteriors for s
Combining batch posteriors for nu
Combining batch posteriors for theta
Combining batch posteriors for beta
Combining batch posteriors for sigma2
Combining batch posteriors for epsilon
Combining batch posteriors for RBFLocations
altExp 'spike-ins' is assumed to contain spike-in genes.
see help(altExp) for details. 

altExp 'spike-ins' is assumed to contain spike-in genes.
see help(altExp) for details. 

-------------------------------------------------------------
NOTE: default choice PriorDelta = 'log-normal'  (recommended value). 
Vallejos et al (2015) used a 'gamma' prior instead.
-------------------------------------------------------------

Running with spikes BASiCS sampler (no regression) ... 

-------------------------------------------------------------
MCMC running time 
-------------------------------------------------------------
user: 0.014
system: 0
elapsed: 0.014

-------------------------------------------------------------
Output 
-------------------------------------------------------------

-------------------------------------------------------------
BASiCS version 2.18.0 : 
vertical integration (spikes case) 
-------------------------------------------------------------

altExp 'spike-ins' is assumed to contain spike-in genes.
see help(altExp) for details. 

-------------------------------------------------------------
NOTE: default choice PriorDelta = 'log-normal'  (recommended value). 
Vallejos et al (2015) used a 'gamma' prior instead.
-------------------------------------------------------------

Running with spikes BASiCS sampler (no regression) ... 

-------------------------------------------------------------
MCMC running time 
-------------------------------------------------------------
user: 0.016
system: 0
elapsed: 0.018

-------------------------------------------------------------
Output 
-------------------------------------------------------------

-------------------------------------------------------------
BASiCS version 2.18.0 : 
vertical integration (spikes case) 
-------------------------------------------------------------

Combining batch posteriors for mu
Combining batch posteriors for delta
Combining batch posteriors for phi
Combining batch posteriors for s
Combining batch posteriors for nu
Combining batch posteriors for theta
Running no spikes BASiCS sampler (regression case) ... 

-------------------------------------------------------------
MCMC running time 
-------------------------------------------------------------
user: 0.016
system: 0
elapsed: 0.018

-------------------------------------------------------------
Output 
-------------------------------------------------------------

Running no spikes BASiCS sampler (regression case) ... 

-------------------------------------------------------------
MCMC running time 
-------------------------------------------------------------
user: 0.016
system: 0
elapsed: 0.016

-------------------------------------------------------------
Output 
-------------------------------------------------------------

Combining batch posteriors for mu
Combining batch posteriors for delta
Combining batch posteriors for s
Combining batch posteriors for nu
Combining batch posteriors for theta
Combining batch posteriors for beta
Combining batch posteriors for sigma2
Combining batch posteriors for epsilon
Combining batch posteriors for RBFLocations
-------------------------------------------------------------
NOTE: default choice PriorDelta = 'log-normal'  (recommended value). 
Vallejos et al (2015) used a 'gamma' prior instead.
-------------------------------------------------------------

Running no spikes BASiCS sampler (no regression) ... 

-------------------------------------------------------------
MCMC running time 
-------------------------------------------------------------
user: 0.011
system: 0.001
elapsed: 0.012

-------------------------------------------------------------
Output 
-------------------------------------------------------------

-------------------------------------------------------------
NOTE: default choice PriorDelta = 'log-normal'  (recommended value). 
Vallejos et al (2015) used a 'gamma' prior instead.
-------------------------------------------------------------

Running no spikes BASiCS sampler (no regression) ... 

-------------------------------------------------------------
MCMC running time 
-------------------------------------------------------------
user: 0.015
system: 0
elapsed: 0.015

-------------------------------------------------------------
Output 
-------------------------------------------------------------

Combining batch posteriors for mu
Combining batch posteriors for delta
Combining batch posteriors for s
Combining batch posteriors for nu
Combining batch posteriors for theta
-------------------------------------------------------------
NOTE: default choice PriorDelta = 'log-normal'  (recommended value). 
Vallejos et al (2015) used a 'gamma' prior instead.
-------------------------------------------------------------

Running no spikes BASiCS sampler (no regression) ... 

-------------------------------------------------------------
MCMC running time 
-------------------------------------------------------------
user: 0.025
system: 0.001
elapsed: 0.03

-------------------------------------------------------------
Output 
-------------------------------------------------------------

altExp 'spike-ins' is assumed to contain spike-in genes.
see help(altExp) for details. 

Running with spikes BASiCS sampler (regression case) ... 

-------------------------------------------------------------
MCMC running time 
-------------------------------------------------------------
user: 0.105
system: 0
elapsed: 0.119

-------------------------------------------------------------
Output 
-------------------------------------------------------------

-------------------------------------------------------------
BASiCS version 2.18.0 : 
vertical integration (spikes case) 
-------------------------------------------------------------

altExp 'spike-ins' is assumed to contain spike-in genes.
see help(altExp) for details. 

Running with spikes BASiCS sampler (regression case) ... 

-------------------------------------------------------------
MCMC running time 
-------------------------------------------------------------
user: 0.113
system: 0.001
elapsed: 0.146

-------------------------------------------------------------
Output 
-------------------------------------------------------------

-------------------------------------------------------------
BASiCS version 2.18.0 : 
vertical integration (spikes case) 
-------------------------------------------------------------

Combining batch posteriors for mu
Combining batch posteriors for delta
Combining batch posteriors for phi
Combining batch posteriors for s
Combining batch posteriors for nu
Combining batch posteriors for theta
Combining batch posteriors for beta
Combining batch posteriors for sigma2
Combining batch posteriors for epsilon
Combining batch posteriors for RBFLocations
Combining batch posteriors for mu
Combining batch posteriors for delta
Combining batch posteriors for phi
Combining batch posteriors for s
Combining batch posteriors for nu
Combining batch posteriors for theta
Combining batch posteriors for beta
Combining batch posteriors for sigma2
Combining batch posteriors for epsilon
Combining batch posteriors for RBFLocations
Combining batch posteriors for mu
Combining batch posteriors for mu
Combining batch posteriors for delta
Combining batch posteriors for phi
Combining batch posteriors for s
Combining batch posteriors for nu
Combining batch posteriors for theta
Cannot find a balanced split with 9 quantiles, trying again with 8
altExp 'spike-ins' is assumed to contain spike-in genes.
see help(altExp) for details. 

Running with spikes BASiCS sampler (regression case) ... 

-------------------------------------------------------------
MCMC running time 
-------------------------------------------------------------
user: 0.115
system: 0.001
elapsed: 0.121

-------------------------------------------------------------
Output 
-------------------------------------------------------------

-------------------------------------------------------------
BASiCS version 2.18.0 : 
vertical integration (spikes case) 
-------------------------------------------------------------

altExp 'spike-ins' is assumed to contain spike-in genes.
see help(altExp) for details. 

Running with spikes BASiCS sampler (regression case) ... 

-------------------------------------------------------------
MCMC running time 
-------------------------------------------------------------
user: 0.1
system: 0.001
elapsed: 0.107

-------------------------------------------------------------
Output 
-------------------------------------------------------------

-------------------------------------------------------------
BASiCS version 2.18.0 : 
vertical integration (spikes case) 
-------------------------------------------------------------

Generating partitions...
Starting MCMC...
-------------------------------------------------------------
NOTE: default choice PriorDelta = 'log-normal'  (recommended value). 
Vallejos et al (2015) used a 'gamma' prior instead.
-------------------------------------------------------------

Running no spikes BASiCS sampler (no regression) ... 

-----------------------------------------------------
MCMC sampler has been started: 200 iterations to go.
-----------------------------------------------------
RefGene: 31
RefGene: 16
RefGene: 31
RefGene: 13
RefGene: 16
RefGene: 39
RefGene: 11
RefGene: 31
RefGene: 43
RefGene: 13
RefGene: 0
RefGene: 13
RefGene: 11
RefGene: 16
RefGene: 11
RefGene: 44
RefGene: 44
RefGene: 13
RefGene: 0
RefGene: 31
RefGene: 16
RefGene: 0
RefGene: 13
RefGene: 43
RefGene: 39
RefGene: 13
RefGene: 39
RefGene: 16
RefGene: 44
RefGene: 16
RefGene: 15
RefGene: 43
RefGene: 39
RefGene: 13
RefGene: 0
RefGene: 44
RefGene: 15
RefGene: 0
RefGene: 39
RefGene: 17
RefGene: 11
RefGene: 17
RefGene: 39
RefGene: 17
RefGene: 31
RefGene: 31
RefGene: 44
RefGene: 0
RefGene: 15
RefGene: 39
RefGene: 13
RefGene: 16
RefGene: 43
RefGene: 16
RefGene: 43
RefGene: 11
RefGene: 44
RefGene: 43
RefGene: 39
RefGene: 43
RefGene: 0
RefGene: 39
RefGene: 39
RefGene: 15
RefGene: 17
RefGene: 11
RefGene: 15
RefGene: 43
RefGene: 16
RefGene: 44
RefGene: 0
RefGene: 44
RefGene: 44
RefGene: 13
RefGene: 0
RefGene: 17
RefGene: 15
RefGene: 13
RefGene: 31
RefGene: 31
RefGene: 39
RefGene: 13
RefGene: 11
RefGene: 31
RefGene: 31
RefGene: 17
RefGene: 15
RefGene: 0
RefGene: 43
RefGene: 44
RefGene: 39
RefGene: 11
RefGene: 15
RefGene: 31
RefGene: 39
RefGene: 11
RefGene: 17
RefGene: 39
RefGene: 11
RefGene: 13
-----------------------------------------------------
End of Burn-in period.
-----------------------------------------------------
RefGene: 16
RefGene: 44
RefGene: 44
RefGene: 17
RefGene: 31
RefGene: 17
RefGene: 15
RefGene: 15
RefGene: 11
RefGene: 44
RefGene: 31
RefGene: 11
RefGene: 31
RefGene: 0
RefGene: 0
RefGene: 44
RefGene: 0
RefGene: 39
RefGene: 13
RefGene: 44
RefGene: 16
RefGene: 17
RefGene: 11
RefGene: 39
RefGene: 31
RefGene: 0
RefGene: 31
RefGene: 39
RefGene: 43
RefGene: 16
RefGene: 31
RefGene: 17
RefGene: 15
RefGene: 17
RefGene: 44
RefGene: 31
RefGene: 11
RefGene: 44
RefGene: 13
RefGene: 17
RefGene: 0
RefGene: 15
RefGene: 16
RefGene: 17
RefGene: 31
RefGene: 39
RefGene: 44
RefGene: 16
RefGene: 16
RefGene: 15
RefGene: 31
RefGene: 39
RefGene: 31
RefGene: 13
RefGene: 17
RefGene: 43
RefGene: 11
RefGene: 15
RefGene: 15
RefGene: 43
RefGene: 31
RefGene: 13
RefGene: 13
RefGene: 31
RefGene: 44
RefGene: 13
RefGene: 16
RefGene: 13
RefGene: 16
RefGene: 0
RefGene: 11
RefGene: 44
RefGene: 0
RefGene: 31
RefGene: 13
RefGene: 39
RefGene: 16
RefGene: 31
RefGene: 39
RefGene: 16
RefGene: 15
RefGene: 43
RefGene: 0
RefGene: 17
RefGene: 43
RefGene: 15
RefGene: 15
RefGene: 0
RefGene: 31
RefGene: 43
RefGene: 16
RefGene: 0
RefGene: 17
RefGene: 39
RefGene: 0
RefGene: 11
RefGene: 31
RefGene: 39
RefGene: 17
RefGene: 31
 
-----------------------------------------------------
-----------------------------------------------------
All 200 MCMC iterations have been completed.
-----------------------------------------------------
-----------------------------------------------------
 
-----------------------------------------------------
Please see below a summary of the overall acceptance rates.
-----------------------------------------------------
 
Minimum acceptance rate among mu[i]'s: 0.14
Average acceptance rate among mu[i]'s: 0.4984
Maximum acceptance rate among mu[i]'s: 0.77
 
 
Minimum acceptance rate among delta[i]'s: 0.58
Average acceptance rate among delta[i]'s: 0.69
Maximum acceptance rate among delta[i]'s: 0.84
 
 
Minimum acceptance rate among nu[jk]'s: 0.89
Average acceptance rate among nu[jk]'s: 0.9569
Maximum acceptance rate among nu[jk]'s: 1
 
 
Minimum acceptance rate among theta[k]'s: 1
Average acceptance rate among theta[k]'s: 1
Maximum acceptance rate among theta[k]'s: 1
 
-----------------------------------------------------
 
-------------------------------------------------------------
MCMC running time 
-------------------------------------------------------------
user: 0.307
system: 0.002
elapsed: 0.361

-------------------------------------------------------------
Output 
-------------------------------------------------------------


-------------------------------------------------------------
NOTE: default choice PriorDelta = 'log-normal'  (recommended value). 
Vallejos et al (2015) used a 'gamma' prior instead.
-------------------------------------------------------------

Running no spikes BASiCS sampler (no regression) ... 

-----------------------------------------------------
MCMC sampler has been started: 200 iterations to go.
-----------------------------------------------------
RefGene: 10
RefGene: 14
RefGene: 11
RefGene: 10
RefGene: 11
RefGene: 36
RefGene: 22
RefGene: 19
RefGene: 49
RefGene: 49
RefGene: 19
RefGene: 19
RefGene: 9
RefGene: 36
RefGene: 9
RefGene: 49
RefGene: 23
RefGene: 9
RefGene: 22
RefGene: 49
RefGene: 22
RefGene: 10
RefGene: 23
RefGene: 10
RefGene: 49
RefGene: 10
RefGene: 11
RefGene: 47
RefGene: 22
RefGene: 22
RefGene: 49
RefGene: 22
RefGene: 47
RefGene: 49
RefGene: 9
RefGene: 22
RefGene: 22
RefGene: 47
RefGene: 19
RefGene: 10
RefGene: 11
RefGene: 11
RefGene: 23
RefGene: 14
RefGene: 23
RefGene: 23
RefGene: 9
RefGene: 49
RefGene: 19
RefGene: 36
RefGene: 9
RefGene: 36
RefGene: 49
RefGene: 22
RefGene: 14
RefGene: 19
RefGene: 9
RefGene: 23
RefGene: 49
RefGene: 22
RefGene: 47
RefGene: 14
RefGene: 14
RefGene: 10
RefGene: 9
RefGene: 11
RefGene: 10
RefGene: 19
RefGene: 9
RefGene: 23
RefGene: 47
RefGene: 11
RefGene: 36
RefGene: 19
RefGene: 9
RefGene: 23
RefGene: 10
RefGene: 22
RefGene: 11
RefGene: 22
RefGene: 10
RefGene: 49
RefGene: 14
RefGene: 23
RefGene: 36
RefGene: 23
RefGene: 36
RefGene: 23
RefGene: 11
RefGene: 23
RefGene: 11
RefGene: 11
RefGene: 47
RefGene: 14
RefGene: 14
RefGene: 49
RefGene: 23
RefGene: 47
RefGene: 14
RefGene: 10
-----------------------------------------------------
End of Burn-in period.
-----------------------------------------------------
RefGene: 49
RefGene: 9
RefGene: 22
RefGene: 11
RefGene: 49
RefGene: 47
RefGene: 22
RefGene: 22
RefGene: 11
RefGene: 23
RefGene: 14
RefGene: 9
RefGene: 22
RefGene: 36
RefGene: 14
RefGene: 22
RefGene: 22
RefGene: 47
RefGene: 19
RefGene: 36
RefGene: 9
RefGene: 47
RefGene: 11
RefGene: 19
RefGene: 47
RefGene: 23
RefGene: 10
RefGene: 9
RefGene: 49
RefGene: 11
RefGene: 47
RefGene: 10
RefGene: 36
RefGene: 49
RefGene: 36
RefGene: 23
RefGene: 23
RefGene: 36
RefGene: 47
RefGene: 36
RefGene: 47
RefGene: 23
RefGene: 22
RefGene: 36
RefGene: 19
RefGene: 22
RefGene: 49
RefGene: 19
RefGene: 22
RefGene: 49
RefGene: 49
RefGene: 22
RefGene: 11
RefGene: 9
RefGene: 10
RefGene: 19
RefGene: 23
RefGene: 9
RefGene: 11
RefGene: 19
RefGene: 22
RefGene: 10
RefGene: 49
RefGene: 19
RefGene: 36
RefGene: 23
RefGene: 19
RefGene: 23
RefGene: 47
RefGene: 11
RefGene: 49
RefGene: 49
RefGene: 23
RefGene: 14
RefGene: 11
RefGene: 9
RefGene: 11
RefGene: 19
RefGene: 9
RefGene: 19
RefGene: 23
RefGene: 19
RefGene: 19
RefGene: 22
RefGene: 19
RefGene: 23
RefGene: 11
RefGene: 22
RefGene: 11
RefGene: 11
RefGene: 19
RefGene: 36
RefGene: 10
RefGene: 14
RefGene: 22
RefGene: 10
RefGene: 47
RefGene: 9
RefGene: 9
RefGene: 36
 
-----------------------------------------------------
-----------------------------------------------------
All 200 MCMC iterations have been completed.
-----------------------------------------------------
-----------------------------------------------------
 
-----------------------------------------------------
Please see below a summary of the overall acceptance rates.
-----------------------------------------------------
 
Minimum acceptance rate among mu[i]'s: 0.24
Average acceptance rate among mu[i]'s: 0.5156
Maximum acceptance rate among mu[i]'s: 0.82
 
 
Minimum acceptance rate among delta[i]'s: 0.57
Average acceptance rate among delta[i]'s: 0.6716
Maximum acceptance rate among delta[i]'s: 0.78
 
 
Minimum acceptance rate among nu[jk]'s: 0.83
Average acceptance rate among nu[jk]'s: 0.9526
Maximum acceptance rate among nu[jk]'s: 1
 
 
Minimum acceptance rate among theta[k]'s: 0.49
Average acceptance rate among theta[k]'s: 0.69
Maximum acceptance rate among theta[k]'s: 0.89
 
-----------------------------------------------------
 
-------------------------------------------------------------
MCMC running time 
-------------------------------------------------------------
user: 0.304
system: 0.003
elapsed: 0.331

-------------------------------------------------------------
Output 
-------------------------------------------------------------


Combining batch posteriors for mu
Combining batch posteriors for delta
Combining batch posteriors for s

Combining batch posteriors for nu
Combining batch posteriors for theta

sumAux (line 117): 146.424
sumAux (line 117): 136.459
For LVG detection task:
the posterior probability threshold chosen via EFDR calibration is too low.
Probability threshold automatically set equal to 'ProbThreshold'.
For LVG detection task:
the posterior probability threshold chosen via EFDR calibration is too low.
Probability threshold automatically set equal to 'ProbThreshold'.
For LVG detection task:
the posterior probability threshold chosen via EFDR calibration is too low.
Probability threshold automatically set equal to 'ProbThreshold'.
Evaluating variance contribution threshold = 25 % ... 

Evaluating variance contribution threshold = 50 % ... 

Evaluating variance contribution threshold = 75 % ... 

Evaluating variance contribution threshold = 25 % ... 

Evaluating variance contribution threshold = 50 % ... 

Evaluating variance contribution threshold = 75 % ... 

For LVG detection task:
the posterior probability threshold chosen via EFDR calibration is too low.
Probability threshold automatically set equal to 'ProbThreshold'.
altExp 'spike-ins' is assumed to contain spike-in genes.
see help(altExp) for details. 

altExp 'spike-ins' is assumed to contain spike-in genes.
see help(altExp) for details. 

altExp 'spike-ins' is assumed to contain spike-in genes.
see help(altExp) for details. 

altExp 'spike-ins' is assumed to contain spike-in genes.
see help(altExp) for details. 

altExp 'spike-ins' is assumed to contain spike-in genes.
see help(altExp) for details. 

Running with spikes BASiCS sampler (regression case) ... 

-------------------------------------------------------------
MCMC running time 
-------------------------------------------------------------
user: 0.009
system: 0
elapsed: 0.012

-------------------------------------------------------------
Output 
-------------------------------------------------------------

-------------------------------------------------------------
BASiCS version 2.18.0 : 
vertical integration (spikes case) 
-------------------------------------------------------------

altExp 'spike-ins' is assumed to contain spike-in genes.
see help(altExp) for details. 

Running with spikes BASiCS sampler (regression case) ... 

-------------------------------------------------------------
MCMC running time 
-------------------------------------------------------------
user: 0.009
system: 0.001
elapsed: 0.01

-------------------------------------------------------------
Output 
-------------------------------------------------------------

-------------------------------------------------------------
BASiCS version 2.18.0 : 
vertical integration (spikes case) 
-------------------------------------------------------------

altExp 'spike-ins' is assumed to contain spike-in genes.
see help(altExp) for details. 

Running with spikes BASiCS sampler (regression case) ... 

-------------------------------------------------------------
MCMC running time 
-------------------------------------------------------------
user: 0.016
system: 0
elapsed: 0.017

-------------------------------------------------------------
Output 
-------------------------------------------------------------

-------------------------------------------------------------
BASiCS version 2.18.0 : 
vertical integration (spikes case) 
-------------------------------------------------------------

altExp 'spike-ins' is assumed to contain spike-in genes.
see help(altExp) for details. 

-------------------------------------------------------------
NOTE: default choice PriorDelta = 'log-normal'  (recommended value). 
Vallejos et al (2015) used a 'gamma' prior instead.
-------------------------------------------------------------

Running with spikes BASiCS sampler (no regression) ... 

-------------------------------------------------------------
MCMC running time 
-------------------------------------------------------------
user: 0.007
system: 0
elapsed: 0.008

-------------------------------------------------------------
Output 
-------------------------------------------------------------

-------------------------------------------------------------
BASiCS version 2.18.0 : 
vertical integration (spikes case) 
-------------------------------------------------------------

altExp 'spike-ins' is assumed to contain spike-in genes.
see help(altExp) for details. 

-------------------------------------------------------------
NOTE: default choice PriorDelta = 'log-normal'  (recommended value). 
Vallejos et al (2015) used a 'gamma' prior instead.
-------------------------------------------------------------

Running with spikes BASiCS sampler (no regression) ... 

-------------------------------------------------------------
MCMC running time 
-------------------------------------------------------------
user: 0.006
system: 0
elapsed: 0.007

-------------------------------------------------------------
Output 
-------------------------------------------------------------

-------------------------------------------------------------
BASiCS version 2.18.0 : 
vertical integration (spikes case) 
-------------------------------------------------------------

altExp 'spike-ins' is assumed to contain spike-in genes.
see help(altExp) for details. 

-------------------------------------------------------------
NOTE: default choice PriorDelta = 'log-normal'  (recommended value). 
Vallejos et al (2015) used a 'gamma' prior instead.
-------------------------------------------------------------

Running no spikes BASiCS sampler (no regression) ... 

-------------------------------------------------------------
MCMC running time 
-------------------------------------------------------------
user: 0.011
system: 0
elapsed: 0.012

-------------------------------------------------------------
Output 
-------------------------------------------------------------

-------------------------------------------------------------
NOTE: default choice PriorDelta = 'log-normal'  (recommended value). 
Vallejos et al (2015) used a 'gamma' prior instead.
-------------------------------------------------------------

Running no spikes BASiCS sampler (no regression) ... 

-------------------------------------------------------------
MCMC running time 
-------------------------------------------------------------
user: 0.011
system: 0
elapsed: 0.015

-------------------------------------------------------------
Output 
-------------------------------------------------------------

-------------------------------------------------------------
NOTE: default choice PriorDelta = 'log-normal'  (recommended value). 
Vallejos et al (2015) used a 'gamma' prior instead.
-------------------------------------------------------------

Running no spikes BASiCS sampler (no regression) ... 

-------------------------------------------------------------
MCMC running time 
-------------------------------------------------------------
user: 0.006
system: 0
elapsed: 0.006

-------------------------------------------------------------
Output 
-------------------------------------------------------------

-------------------------------------------------------------
NOTE: default choice PriorDelta = 'log-normal'  (recommended value). 
Vallejos et al (2015) used a 'gamma' prior instead.
-------------------------------------------------------------

Running no spikes BASiCS sampler (no regression) ... 

-------------------------------------------------------------
MCMC running time 
-------------------------------------------------------------
user: 0.006
system: 0
elapsed: 0.009

-------------------------------------------------------------
Output 
-------------------------------------------------------------

-------------------------------------------------------------
NOTE: default choice PriorDelta = 'log-normal'  (recommended value). 
Vallejos et al (2015) used a 'gamma' prior instead.
-------------------------------------------------------------

Running no spikes BASiCS sampler (no regression) ... 

-------------------------------------------------------------
MCMC running time 
-------------------------------------------------------------
user: 0.006
system: 0
elapsed: 0.007

-------------------------------------------------------------
Output 
-------------------------------------------------------------

altExp 'spike-ins' is assumed to contain spike-in genes.
see help(altExp) for details. 

altExp 'spike-ins' is assumed to contain spike-in genes.
see help(altExp) for details. 

Running no spikes BASiCS sampler (regression case) ... 

-------------------------------------------------------------
MCMC running time 
-------------------------------------------------------------
user: 0.008
system: 0
elapsed: 0.01

-------------------------------------------------------------
Output 
-------------------------------------------------------------

Running no spikes BASiCS sampler (regression case) ... 

-------------------------------------------------------------
MCMC running time 
-------------------------------------------------------------
user: 0.009
system: 0
elapsed: 0.009

-------------------------------------------------------------
Output 
-------------------------------------------------------------

Running no spikes BASiCS sampler (regression case) ... 

-------------------------------------------------------------
MCMC running time 
-------------------------------------------------------------
user: 0.008
system: 0
elapsed: 0.009

-------------------------------------------------------------
Output 
-------------------------------------------------------------

Running no spikes BASiCS sampler (regression case) ... 

-------------------------------------------------------------
MCMC running time 
-------------------------------------------------------------
user: 0.008
system: 0
elapsed: 0.009

-------------------------------------------------------------
Output 
-------------------------------------------------------------

Running no spikes BASiCS sampler (regression case) ... 

-------------------------------------------------------------
MCMC running time 
-------------------------------------------------------------
user: 0.009
system: 0
elapsed: 0.009

-------------------------------------------------------------
Output 
-------------------------------------------------------------

Running no spikes BASiCS sampler (regression case) ... 

-------------------------------------------------------------
MCMC running time 
-------------------------------------------------------------
user: 0.008
system: 0
elapsed: 0.009

-------------------------------------------------------------
Output 
-------------------------------------------------------------

-------------------------------------------------------------
NOTE: default choice PriorDelta = 'log-normal'  (recommended value). 
Vallejos et al (2015) used a 'gamma' prior instead.
-------------------------------------------------------------

Running no spikes BASiCS sampler (no regression) ... 

-------------------------------------------------------------
MCMC running time 
-------------------------------------------------------------
user: 0.01
system: 0
elapsed: 0.018

-------------------------------------------------------------
Output 
-------------------------------------------------------------

-------------------------------------------------------------
NOTE: default choice PriorDelta = 'log-normal'  (recommended value). 
Vallejos et al (2015) used a 'gamma' prior instead.
-------------------------------------------------------------

Running no spikes BASiCS sampler (no regression) ... 

-------------------------------------------------------------
MCMC running time 
-------------------------------------------------------------
user: 0.012
system: 0
elapsed: 0.015

-------------------------------------------------------------
Output 
-------------------------------------------------------------

-------------------------------------------------------------
NOTE: default choice PriorDelta = 'log-normal'  (recommended value). 
Vallejos et al (2015) used a 'gamma' prior instead.
-------------------------------------------------------------

Running no spikes BASiCS sampler (no regression) ... 

-------------------------------------------------------------
MCMC running time 
-------------------------------------------------------------
user: 0.011
system: 0
elapsed: 0.012

-------------------------------------------------------------
Output 
-------------------------------------------------------------

altExp 'spike-ins' is assumed to contain spike-in genes.
see help(altExp) for details. 

altExp 'spike-ins' is assumed to contain spike-in genes.
see help(altExp) for details. 

altExp 'spike-ins' is assumed to contain spike-in genes.
see help(altExp) for details. 

-------------------------------------------------------------
NOTE: default choice PriorDelta = 'log-normal'  (recommended value). 
Vallejos et al (2015) used a 'gamma' prior instead.
-------------------------------------------------------------

Running with spikes BASiCS sampler (no regression) ... 

-------------------------------------------------------------
MCMC running time 
-------------------------------------------------------------
user: 0.007
system: 0
elapsed: 0.007

-------------------------------------------------------------
Output 
-------------------------------------------------------------

-------------------------------------------------------------
BASiCS version 2.18.0 : 
vertical integration (spikes case) 
-------------------------------------------------------------

altExp 'spike-ins' is assumed to contain spike-in genes.
see help(altExp) for details. 

Running with spikes BASiCS sampler (regression case) ... 

-------------------------------------------------------------
MCMC running time 
-------------------------------------------------------------
user: 0.009
system: 0
elapsed: 0.012

-------------------------------------------------------------
Output 
-------------------------------------------------------------

-------------------------------------------------------------
BASiCS version 2.18.0 : 
vertical integration (spikes case) 
-------------------------------------------------------------

altExp 'spike-ins' is assumed to contain spike-in genes.
see help(altExp) for details. 

Running with spikes BASiCS sampler (regression case) ... 

-------------------------------------------------------------
MCMC running time 
-------------------------------------------------------------
user: 0.008
system: 0
elapsed: 0.009

-------------------------------------------------------------
Output 
-------------------------------------------------------------

-------------------------------------------------------------
BASiCS version 2.18.0 : 
vertical integration (spikes case) 
-------------------------------------------------------------

altExp 'spike-ins' is assumed to contain spike-in genes.
see help(altExp) for details. 

altExp 'spike-ins' is assumed to contain spike-in genes.
see help(altExp) for details. 

-------------------------------------------------------------
NOTE: default choice PriorDelta = 'log-normal'  (recommended value). 
Vallejos et al (2015) used a 'gamma' prior instead.
-------------------------------------------------------------

Running with spikes BASiCS sampler (no regression) ... 

-------------------------------------------------------------
MCMC running time 
-------------------------------------------------------------
user: 0.012
system: 0
elapsed: 0.015

-------------------------------------------------------------
Output 
-------------------------------------------------------------

-------------------------------------------------------------
BASiCS_Chain object stored as chain_.Rds file in
'/Users/biocbuild/bbs-3.20-bioc/meat/BASiCS.Rcheck/tests/testthat' directory ... 
-------------------------------------------------------------

-------------------------------------------------------------
Storing trajectories of adaptive proposal variances (log-scale) aschain_ls_.Rds file in 
'/Users/biocbuild/bbs-3.20-bioc/meat/BASiCS.Rcheck/tests/testthat' directory ... 
-------------------------------------------------------------

-------------------------------------------------------------
BASiCS version 2.18.0 : 
vertical integration (spikes case) 
-------------------------------------------------------------

altExp 'spike-ins' is assumed to contain spike-in genes.
see help(altExp) for details. 

Running with spikes BASiCS sampler (regression case) ... 

-------------------------------------------------------------
MCMC running time 
-------------------------------------------------------------
user: 0.015
system: 0.001
elapsed: 0.02

-------------------------------------------------------------
Output 
-------------------------------------------------------------

-------------------------------------------------------------
BASiCS_Chain object stored as chain_.Rds file in
'/Users/biocbuild/bbs-3.20-bioc/meat/BASiCS.Rcheck/tests/testthat' directory ... 
-------------------------------------------------------------

-------------------------------------------------------------
Storing trajectories of adaptive proposal variances (log-scale) aschain_ls_.Rds file in 
'/Users/biocbuild/bbs-3.20-bioc/meat/BASiCS.Rcheck/tests/testthat' directory ... 
-------------------------------------------------------------

-------------------------------------------------------------
BASiCS version 2.18.0 : 
vertical integration (spikes case) 
-------------------------------------------------------------

-------------------------------------------------------------
NOTE: default choice PriorDelta = 'log-normal'  (recommended value). 
Vallejos et al (2015) used a 'gamma' prior instead.
-------------------------------------------------------------

Running no spikes BASiCS sampler (no regression) ... 

-------------------------------------------------------------
MCMC running time 
-------------------------------------------------------------
user: 0.012
system: 0
elapsed: 0.014

-------------------------------------------------------------
Output 
-------------------------------------------------------------

-------------------------------------------------------------
BASiCS_Chain object stored as chain_.Rds file in
'/Users/biocbuild/bbs-3.20-bioc/meat/BASiCS.Rcheck/tests/testthat' directory ... 
-------------------------------------------------------------

-------------------------------------------------------------
Storing trajectories of adaptive proposal variances (log-scale) aschain_ls_.Rds file in 
'/Users/biocbuild/bbs-3.20-bioc/meat/BASiCS.Rcheck/tests/testthat' directory ... 
-------------------------------------------------------------

-------------------------------------------------------------
BASiCS version 2.18.0 : horizontal integration (no-spikes case)
-------------------------------------------------------------

Randomly, 1 out of 10
genes was left as reference at each iteration 
List of reference genes and frequencies stored as a .txt file in
'/Users/biocbuild/bbs-3.20-bioc/meat/BASiCS.Rcheck/tests/testthat' directory ... 
-------------------------------------------------------------

Running no spikes BASiCS sampler (regression case) ... 

-------------------------------------------------------------
MCMC running time 
-------------------------------------------------------------
user: 0.016
system: 0
elapsed: 0.019

-------------------------------------------------------------
Output 
-------------------------------------------------------------

-------------------------------------------------------------
BASiCS_Chain object stored as chain_.Rds file in
'/Users/biocbuild/bbs-3.20-bioc/meat/BASiCS.Rcheck/tests/testthat' directory ... 
-------------------------------------------------------------

-------------------------------------------------------------
Storing trajectories of adaptive proposal variances (log-scale) aschain_ls_.Rds file in 
'/Users/biocbuild/bbs-3.20-bioc/meat/BASiCS.Rcheck/tests/testthat' directory ... 
-------------------------------------------------------------

-------------------------------------------------------------
BASiCS version 2.18.0 : horizontal integration (no-spikes case)
-------------------------------------------------------------

Randomly, 1 out of 10
genes was left as reference at each iteration 
List of reference genes and frequencies stored as a .txt file in
'/Users/biocbuild/bbs-3.20-bioc/meat/BASiCS.Rcheck/tests/testthat' directory ... 
-------------------------------------------------------------

altExp 'spike-ins' is assumed to contain spike-in genes.
see help(altExp) for details. 

-------------------------------------------------------------
NOTE: default choice PriorDelta = 'log-normal'  (recommended value). 
Vallejos et al (2015) used a 'gamma' prior instead.
-------------------------------------------------------------

Running with spikes BASiCS sampler (no regression) ... 

-------------------------------------------------------------
MCMC running time 
-------------------------------------------------------------
user: 0.013
system: 0
elapsed: 0.014

-------------------------------------------------------------
Output 
-------------------------------------------------------------

-------------------------------------------------------------
BASiCS version 2.18.0 : 
vertical integration (spikes case) 
-------------------------------------------------------------

`BASiCS_Chain` class definition was outdated. 
Object updated to be compatible with BASiCS version 2.18.0.
Set 'StoreUpdatedChain' = TRUE to save updated object.

altExp 'spike-ins' is assumed to contain spike-in genes.
see help(altExp) for details. 

-------------------------------------------------------------
NOTE: default choice PriorDelta = 'log-normal'  (recommended value). 
Vallejos et al (2015) used a 'gamma' prior instead.
-------------------------------------------------------------

Running with spikes BASiCS sampler (no regression) ... 

-------------------------------------------------------------
MCMC running time 
-------------------------------------------------------------
user: 0.013
system: 0
elapsed: 0.013

-------------------------------------------------------------
Output 
-------------------------------------------------------------

-------------------------------------------------------------
BASiCS version 2.18.0 : 
vertical integration (spikes case) 
-------------------------------------------------------------

`BASiCS_Chain` class definition was outdated. 
Object updated to be compatible with BASiCS version 2.18.0.
Set 'StoreUpdatedChain' = TRUE to save updated object.
(this overwrites original input file).

-------------------------------------------------------------
Log-fold change thresholds are now set in a log2 scale. 
Original BASiCS release used a natural logarithm scale.
-------------------------------------------------------------
Offset estimate: 1
(ratio Group1 vs Group2).
-------------------------------------------------------------

EFDR calibration failed for Differential mean task. 
Probability threshold automatically set equal to 'ProbThresholdM'.
EFDR calibration failed for Differential dispersion task. 
Probability threshold automatically set equal to 'ProbThresholdD'.
EFDR calibration failed for Differential residual dispersion task. 
Probability threshold automatically set equal to 'ProbThresholdR'.
Running no spikes BASiCS sampler (regression case) ... 

-------------------------------------------------------------
MCMC running time 
-------------------------------------------------------------
user: 0.036
system: 0
elapsed: 0.04

-------------------------------------------------------------
Output 
-------------------------------------------------------------

-------------------------------------------------------------
Log-fold change thresholds are now set in a log2 scale. 
Original BASiCS release used a natural logarithm scale.
-------------------------------------------------------------
Offset estimate: 1
(ratio Group1 vs Group2).
-------------------------------------------------------------

EFDR calibration failed for Differential mean task. 
Probability threshold automatically set equal to 'ProbThresholdM'.
EFDR calibration failed for Differential dispersion task. 
Probability threshold automatically set equal to 'ProbThresholdD'.
EFDR calibration failed for Differential residual dispersion task. 
Probability threshold automatically set equal to 'ProbThresholdR'.
altExp 'spike-ins' is assumed to contain spike-in genes.
see help(altExp) for details. 

-------------------------------------------------------------
NOTE: default choice PriorDelta = 'log-normal'  (recommended value). 
Vallejos et al (2015) used a 'gamma' prior instead.
-------------------------------------------------------------

Running with spikes BASiCS sampler (no regression) ... 

-------------------------------------------------------------
MCMC running time 
-------------------------------------------------------------
user: 0.581
system: 0.004
elapsed: 0.667

-------------------------------------------------------------
Output 
-------------------------------------------------------------

-------------------------------------------------------------
BASiCS version 2.18.0 : 
vertical integration (spikes case) 
-------------------------------------------------------------

altExp 'spike-ins' is assumed to contain spike-in genes.
see help(altExp) for details. 

-------------------------------------------------------------
NOTE: default choice PriorDelta = 'log-normal'  (recommended value). 
Vallejos et al (2015) used a 'gamma' prior instead.
-------------------------------------------------------------

Running with spikes BASiCS sampler (no regression) ... 

-------------------------------------------------------------
MCMC running time 
-------------------------------------------------------------
user: 0.005
system: 0
elapsed: 0.005

-------------------------------------------------------------
Output 
-------------------------------------------------------------

-------------------------------------------------------------
Storing trajectories of adaptive proposal variances (log-scale) aschain_ls_.Rds file in 
'/Users/biocbuild/bbs-3.20-bioc/meat/BASiCS.Rcheck/tests/testthat' directory ... 
-------------------------------------------------------------

-------------------------------------------------------------
BASiCS version 2.18.0 : 
vertical integration (spikes case) 
-------------------------------------------------------------

altExp 'spike-ins' is assumed to contain spike-in genes.
see help(altExp) for details. 

-------------------------------------------------------------
NOTE: default choice PriorDelta = 'log-normal'  (recommended value). 
Vallejos et al (2015) used a 'gamma' prior instead.
-------------------------------------------------------------

Running with spikes BASiCS sampler (no regression) ... 

-------------------------------------------------------------
MCMC running time 
-------------------------------------------------------------
user: 0.573
system: 0.003
elapsed: 0.594

-------------------------------------------------------------
Output 
-------------------------------------------------------------

-------------------------------------------------------------
BASiCS version 2.18.0 : 
vertical integration (spikes case) 
-------------------------------------------------------------

-------------------------------------------------------------
NOTE: default choice PriorDelta = 'log-normal'  (recommended value). 
Vallejos et al (2015) used a 'gamma' prior instead.
-------------------------------------------------------------

Running no spikes BASiCS sampler (no regression) ... 

-------------------------------------------------------------
MCMC running time 
-------------------------------------------------------------
user: 0.54
system: 0.003
elapsed: 0.564

-------------------------------------------------------------
Output 
-------------------------------------------------------------

-------------------------------------------------------------
NOTE: default choice PriorDelta = 'log-normal'  (recommended value). 
Vallejos et al (2015) used a 'gamma' prior instead.
-------------------------------------------------------------

Running no spikes BASiCS sampler (no regression) ... 

-------------------------------------------------------------
MCMC running time 
-------------------------------------------------------------
user: 0.541
system: 0.004
elapsed: 0.572

-------------------------------------------------------------
Output 
-------------------------------------------------------------

-------------------------------------------------------------
NOTE: default choice PriorDelta = 'log-normal'  (recommended value). 
Vallejos et al (2015) used a 'gamma' prior instead.
-------------------------------------------------------------

Running no spikes BASiCS sampler (no regression) ... 

-------------------------------------------------------------
MCMC running time 
-------------------------------------------------------------
user: 0.004
system: 0
elapsed: 0.004

-------------------------------------------------------------
Output 
-------------------------------------------------------------

-------------------------------------------------------------
Storing trajectories of adaptive proposal variances (log-scale) aschain_ls_.Rds file in 
'/Users/biocbuild/bbs-3.20-bioc/meat/BASiCS.Rcheck/tests/testthat' directory ... 
-------------------------------------------------------------

-------------------------------------------------------------
NOTE: default choice PriorDelta = 'log-normal'  (recommended value). 
Vallejos et al (2015) used a 'gamma' prior instead.
-------------------------------------------------------------

Running no spikes BASiCS sampler (no regression) ... 

-------------------------------------------------------------
MCMC running time 
-------------------------------------------------------------
user: 0.514
system: 0.003
elapsed: 0.578

-------------------------------------------------------------
Output 
-------------------------------------------------------------

-------------------------------------------------------------
NOTE: default choice PriorDelta = 'log-normal'  (recommended value). 
Vallejos et al (2015) used a 'gamma' prior instead.
-------------------------------------------------------------

Running no spikes BASiCS sampler (no regression) ... 

-------------------------------------------------------------
MCMC running time 
-------------------------------------------------------------
user: 0.512
system: 0.004
elapsed: 0.582

-------------------------------------------------------------
Output 
-------------------------------------------------------------

Running no spikes BASiCS sampler (regression case) ... 

-------------------------------------------------------------
MCMC running time 
-------------------------------------------------------------
user: 0.992
system: 0.015
elapsed: 1.141

-------------------------------------------------------------
Output 
-------------------------------------------------------------

Running no spikes BASiCS sampler (regression case) ... 

-------------------------------------------------------------
MCMC running time 
-------------------------------------------------------------
user: 0.983
system: 0.012
elapsed: 1.073

-------------------------------------------------------------
Output 
-------------------------------------------------------------

Running no spikes BASiCS sampler (regression case) ... 

-------------------------------------------------------------
MCMC running time 
-------------------------------------------------------------
user: 0.038
system: 0
elapsed: 0.039

-------------------------------------------------------------
Output 
-------------------------------------------------------------

-------------------------------------------------------------
Storing trajectories of adaptive proposal variances (log-scale) aschain_ls_.Rds file in 
'/Users/biocbuild/bbs-3.20-bioc/meat/BASiCS.Rcheck/tests/testthat' directory ... 
-------------------------------------------------------------

altExp 'spike-ins' is assumed to contain spike-in genes.
see help(altExp) for details. 

Running with spikes BASiCS sampler (regression case) ... 

-------------------------------------------------------------
MCMC running time 
-------------------------------------------------------------
user: 0.761
system: 0.005
elapsed: 0.838

-------------------------------------------------------------
Output 
-------------------------------------------------------------

-------------------------------------------------------------
BASiCS version 2.18.0 : 
vertical integration (spikes case) 
-------------------------------------------------------------

altExp 'spike-ins' is assumed to contain spike-in genes.
see help(altExp) for details. 

Running with spikes BASiCS sampler (regression case) ... 

-------------------------------------------------------------
MCMC running time 
-------------------------------------------------------------
user: 0.007
system: 0.001
elapsed: 0.007

-------------------------------------------------------------
Output 
-------------------------------------------------------------

-------------------------------------------------------------
Storing trajectories of adaptive proposal variances (log-scale) aschain_ls_.Rds file in 
'/Users/biocbuild/bbs-3.20-bioc/meat/BASiCS.Rcheck/tests/testthat' directory ... 
-------------------------------------------------------------

-------------------------------------------------------------
BASiCS version 2.18.0 : 
vertical integration (spikes case) 
-------------------------------------------------------------

-------------------------------------------------------------
Log-fold change thresholds are now set in a log2 scale. 
Original BASiCS release used a natural logarithm scale.
-------------------------------------------------------------
Offset estimate: 0.6714
(ratio Group1 vs Group2).
To visualise its effect, please use 'PlotOffset = TRUE'.
-------------------------------------------------------------

For Differential mean task:
the posterior probability threshold chosen via EFDR calibration is too low.
Probability threshold automatically set equal to 'ProbThresholdM'.
EFDR calibration failed for Differential dispersion task. 
Probability threshold automatically set equal to 'ProbThresholdD'.
-------------------------------------------------------------
Log-fold change thresholds are now set in a log2 scale. 
Original BASiCS release used a natural logarithm scale.
-------------------------------------------------------------
Offset estimate: 0.6787
(ratio Group1 vs Group2).
To visualise its effect, please use 'PlotOffset = TRUE'.
-------------------------------------------------------------

EFDR calibration failed for Differential mean task. 
Probability threshold automatically set equal to 'ProbThresholdM'.
EFDR calibration failed for Differential dispersion task. 
Probability threshold automatically set equal to 'ProbThresholdD'.
For Differential residual dispersion task:
the posterior probability threshold chosen via EFDR calibration is too low.
Probability threshold automatically set equal to 'ProbThresholdR'.
altExp 'spike-ins' is assumed to contain spike-in genes.
see help(altExp) for details. 

Running with spikes BASiCS sampler (regression case) ... 

-------------------------------------------------------------
MCMC running time 
-------------------------------------------------------------
user: 0.009
system: 0.001
elapsed: 0.009

-------------------------------------------------------------
Output 
-------------------------------------------------------------

-------------------------------------------------------------
BASiCS version 2.18.0 : 
vertical integration (spikes case) 
-------------------------------------------------------------

altExp 'spike-ins' is assumed to contain spike-in genes.
see help(altExp) for details. 

Running with spikes BASiCS sampler (regression case) ... 

-------------------------------------------------------------
MCMC running time 
-------------------------------------------------------------
user: 0.009
system: 0
elapsed: 0.008

-------------------------------------------------------------
Output 
-------------------------------------------------------------

-------------------------------------------------------------
BASiCS version 2.18.0 : 
vertical integration (spikes case) 
-------------------------------------------------------------

altExp 'spike-ins' is assumed to contain spike-in genes.
see help(altExp) for details. 

Running with spikes BASiCS sampler (regression case) ... 

-------------------------------------------------------------
MCMC running time 
-------------------------------------------------------------
user: 0.008
system: 0.001
elapsed: 0.009

-------------------------------------------------------------
Output 
-------------------------------------------------------------

-------------------------------------------------------------
BASiCS version 2.18.0 : 
vertical integration (spikes case) 
-------------------------------------------------------------

altExp 'spike-ins' is assumed to contain spike-in genes.
see help(altExp) for details. 

Running with spikes BASiCS sampler (regression case) ... 

-------------------------------------------------------------
MCMC running time 
-------------------------------------------------------------
user: 0.008
system: 0
elapsed: 0.008

-------------------------------------------------------------
Output 
-------------------------------------------------------------

-------------------------------------------------------------
BASiCS version 2.18.0 : 
vertical integration (spikes case) 
-------------------------------------------------------------

altExp 'spike-ins' is assumed to contain spike-in genes.
see help(altExp) for details. 

'BatchInfo' was treated as a factor with 2 levels: 
1  2  
'BatchInfo' was treated as a factor with 2 levels: 
1  2  
-------------------------------------------------------------
NOTE: default choice PriorDelta = 'log-normal'  (recommended value). 
Vallejos et al (2015) used a 'gamma' prior instead.
-------------------------------------------------------------

Running no spikes BASiCS sampler (no regression) ... 

-------------------------------------------------------------
MCMC running time 
-------------------------------------------------------------
user: 0.006
system: 0
elapsed: 0.006

-------------------------------------------------------------
Output 
-------------------------------------------------------------

'BatchInfo' was treated as a factor with 2 levels: 
1  2  
altExp 'spike-ins' is assumed to contain spike-in genes.
see help(altExp) for details. 

-------------------------------------------------------------
NOTE: default choice PriorDelta = 'log-normal'  (recommended value). 
Vallejos et al (2015) used a 'gamma' prior instead.
-------------------------------------------------------------

Running with spikes BASiCS sampler (no regression) ... 

-------------------------------------------------------------
MCMC running time 
-------------------------------------------------------------
user: 0.006
system: 0
elapsed: 0.007

-------------------------------------------------------------
Output 
-------------------------------------------------------------

-------------------------------------------------------------
BASiCS version 2.18.0 : 
vertical integration (spikes case) 
-------------------------------------------------------------

[ FAIL 0 | WARN 0 | SKIP 0 | PASS 459 ]
> 
> proc.time()
   user  system elapsed 
382.215   8.241 526.962 

Example timings

BASiCS.Rcheck/BASiCS-Ex.timings

nameusersystemelapsed
BASiCS_Chain-methods3.8890.1244.507
BASiCS_Chain5.2270.1636.081
BASiCS_CorrectOffset0.0220.0100.037
BASiCS_DenoisedCounts3.3070.0533.800
BASiCS_DenoisedRates3.2070.0473.668
BASiCS_DetectVG1.8790.1212.292
BASiCS_DiagHist2.4080.0652.800
BASiCS_DiagPlot5.0030.0455.762
BASiCS_DivideAndConquer 3.837 0.09661.269
BASiCS_Draw0.4710.0150.520
BASiCS_EffectiveSize0.4830.0180.577
BASiCS_Filter0.0030.0010.005
BASiCS_LoadChain2.6130.0403.031
BASiCS_MCMC11.811 0.19313.025
BASiCS_MockSCE0.4680.0060.496
BASiCS_PlotDE7.9110.0848.555
BASiCS_PlotOffset2.3550.0352.658
BASiCS_PlotVG0.7790.0250.838
BASiCS_PriorParam0.3950.0130.427
BASiCS_ShowFit0.5640.0110.605
BASiCS_Sim1.0270.0161.115
BASiCS_Summary-methods0.0070.0060.015
BASiCS_Summary2.9220.0593.132
BASiCS_TestDE15.401 0.14716.397
BASiCS_VarThresholdSearchHVG_LVG4.7100.1565.254
BASiCS_VarianceDecomp0.4400.0100.467
Summary-BASiCS_Chain-method0.4720.0070.503
dim-BASiCS_Chain-method0.0100.0160.026
dimnames-BASiCS_Chain-method0.0100.0140.025
displayChainBASiCS-BASiCS_Chain-method0.2650.0910.442
displaySummaryBASiCS-BASiCS_Summary-method0.2470.0600.325
makeExampleBASiCS_Data0.3920.0060.415
newBASiCS_Chain5.6570.0806.022
plot-BASiCS_Chain-method0.2540.0600.353
plot-BASiCS_Summary-method0.2480.0590.325
show-BASiCS_ResultDE-method0.2510.0590.333
show-BASiCS_ResultVG-method0.2480.0580.320
show-BASiCS_ResultsDE-method0.2470.0560.321
subset-BASiCS_Chain-method2.1680.0202.280