| Back to Multiple platform build/check report for BioC 3.20: simplified long |
|
This page was generated on 2025-04-02 19:33 -0400 (Wed, 02 Apr 2025).
| Hostname | OS | Arch (*) | R version | Installed pkgs |
|---|---|---|---|---|
| nebbiolo2 | Linux (Ubuntu 24.04.1 LTS) | x86_64 | 4.4.3 (2025-02-28) -- "Trophy Case" | 4764 |
| palomino8 | Windows Server 2022 Datacenter | x64 | 4.4.3 (2025-02-28 ucrt) -- "Trophy Case" | 4495 |
| merida1 | macOS 12.7.5 Monterey | x86_64 | 4.4.3 (2025-02-28) -- "Trophy Case" | 4522 |
| kjohnson1 | macOS 13.6.6 Ventura | arm64 | 4.4.3 (2025-02-28) -- "Trophy Case" | 4449 |
| taishan | Linux (openEuler 24.03 LTS) | aarch64 | 4.4.3 (2025-02-28) -- "Trophy Case" | 4426 |
| Click on any hostname to see more info about the system (e.g. compilers) (*) as reported by 'uname -p', except on Windows and Mac OS X | ||||
| Package 85/2289 | Hostname | OS / Arch | INSTALL | BUILD | CHECK | BUILD BIN | ||||||||
| AnVILGCP 1.0.0 (landing page) Marcel Ramos
| nebbiolo2 | Linux (Ubuntu 24.04.1 LTS) / x86_64 | OK | OK | OK | |||||||||
| palomino8 | Windows Server 2022 Datacenter / x64 | OK | OK | OK | OK | |||||||||
| merida1 | macOS 12.7.5 Monterey / x86_64 | OK | OK | OK | OK | |||||||||
| kjohnson1 | macOS 13.6.6 Ventura / arm64 | OK | OK | OK | OK | |||||||||
| taishan | Linux (openEuler 24.03 LTS) / aarch64 | OK | OK | OK | ||||||||||
|
To the developers/maintainers of the AnVILGCP package: - Allow up to 24 hours (and sometimes 48 hours) for your latest push to git@git.bioconductor.org:packages/AnVILGCP.git to reflect on this report. See Troubleshooting Build Report for more information. - Use the following Renviron settings to reproduce errors and warnings. - If 'R CMD check' started to fail recently on the Linux builder(s) over a missing dependency, add the missing dependency to 'Suggests:' in your DESCRIPTION file. See Renviron.bioc for more information. |
| Package: AnVILGCP |
| Version: 1.0.0 |
| Command: rm -rf AnVILGCP.buildbin-libdir && mkdir AnVILGCP.buildbin-libdir && /Users/biocbuild/BBS/utils/build-universal.sh AnVILGCP_1.0.0.tar.gz /Library/Frameworks/R.framework/Resources/bin/R AnVILGCP.buildbin-libdir |
| StartedAt: 2025-04-02 13:18:24 -0400 (Wed, 02 Apr 2025) |
| EndedAt: 2025-04-02 13:18:32 -0400 (Wed, 02 Apr 2025) |
| EllapsedTime: 7.9 seconds |
| RetCode: 0 |
| Status: OK |
| PackageFile: AnVILGCP_1.0.0.tgz |
| PackageFileSize: 479.3 KiB |
############################################################################## ############################################################################## ### ### Running command: ### ### rm -rf AnVILGCP.buildbin-libdir && mkdir AnVILGCP.buildbin-libdir && /Users/biocbuild/BBS/utils/build-universal.sh AnVILGCP_1.0.0.tar.gz /Library/Frameworks/R.framework/Resources/bin/R AnVILGCP.buildbin-libdir ### ############################################################################## ############################################################################## >>>>>>> >>>>>>> INSTALLATION WITH 'R CMD INSTALL --preclean --no-multiarch --library=AnVILGCP.buildbin-libdir AnVILGCP_1.0.0.tar.gz' >>>>>>> * installing *source* package ‘AnVILGCP’ ... ** using staged installation ** R ** inst ** byte-compile and prepare package for lazy loading ** help *** installing help indices ** building package indices ** installing vignettes ** testing if installed package can be loaded from temporary location ** testing if installed package can be loaded from final location ** testing if installed package keeps a record of temporary installation path * DONE (AnVILGCP)