Back to Multiple platform build/check report for BioC 3.20: simplified long |
|
This page was generated on 2025-02-06 12:07 -0500 (Thu, 06 Feb 2025).
Hostname | OS | Arch (*) | R version | Installed pkgs |
---|---|---|---|---|
nebbiolo2 | Linux (Ubuntu 24.04.1 LTS) | x86_64 | 4.4.2 (2024-10-31) -- "Pile of Leaves" | 4753 |
palomino8 | Windows Server 2022 Datacenter | x64 | 4.4.2 (2024-10-31 ucrt) -- "Pile of Leaves" | 4501 |
merida1 | macOS 12.7.5 Monterey | x86_64 | 4.4.2 (2024-10-31) -- "Pile of Leaves" | 4524 |
kjohnson1 | macOS 13.6.6 Ventura | arm64 | 4.4.2 (2024-10-31) -- "Pile of Leaves" | 4476 |
taishan | Linux (openEuler 24.03 LTS) | aarch64 | 4.4.2 (2024-10-31) -- "Pile of Leaves" | 4407 |
Click on any hostname to see more info about the system (e.g. compilers) (*) as reported by 'uname -p', except on Windows and Mac OS X |
Package 58/2289 | Hostname | OS / Arch | INSTALL | BUILD | CHECK | BUILD BIN | ||||||||
AlpsNMR 4.8.0 (landing page) Sergio Oller Moreno
| nebbiolo2 | Linux (Ubuntu 24.04.1 LTS) / x86_64 | OK | OK | OK | ![]() | ||||||||
palomino8 | Windows Server 2022 Datacenter / x64 | OK | OK | OK | OK | ![]() | ||||||||
merida1 | macOS 12.7.5 Monterey / x86_64 | OK | OK | OK | OK | ![]() | ||||||||
kjohnson1 | macOS 13.6.6 Ventura / arm64 | OK | OK | OK | OK | ![]() | ||||||||
taishan | Linux (openEuler 24.03 LTS) / aarch64 | OK | ERROR | skipped | ||||||||||
To the developers/maintainers of the AlpsNMR package: - Allow up to 24 hours (and sometimes 48 hours) for your latest push to git@git.bioconductor.org:packages/AlpsNMR.git to reflect on this report. See Troubleshooting Build Report for more information. - Use the following Renviron settings to reproduce errors and warnings. - If 'R CMD check' started to fail recently on the Linux builder(s) over a missing dependency, add the missing dependency to 'Suggests:' in your DESCRIPTION file. See Renviron.bioc for more information. |
Package: AlpsNMR |
Version: 4.8.0 |
Command: /Library/Frameworks/R.framework/Resources/bin/R CMD check --install=check:AlpsNMR.install-out.txt --library=/Library/Frameworks/R.framework/Resources/library --no-vignettes --timings AlpsNMR_4.8.0.tar.gz |
StartedAt: 2025-02-03 23:36:28 -0500 (Mon, 03 Feb 2025) |
EndedAt: 2025-02-03 23:43:25 -0500 (Mon, 03 Feb 2025) |
EllapsedTime: 417.1 seconds |
RetCode: 0 |
Status: OK |
CheckDir: AlpsNMR.Rcheck |
Warnings: 0 |
############################################################################## ############################################################################## ### ### Running command: ### ### /Library/Frameworks/R.framework/Resources/bin/R CMD check --install=check:AlpsNMR.install-out.txt --library=/Library/Frameworks/R.framework/Resources/library --no-vignettes --timings AlpsNMR_4.8.0.tar.gz ### ############################################################################## ############################################################################## * using log directory ‘/Users/biocbuild/bbs-3.20-bioc/meat/AlpsNMR.Rcheck’ * using R version 4.4.2 (2024-10-31) * using platform: x86_64-apple-darwin20 * R was compiled by Apple clang version 14.0.0 (clang-1400.0.29.202) GNU Fortran (GCC) 12.2.0 * running under: macOS Monterey 12.7.6 * using session charset: UTF-8 * using option ‘--no-vignettes’ * checking for file ‘AlpsNMR/DESCRIPTION’ ... OK * checking extension type ... Package * this is package ‘AlpsNMR’ version ‘4.8.0’ * package encoding: UTF-8 * checking package namespace information ... OK * checking package dependencies ... OK * checking if this is a source package ... OK * checking if there is a namespace ... OK * checking for hidden files and directories ... OK * checking for portable file names ... OK * checking for sufficient/correct file permissions ... OK * checking whether package ‘AlpsNMR’ can be installed ... OK * checking installed package size ... OK * checking package directory ... OK * checking ‘build’ directory ... OK * checking DESCRIPTION meta-information ... OK * checking top-level files ... OK * checking for left-over files ... OK * checking index information ... OK * checking package subdirectories ... OK * checking code files for non-ASCII characters ... OK * checking R files for syntax errors ... OK * checking whether the package can be loaded ... OK * checking whether the package can be loaded with stated dependencies ... OK * checking whether the package can be unloaded cleanly ... OK * checking whether the namespace can be loaded with stated dependencies ... OK * checking whether the namespace can be unloaded cleanly ... OK * checking dependencies in R code ... OK * checking S3 generic/method consistency ... OK * checking replacement functions ... OK * checking foreign function calls ... OK * checking R code for possible problems ... OK * checking Rd files ... OK * checking Rd metadata ... OK * checking Rd cross-references ... OK * checking for missing documentation entries ... OK * checking for code/documentation mismatches ... OK * checking Rd \usage sections ... OK * checking Rd contents ... OK * checking for unstated dependencies in examples ... OK * checking contents of ‘data’ directory ... OK * checking data for non-ASCII characters ... OK * checking data for ASCII and uncompressed saves ... OK * checking sizes of PDF files under ‘inst/doc’ ... OK * checking files in ‘vignettes’ ... OK * checking examples ... OK Examples with CPU (user + system) or elapsed time > 5s user system elapsed Peak_detection 22.905 5.621 22.843 nmr_pca_outliers_robust 16.834 1.596 20.401 SummarizedExperiment_to_nmr_data_1r 13.879 1.598 15.633 plot_interactive 9.355 4.307 2.946 format.nmr_dataset 5.084 5.119 5.769 permutation_test_plot 6.154 3.084 5.460 nmr_meta_add 4.503 2.444 4.413 validate_nmr_dataset 3.800 2.842 3.758 nmr_pca_build_model 3.986 2.348 3.834 nmr_read_samples 3.555 2.460 3.194 permutation_test_model 3.875 2.094 4.669 nmr_interpolate_1D 3.561 2.008 3.390 bp_VIP_analysis 3.617 1.690 2.294 * checking for unstated dependencies in ‘tests’ ... OK * checking tests ... Running ‘testthat.R’ OK * checking for unstated dependencies in vignettes ... OK * checking package vignettes ... OK * checking running R code from vignettes ... SKIPPED * checking re-building of vignette outputs ... SKIPPED * checking PDF version of manual ... OK * DONE Status: OK
AlpsNMR.Rcheck/00install.out
############################################################################## ############################################################################## ### ### Running command: ### ### /Library/Frameworks/R.framework/Resources/bin/R CMD INSTALL AlpsNMR ### ############################################################################## ############################################################################## * installing to library ‘/Library/Frameworks/R.framework/Versions/4.4-x86_64/Resources/library’ * installing *source* package ‘AlpsNMR’ ... ** using staged installation ** R ** data ** inst ** byte-compile and prepare package for lazy loading ** help *** installing help indices *** copying figures ** building package indices ** installing vignettes ** testing if installed package can be loaded from temporary location ** testing if installed package can be loaded from final location ** testing if installed package keeps a record of temporary installation path * DONE (AlpsNMR)
AlpsNMR.Rcheck/tests/testthat.Rout
R version 4.4.2 (2024-10-31) -- "Pile of Leaves" Copyright (C) 2024 The R Foundation for Statistical Computing Platform: x86_64-apple-darwin20 R is free software and comes with ABSOLUTELY NO WARRANTY. You are welcome to redistribute it under certain conditions. Type 'license()' or 'licence()' for distribution details. R is a collaborative project with many contributors. Type 'contributors()' for more information and 'citation()' on how to cite R or R packages in publications. Type 'demo()' for some demos, 'help()' for on-line help, or 'help.start()' for an HTML browser interface to help. Type 'q()' to quit R. > library(testthat) > library(AlpsNMR) Attaching package: 'AlpsNMR' The following object is masked from 'package:stats': filter > > test_check("AlpsNMR") [ FAIL 0 | WARN 0 | SKIP 1 | PASS 93 ] ══ Skipped tests (1) ═══════════════════════════════════════════════════════════ • On Bioconductor (1): 'test_rDolphin.R:2:5' [ FAIL 0 | WARN 0 | SKIP 1 | PASS 93 ] > > proc.time() user system elapsed 48.767 18.838 52.204
AlpsNMR.Rcheck/AlpsNMR-Ex.timings
name | user | system | elapsed | |
AlpsNMR-package | 3.255 | 1.032 | 3.267 | |
HMDB_blood | 0.012 | 0.004 | 0.017 | |
HMDB_cell | 0.006 | 0.002 | 0.009 | |
HMDB_urine | 0.009 | 0.005 | 0.016 | |
Parameters_blood | 0.003 | 0.003 | 0.007 | |
Parameters_cell | 0.004 | 0.003 | 0.007 | |
Parameters_urine | 0.004 | 0.004 | 0.008 | |
Peak_detection | 22.905 | 5.621 | 22.843 | |
Pipelines | 0.003 | 0.002 | 0.005 | |
ROI_blood | 0.007 | 0.003 | 0.012 | |
ROI_cell | 0.007 | 0.003 | 0.011 | |
ROI_urine | 0.007 | 0.003 | 0.010 | |
SummarizedExperiment_to_nmr_data_1r | 13.879 | 1.598 | 15.633 | |
SummarizedExperiment_to_nmr_dataset_peak_table | 2.283 | 1.023 | 2.183 | |
bp_VIP_analysis | 3.617 | 1.690 | 2.294 | |
bp_kfold_VIP_analysis | 2.075 | 0.923 | 1.407 | |
download_MTBLS242 | 0.000 | 0.000 | 0.001 | |
file_lister | 0.183 | 0.038 | 0.291 | |
files_to_rDolphin | 0.001 | 0.001 | 0.001 | |
filter.nmr_dataset_family | 1.978 | 1.255 | 1.817 | |
format.nmr_dataset | 5.084 | 5.119 | 5.769 | |
format.nmr_dataset_1D | 1.754 | 1.062 | 1.597 | |
format.nmr_dataset_peak_table | 1.928 | 1.066 | 1.767 | |
get_integration_with_metadata | 0.064 | 0.015 | 0.087 | |
hmdb | 0.106 | 0.019 | 0.134 | |
is.nmr_dataset | 1.743 | 1.152 | 1.570 | |
is.nmr_dataset_1D | 1.826 | 1.128 | 1.718 | |
is.nmr_dataset_peak_table | 1.831 | 0.926 | 1.681 | |
load_and_save_functions | 1.714 | 1.041 | 1.440 | |
models_stability_plot_bootstrap | 0.003 | 0.002 | 0.005 | |
models_stability_plot_plsda | 0.954 | 0.863 | 0.904 | |
new_nmr_dataset | 0.004 | 0.002 | 0.007 | |
new_nmr_dataset_1D | 0.002 | 0.003 | 0.006 | |
new_nmr_dataset_peak_table | 2.645 | 1.144 | 2.821 | |
nmr_autophase | 0.501 | 0.161 | 0.732 | |
nmr_baseline_estimation | 0.016 | 0.013 | 0.031 | |
nmr_baseline_removal | 0.010 | 0.003 | 0.013 | |
nmr_baseline_threshold | 0.002 | 0.000 | 0.003 | |
nmr_baseline_threshold_plot | 0.533 | 0.084 | 0.736 | |
nmr_batman | 0.005 | 0.002 | 0.008 | |
nmr_batman_options | 0.001 | 0.000 | 0.000 | |
nmr_build_peak_table | 0.078 | 0.015 | 0.110 | |
nmr_data | 0.118 | 0.021 | 0.160 | |
nmr_data_1r_to_SummarizedExperiment | 2.058 | 0.786 | 2.064 | |
nmr_data_analysis | 0.962 | 0.772 | 0.914 | |
nmr_dataset | 0.002 | 0.000 | 0.002 | |
nmr_dataset_1D | 0.002 | 0.002 | 0.004 | |
nmr_dataset_peak_table_to_SummarizedExperiment | 2.200 | 0.997 | 2.131 | |
nmr_exclude_region | 0.011 | 0.002 | 0.014 | |
nmr_export_data_1r | 1.902 | 1.170 | 1.793 | |
nmr_get_peak_distances | 0.015 | 0.002 | 0.027 | |
nmr_identify_regions_blood | 0.031 | 0.004 | 0.046 | |
nmr_identify_regions_cell | 0.024 | 0.002 | 0.038 | |
nmr_identify_regions_urine | 0.033 | 0.004 | 0.050 | |
nmr_integrate_regions | 0.019 | 0.003 | 0.031 | |
nmr_interpolate_1D | 3.561 | 2.008 | 3.390 | |
nmr_meta_add | 4.503 | 2.444 | 4.413 | |
nmr_meta_export | 1.626 | 0.907 | 1.465 | |
nmr_meta_get | 2.749 | 1.549 | 3.112 | |
nmr_meta_get_column | 1.675 | 0.952 | 1.459 | |
nmr_meta_groups | 1.660 | 0.901 | 1.419 | |
nmr_normalize | 0.614 | 0.101 | 0.853 | |
nmr_pca_build_model | 3.986 | 2.348 | 3.834 | |
nmr_pca_outliers | 1.965 | 1.050 | 1.908 | |
nmr_pca_outliers_filter | 2.055 | 1.053 | 2.002 | |
nmr_pca_outliers_plot | 0.000 | 0.000 | 0.002 | |
nmr_pca_outliers_robust | 16.834 | 1.596 | 20.401 | |
nmr_pca_plots | 0.817 | 0.023 | 1.011 | |
nmr_peak_clustering | 0.139 | 0.003 | 0.160 | |
nmr_ppm_resolution | 0.014 | 0.004 | 0.023 | |
nmr_read_bruker_fid | 0.000 | 0.000 | 0.001 | |
nmr_read_samples | 3.555 | 2.460 | 3.194 | |
nmr_zip_bruker_samples | 0.321 | 0.073 | 0.434 | |
peaklist_accept_peaks | 0.009 | 0.003 | 0.011 | |
permutation_test_model | 3.875 | 2.094 | 4.669 | |
permutation_test_plot | 6.154 | 3.084 | 5.460 | |
plot.nmr_dataset_1D | 0.003 | 0.003 | 0.006 | |
plot_bootstrap_multimodel | 0.004 | 0.009 | 0.015 | |
plot_interactive | 9.355 | 4.307 | 2.946 | |
plot_plsda_multimodel | 0.537 | 0.612 | 0.635 | |
plot_plsda_samples | 0.277 | 0.317 | 0.597 | |
plot_vip_scores | 0.003 | 0.003 | 0.007 | |
plot_webgl | 0.003 | 0.006 | 0.008 | |
plsda_auroc_vip_compare | 1.083 | 0.702 | 1.982 | |
plsda_auroc_vip_method | 0.000 | 0.000 | 0.001 | |
ppm_resolution | 0.005 | 0.002 | 0.007 | |
print.nmr_dataset | 1.597 | 0.910 | 1.361 | |
print.nmr_dataset_1D | 1.765 | 1.040 | 1.572 | |
print.nmr_dataset_peak_table | 2.796 | 1.524 | 3.192 | |
random_subsampling | 0.004 | 0.011 | 0.039 | |
save_files_to_rDolphin | 0.000 | 0.001 | 0.001 | |
save_profiling_output | 0.001 | 0.000 | 0.000 | |
sub-.nmr_dataset | 1.602 | 0.914 | 1.348 | |
sub-.nmr_dataset_1D | 1.739 | 0.988 | 1.555 | |
sub-.nmr_dataset_peak_table | 1.867 | 1.016 | 1.734 | |
tidy.nmr_dataset_1D | 2.053 | 1.212 | 1.933 | |
to_ASICS | 2.208 | 0.352 | 2.918 | |
to_ChemoSpec | 2.021 | 1.062 | 1.944 | |
validate_nmr_dataset | 3.800 | 2.842 | 3.758 | |
validate_nmr_dataset_family | 1.764 | 1.068 | 1.567 | |
validate_nmr_dataset_peak_table | 0.003 | 0.001 | 0.003 | |
zzz | 0.000 | 0.001 | 2.002 | |