| Back to Multiple platform build/check report for BioC 3.20: simplified long |
|
This page was generated on 2024-11-09 21:30 -0500 (Sat, 09 Nov 2024).
| Hostname | OS | Arch (*) | R version | Installed pkgs |
|---|---|---|---|---|
| teran2 | Linux (Ubuntu 24.04.1 LTS) | x86_64 | 4.4.1 (2024-06-14) -- "Race for Your Life" | 4505 |
| palomino8 | Windows Server 2022 Datacenter | x64 | 4.4.1 (2024-06-14 ucrt) -- "Race for Your Life" | 4506 |
| lconway | macOS 12.7.1 Monterey | x86_64 | 4.4.1 (2024-06-14) -- "Race for Your Life" | 4538 |
| kjohnson3 | macOS 13.6.5 Ventura | arm64 | 4.4.1 (2024-06-14) -- "Race for Your Life" | 4486 |
| kunpeng2 | Linux (openEuler 22.03 LTS-SP1) | aarch64 | 4.4.1 (2024-06-14) -- "Race for Your Life" | 4493 |
| Click on any hostname to see more info about the system (e.g. compilers) (*) as reported by 'uname -p', except on Windows and Mac OS X | ||||
| Package 56/2289 | Hostname | OS / Arch | INSTALL | BUILD | CHECK | BUILD BIN | ||||||||
| AlphaBeta 1.20.0 (landing page) Yadollah Shahryary Dizaji
| teran2 | Linux (Ubuntu 24.04.1 LTS) / x86_64 | OK | OK | OK | |||||||||
| palomino8 | Windows Server 2022 Datacenter / x64 | OK | OK | OK | OK | |||||||||
| lconway | macOS 12.7.1 Monterey / x86_64 | OK | OK | OK | OK | |||||||||
| kjohnson3 | macOS 13.6.5 Ventura / arm64 | OK | OK | OK | OK | |||||||||
| kunpeng2 | Linux (openEuler 22.03 LTS-SP1) / aarch64 | OK | OK | OK | ||||||||||
|
To the developers/maintainers of the AlphaBeta package: - Allow up to 24 hours (and sometimes 48 hours) for your latest push to git@git.bioconductor.org:packages/AlphaBeta.git to reflect on this report. See Troubleshooting Build Report for more information. - Use the following Renviron settings to reproduce errors and warnings. - If 'R CMD check' started to fail recently on the Linux builder(s) over a missing dependency, add the missing dependency to 'Suggests:' in your DESCRIPTION file. See Renviron.bioc for more information. |
| Package: AlphaBeta |
| Version: 1.20.0 |
| Command: /Library/Frameworks/R.framework/Resources/bin/R CMD check --install=check:AlphaBeta.install-out.txt --library=/Library/Frameworks/R.framework/Resources/library --no-vignettes --timings AlphaBeta_1.20.0.tar.gz |
| StartedAt: 2024-11-08 20:04:18 -0500 (Fri, 08 Nov 2024) |
| EndedAt: 2024-11-08 20:10:14 -0500 (Fri, 08 Nov 2024) |
| EllapsedTime: 355.6 seconds |
| RetCode: 0 |
| Status: OK |
| CheckDir: AlphaBeta.Rcheck |
| Warnings: 0 |
##############################################################################
##############################################################################
###
### Running command:
###
### /Library/Frameworks/R.framework/Resources/bin/R CMD check --install=check:AlphaBeta.install-out.txt --library=/Library/Frameworks/R.framework/Resources/library --no-vignettes --timings AlphaBeta_1.20.0.tar.gz
###
##############################################################################
##############################################################################
* using log directory ‘/Users/biocbuild/bbs-3.20-bioc/meat/AlphaBeta.Rcheck’
* using R version 4.4.1 (2024-06-14)
* using platform: aarch64-apple-darwin20
* R was compiled by
Apple clang version 14.0.0 (clang-1400.0.29.202)
GNU Fortran (GCC) 12.2.0
* running under: macOS Ventura 13.6.7
* using session charset: UTF-8
* using option ‘--no-vignettes’
* checking for file ‘AlphaBeta/DESCRIPTION’ ... OK
* checking extension type ... Package
* this is package ‘AlphaBeta’ version ‘1.20.0’
* package encoding: UTF-8
* checking package namespace information ... OK
* checking package dependencies ...Warning: unable to access index for repository https://CRAN.R-project.org/src/contrib:
cannot open URL 'https://CRAN.R-project.org/src/contrib/PACKAGES'
OK
* checking if this is a source package ... OK
* checking if there is a namespace ... OK
* checking for hidden files and directories ... OK
* checking for portable file names ... OK
* checking for sufficient/correct file permissions ... OK
* checking whether package ‘AlphaBeta’ can be installed ... OK
* checking installed package size ... OK
* checking package directory ... OK
* checking ‘build’ directory ... OK
* checking DESCRIPTION meta-information ... OK
* checking top-level files ... NOTE
File
LICENSE
is not mentioned in the DESCRIPTION file.
* checking for left-over files ... OK
* checking index information ... OK
* checking package subdirectories ... OK
* checking code files for non-ASCII characters ... OK
* checking R files for syntax errors ... OK
* checking whether the package can be loaded ... OK
* checking whether the package can be loaded with stated dependencies ... OK
* checking whether the package can be unloaded cleanly ... OK
* checking whether the namespace can be loaded with stated dependencies ... OK
* checking whether the namespace can be unloaded cleanly ... OK
* checking dependencies in R code ... OK
* checking S3 generic/method consistency ... OK
* checking replacement functions ... OK
* checking foreign function calls ... OK
* checking R code for possible problems ... NOTE
ABplot: no visible binding for global variable ‘delta.t’
ABplot: no visible binding for global variable ‘div.obs’
BOOTmodel : LSE_intercept: no visible binding for global variable ‘sel’
BOOTmodel: no visible binding for global variable ‘sel’
BOOTmodel: multiple local function definitions for ‘divergence’ with
different formal arguments
plotPedigree: no visible binding for global variable ‘meth’
plotPedigree: no visible binding for global variable ‘V1’
plotPedigree: no visible binding for global variable ‘V2’
Undefined global functions or variables:
V1 V2 delta.t div.obs meth sel
* checking Rd files ... OK
* checking Rd metadata ... OK
* checking Rd cross-references ... OK
* checking for missing documentation entries ... OK
* checking for code/documentation mismatches ... OK
* checking Rd \usage sections ... OK
* checking Rd contents ... OK
* checking for unstated dependencies in examples ... OK
* checking sizes of PDF files under ‘inst/doc’ ... OK
* checking files in ‘vignettes’ ... OK
* checking examples ... OK
Examples with CPU (user + system) or elapsed time > 5s
user system elapsed
BOOTmodel 29.512 0.122 29.638
ABselectUU 28.677 0.035 28.715
ABselectMM 22.483 0.030 22.516
ABneutral 18.303 0.041 18.350
* checking for unstated dependencies in vignettes ... OK
* checking package vignettes ... OK
* checking running R code from vignettes ... SKIPPED
* checking re-building of vignette outputs ... SKIPPED
* checking PDF version of manual ... OK
* DONE
Status: 2 NOTEs
See
‘/Users/biocbuild/bbs-3.20-bioc/meat/AlphaBeta.Rcheck/00check.log’
for details.
AlphaBeta.Rcheck/00install.out
############################################################################## ############################################################################## ### ### Running command: ### ### /Library/Frameworks/R.framework/Resources/bin/R CMD INSTALL AlphaBeta ### ############################################################################## ############################################################################## * installing to library ‘/Library/Frameworks/R.framework/Versions/4.4-arm64/Resources/library’ * installing *source* package ‘AlphaBeta’ ... ** using staged installation ** R ** inst ** byte-compile and prepare package for lazy loading ** help *** installing help indices ** building package indices ** installing vignettes ** testing if installed package can be loaded from temporary location ** testing if installed package can be loaded from final location ** testing if installed package keeps a record of temporary installation path * DONE (AlphaBeta)
AlphaBeta.Rcheck/AlphaBeta-Ex.timings
| name | user | system | elapsed | |
| ABneutral | 18.303 | 0.041 | 18.350 | |
| ABneutralSOMA | 1.710 | 0.009 | 1.719 | |
| ABnull | 0.003 | 0.001 | 0.004 | |
| ABplot | 0.083 | 0.004 | 0.087 | |
| ABselectMM | 22.483 | 0.030 | 22.516 | |
| ABselectMMSOMA | 1.361 | 0.003 | 1.364 | |
| ABselectUU | 28.677 | 0.035 | 28.715 | |
| ABselectUUSOMA | 2.023 | 0.009 | 2.032 | |
| BOOTmodel | 29.512 | 0.122 | 29.638 | |
| FtestRSS | 0.004 | 0.001 | 0.005 | |
| buildPedigree | 0.389 | 0.049 | 1.746 | |
| dMatrix | 0.050 | 0.038 | 0.097 | |
| plotPedigree | 0.023 | 0.002 | 0.024 | |
| rc.meth.lvl | 0.290 | 0.011 | 1.585 | |