| Back to Multiple platform build/check report for BioC 3.20: simplified long |
|
This page was generated on 2024-11-09 21:30 -0500 (Sat, 09 Nov 2024).
| Hostname | OS | Arch (*) | R version | Installed pkgs |
|---|---|---|---|---|
| teran2 | Linux (Ubuntu 24.04.1 LTS) | x86_64 | 4.4.1 (2024-06-14) -- "Race for Your Life" | 4505 |
| palomino8 | Windows Server 2022 Datacenter | x64 | 4.4.1 (2024-06-14 ucrt) -- "Race for Your Life" | 4506 |
| lconway | macOS 12.7.1 Monterey | x86_64 | 4.4.1 (2024-06-14) -- "Race for Your Life" | 4538 |
| kjohnson3 | macOS 13.6.5 Ventura | arm64 | 4.4.1 (2024-06-14) -- "Race for Your Life" | 4486 |
| kunpeng2 | Linux (openEuler 22.03 LTS-SP1) | aarch64 | 4.4.1 (2024-06-14) -- "Race for Your Life" | 4493 |
| Click on any hostname to see more info about the system (e.g. compilers) (*) as reported by 'uname -p', except on Windows and Mac OS X | ||||
| Package 91/2289 | Hostname | OS / Arch | INSTALL | BUILD | CHECK | BUILD BIN | ||||||||
| APL 1.10.2 (landing page) Clemens Kohl
| teran2 | Linux (Ubuntu 24.04.1 LTS) / x86_64 | OK | OK | OK | |||||||||
| palomino8 | Windows Server 2022 Datacenter / x64 | OK | OK | OK | OK | |||||||||
| lconway | macOS 12.7.1 Monterey / x86_64 | OK | OK | OK | OK | |||||||||
| kjohnson3 | macOS 13.6.5 Ventura / arm64 | OK | OK | OK | OK | |||||||||
| kunpeng2 | Linux (openEuler 22.03 LTS-SP1) / aarch64 | OK | OK | OK | ||||||||||
|
To the developers/maintainers of the APL package: - Allow up to 24 hours (and sometimes 48 hours) for your latest push to git@git.bioconductor.org:packages/APL.git to reflect on this report. See Troubleshooting Build Report for more information. - Use the following Renviron settings to reproduce errors and warnings. - If 'R CMD check' started to fail recently on the Linux builder(s) over a missing dependency, add the missing dependency to 'Suggests:' in your DESCRIPTION file. See Renviron.bioc for more information. |
| Package: APL |
| Version: 1.10.2 |
| Command: /Library/Frameworks/R.framework/Resources/bin/R CMD check --install=check:APL.install-out.txt --library=/Library/Frameworks/R.framework/Resources/library --no-vignettes --timings APL_1.10.2.tar.gz |
| StartedAt: 2024-11-08 20:22:16 -0500 (Fri, 08 Nov 2024) |
| EndedAt: 2024-11-08 20:27:27 -0500 (Fri, 08 Nov 2024) |
| EllapsedTime: 311.0 seconds |
| RetCode: 0 |
| Status: OK |
| CheckDir: APL.Rcheck |
| Warnings: 0 |
##############################################################################
##############################################################################
###
### Running command:
###
### /Library/Frameworks/R.framework/Resources/bin/R CMD check --install=check:APL.install-out.txt --library=/Library/Frameworks/R.framework/Resources/library --no-vignettes --timings APL_1.10.2.tar.gz
###
##############################################################################
##############################################################################
* using log directory ‘/Users/biocbuild/bbs-3.20-bioc/meat/APL.Rcheck’
* using R version 4.4.1 (2024-06-14)
* using platform: aarch64-apple-darwin20
* R was compiled by
Apple clang version 14.0.0 (clang-1400.0.29.202)
GNU Fortran (GCC) 12.2.0
* running under: macOS Ventura 13.6.7
* using session charset: UTF-8
* using option ‘--no-vignettes’
* checking for file ‘APL/DESCRIPTION’ ... OK
* checking extension type ... Package
* this is package ‘APL’ version ‘1.10.2’
* package encoding: UTF-8
* checking package namespace information ... OK
* checking package dependencies ...Warning: unable to access index for repository https://CRAN.R-project.org/src/contrib:
cannot open URL 'https://CRAN.R-project.org/src/contrib/PACKAGES'
OK
* checking if this is a source package ... OK
* checking if there is a namespace ... OK
* checking for hidden files and directories ... OK
* checking for portable file names ... OK
* checking for sufficient/correct file permissions ... OK
* checking whether package ‘APL’ can be installed ... OK
* checking installed package size ... OK
* checking package directory ... OK
* checking ‘build’ directory ... OK
* checking DESCRIPTION meta-information ... OK
* checking top-level files ... OK
* checking for left-over files ... OK
* checking index information ... OK
* checking package subdirectories ... OK
* checking code files for non-ASCII characters ... OK
* checking R files for syntax errors ... OK
* checking whether the package can be loaded ... OK
* checking whether the package can be loaded with stated dependencies ... OK
* checking whether the package can be unloaded cleanly ... OK
* checking whether the namespace can be loaded with stated dependencies ... OK
* checking whether the namespace can be unloaded cleanly ... OK
* checking dependencies in R code ... OK
* checking S3 generic/method consistency ... OK
* checking replacement functions ... OK
* checking foreign function calls ... OK
* checking R code for possible problems ... OK
* checking Rd files ... OK
* checking Rd metadata ... OK
* checking Rd cross-references ... OK
* checking for missing documentation entries ... OK
* checking for code/documentation mismatches ... OK
* checking Rd \usage sections ... OK
* checking Rd contents ... OK
* checking for unstated dependencies in examples ... OK
* checking files in ‘vignettes’ ... OK
* checking examples ... OK
* checking for unstated dependencies in ‘tests’ ... OK
* checking tests ...
Running ‘testthat.R’
OK
* checking for unstated dependencies in vignettes ... OK
* checking package vignettes ... OK
* checking running R code from vignettes ... SKIPPED
* checking re-building of vignette outputs ... SKIPPED
* checking PDF version of manual ... OK
* DONE
Status: OK
APL.Rcheck/00install.out
############################################################################## ############################################################################## ### ### Running command: ### ### /Library/Frameworks/R.framework/Resources/bin/R CMD INSTALL APL ### ############################################################################## ############################################################################## * installing to library ‘/Library/Frameworks/R.framework/Versions/4.4-arm64/Resources/library’ * installing *source* package ‘APL’ ... ** using staged installation ** R ** byte-compile and prepare package for lazy loading ** help *** installing help indices *** copying figures ** building package indices ** installing vignettes ** testing if installed package can be loaded from temporary location ** testing if installed package can be loaded from final location ** testing if installed package keeps a record of temporary installation path * DONE (APL)
APL.Rcheck/tests/testthat.Rout
R version 4.4.1 (2024-06-14) -- "Race for Your Life"
Copyright (C) 2024 The R Foundation for Statistical Computing
Platform: aarch64-apple-darwin20
R is free software and comes with ABSOLUTELY NO WARRANTY.
You are welcome to redistribute it under certain conditions.
Type 'license()' or 'licence()' for distribution details.
R is a collaborative project with many contributors.
Type 'contributors()' for more information and
'citation()' on how to cite R or R packages in publications.
Type 'demo()' for some demos, 'help()' for on-line help, or
'help.start()' for an HTML browser interface to help.
Type 'q()' to quit R.
> library(testthat)
> library(APL)
> test_check("APL")
Please consider setting the dimensions to a lower value to speed up the calculation.
Recommended dimensionality: << min(nrows, ncols) * 0.2
Please consider setting the dimensions to a lower value to speed up the calculation.
Recommended dimensionality: << min(nrows, ncols) * 0.2
Please consider setting the dimensions to a lower value to speed up the calculation.
Recommended dimensionality: << min(nrows, ncols) * 0.2
Please consider setting the dimensions to a lower value to speed up the calculation.
Recommended dimensionality: << min(nrows, ncols) * 0.2
Calling cacomp to recompute from matrix.
Please consider setting the dimensions to a lower value to speed up the calculation.
Recommended dimensionality: << min(nrows, ncols) * 0.2
[ FAIL 0 | WARN 0 | SKIP 0 | PASS 28 ]
>
> proc.time()
user system elapsed
4.184 0.144 4.325
APL.Rcheck/APL-Ex.timings
| name | user | system | elapsed | |
| apl | 0.058 | 0.003 | 0.060 | |
| apl_coords | 0.002 | 0.000 | 0.002 | |
| apl_score | 0.120 | 0.002 | 0.122 | |
| apl_topGO | 1.921 | 0.033 | 1.954 | |
| as.cacomp | 0.296 | 0.005 | 0.301 | |
| as.list-cacomp-method | 0.005 | 0.000 | 0.005 | |
| ca_3Dplot | 0.101 | 0.008 | 0.109 | |
| ca_biplot | 0.103 | 0.001 | 0.104 | |
| ca_coords | 0.002 | 0.000 | 0.001 | |
| cacomp-class | 0.004 | 0.001 | 0.004 | |
| cacomp | 0.215 | 0.004 | 0.220 | |
| cacomp_names | 0.002 | 0.000 | 0.002 | |
| cacomp_slot | 0.001 | 0.000 | 0.001 | |
| check_cacomp | 0.002 | 0.000 | 0.001 | |
| elbow_method | 0.150 | 0.002 | 0.152 | |
| pick_dims | 0.641 | 0.006 | 0.648 | |
| pipe | 0 | 0 | 0 | |
| plot_enrichment | 1.633 | 0.080 | 1.714 | |
| runAPL | 0.674 | 0.028 | 0.703 | |
| show.cacomp | 0.002 | 0.000 | 0.002 | |
| subset_dims | 0.001 | 0.000 | 0.002 | |
| var_rows | 0.004 | 0.000 | 0.003 | |