| Back to Multiple platform build/check report for BioC 3.20: simplified long | 
 | 
This page was generated on 2025-04-02 19:33 -0400 (Wed, 02 Apr 2025).
| Hostname | OS | Arch (*) | R version | Installed pkgs | 
|---|---|---|---|---|
| nebbiolo2 | Linux (Ubuntu 24.04.1 LTS) | x86_64 | 4.4.3 (2025-02-28) -- "Trophy Case" | 4764 | 
| palomino8 | Windows Server 2022 Datacenter | x64 | 4.4.3 (2025-02-28 ucrt) -- "Trophy Case" | 4495 | 
| merida1 | macOS 12.7.5 Monterey | x86_64 | 4.4.3 (2025-02-28) -- "Trophy Case" | 4522 | 
| kjohnson1 | macOS 13.6.6 Ventura | arm64 | 4.4.3 (2025-02-28) -- "Trophy Case" | 4449 | 
| taishan | Linux (openEuler 24.03 LTS) | aarch64 | 4.4.3 (2025-02-28) -- "Trophy Case" | 4426 | 
| Click on any hostname to see more info about the system (e.g. compilers) (*) as reported by 'uname -p', except on Windows and Mac OS X | ||||
| Package 91/2289 | Hostname | OS / Arch | INSTALL | BUILD | CHECK | BUILD BIN | ||||||||
| APL 1.10.2  (landing page) Clemens Kohl 
 | nebbiolo2 | Linux (Ubuntu 24.04.1 LTS) / x86_64 | OK | OK | OK |  | ||||||||
| palomino8 | Windows Server 2022 Datacenter / x64 | OK | OK | OK | OK |  | ||||||||
| merida1 | macOS 12.7.5 Monterey / x86_64 | OK | OK | OK | OK |  | ||||||||
| kjohnson1 | macOS 13.6.6 Ventura / arm64 | OK | OK | OK | OK |  | ||||||||
| taishan | Linux (openEuler 24.03 LTS) / aarch64 | OK | OK | OK | ||||||||||
| To the developers/maintainers of the APL package: - Allow up to 24 hours (and sometimes 48 hours) for your latest push to git@git.bioconductor.org:packages/APL.git to reflect on this report. See Troubleshooting Build Report for more information. - Use the following Renviron settings to reproduce errors and warnings. - If 'R CMD check' started to fail recently on the Linux builder(s) over a missing dependency, add the missing dependency to 'Suggests:' in your DESCRIPTION file. See Renviron.bioc for more information. | 
| Package: APL | 
| Version: 1.10.2 | 
| Command: /Library/Frameworks/R.framework/Resources/bin/R CMD check --install=check:APL.install-out.txt --library=/Library/Frameworks/R.framework/Resources/library --no-vignettes --timings APL_1.10.2.tar.gz | 
| StartedAt: 2025-04-01 10:53:17 -0400 (Tue, 01 Apr 2025) | 
| EndedAt: 2025-04-01 10:58:12 -0400 (Tue, 01 Apr 2025) | 
| EllapsedTime: 295.1 seconds | 
| RetCode: 0 | 
| Status: OK | 
| CheckDir: APL.Rcheck | 
| Warnings: 0 | 
##############################################################################
##############################################################################
###
### Running command:
###
###   /Library/Frameworks/R.framework/Resources/bin/R CMD check --install=check:APL.install-out.txt --library=/Library/Frameworks/R.framework/Resources/library --no-vignettes --timings APL_1.10.2.tar.gz
###
##############################################################################
##############################################################################
* using log directory ‘/Users/biocbuild/bbs-3.20-bioc/meat/APL.Rcheck’
* using R version 4.4.3 (2025-02-28)
* using platform: aarch64-apple-darwin20
* R was compiled by
    Apple clang version 14.0.0 (clang-1400.0.29.202)
    GNU Fortran (GCC) 12.2.0
* running under: macOS Ventura 13.7.1
* using session charset: UTF-8
* using option ‘--no-vignettes’
* checking for file ‘APL/DESCRIPTION’ ... OK
* checking extension type ... Package
* this is package ‘APL’ version ‘1.10.2’
* package encoding: UTF-8
* checking package namespace information ... OK
* checking package dependencies ... OK
* checking if this is a source package ... OK
* checking if there is a namespace ... OK
* checking for hidden files and directories ... OK
* checking for portable file names ... OK
* checking for sufficient/correct file permissions ... OK
* checking whether package ‘APL’ can be installed ... OK
* checking installed package size ... OK
* checking package directory ... OK
* checking ‘build’ directory ... OK
* checking DESCRIPTION meta-information ... OK
* checking top-level files ... OK
* checking for left-over files ... OK
* checking index information ... OK
* checking package subdirectories ... OK
* checking code files for non-ASCII characters ... OK
* checking R files for syntax errors ... OK
* checking whether the package can be loaded ... OK
* checking whether the package can be loaded with stated dependencies ... OK
* checking whether the package can be unloaded cleanly ... OK
* checking whether the namespace can be loaded with stated dependencies ... OK
* checking whether the namespace can be unloaded cleanly ... OK
* checking dependencies in R code ... OK
* checking S3 generic/method consistency ... OK
* checking replacement functions ... OK
* checking foreign function calls ... OK
* checking R code for possible problems ... OK
* checking Rd files ... OK
* checking Rd metadata ... OK
* checking Rd cross-references ... OK
* checking for missing documentation entries ... OK
* checking for code/documentation mismatches ... OK
* checking Rd \usage sections ... OK
* checking Rd contents ... OK
* checking for unstated dependencies in examples ... OK
* checking files in ‘vignettes’ ... OK
* checking examples ... OK
Examples with CPU (user + system) or elapsed time > 5s
                 user system elapsed
apl_topGO       7.226  0.272   7.560
plot_enrichment 7.085  0.212   7.312
* checking for unstated dependencies in ‘tests’ ... OK
* checking tests ...
  Running ‘testthat.R’
 OK
* checking for unstated dependencies in vignettes ... OK
* checking package vignettes ... OK
* checking running R code from vignettes ... SKIPPED
* checking re-building of vignette outputs ... SKIPPED
* checking PDF version of manual ... OK
* DONE
Status: OK
APL.Rcheck/00install.out
############################################################################## ############################################################################## ### ### Running command: ### ### /Library/Frameworks/R.framework/Resources/bin/R CMD INSTALL APL ### ############################################################################## ############################################################################## * installing to library ‘/Library/Frameworks/R.framework/Versions/4.4-arm64/Resources/library’ * installing *source* package ‘APL’ ... ** using staged installation ** R ** byte-compile and prepare package for lazy loading ** help *** installing help indices *** copying figures ** building package indices ** installing vignettes ** testing if installed package can be loaded from temporary location ** testing if installed package can be loaded from final location ** testing if installed package keeps a record of temporary installation path * DONE (APL)
APL.Rcheck/tests/testthat.Rout
R version 4.4.3 (2025-02-28) -- "Trophy Case"
Copyright (C) 2025 The R Foundation for Statistical Computing
Platform: aarch64-apple-darwin20
R is free software and comes with ABSOLUTELY NO WARRANTY.
You are welcome to redistribute it under certain conditions.
Type 'license()' or 'licence()' for distribution details.
R is a collaborative project with many contributors.
Type 'contributors()' for more information and
'citation()' on how to cite R or R packages in publications.
Type 'demo()' for some demos, 'help()' for on-line help, or
'help.start()' for an HTML browser interface to help.
Type 'q()' to quit R.
> library(testthat)
> library(APL)
> test_check("APL")
Please consider setting the dimensions to a lower value to speed up the calculation.
Recommended dimensionality: << min(nrows, ncols) * 0.2
Please consider setting the dimensions to a lower value to speed up the calculation.
Recommended dimensionality: << min(nrows, ncols) * 0.2
Please consider setting the dimensions to a lower value to speed up the calculation.
Recommended dimensionality: << min(nrows, ncols) * 0.2
Please consider setting the dimensions to a lower value to speed up the calculation.
Recommended dimensionality: << min(nrows, ncols) * 0.2
Calling cacomp to recompute from matrix.
Please consider setting the dimensions to a lower value to speed up the calculation.
Recommended dimensionality: << min(nrows, ncols) * 0.2
[ FAIL 0 | WARN 0 | SKIP 0 | PASS 28 ]
> 
> proc.time()
   user  system elapsed 
 13.613   0.624  14.283 
APL.Rcheck/APL-Ex.timings
| name | user | system | elapsed | |
| apl | 0.216 | 0.009 | 0.231 | |
| apl_coords | 0.007 | 0.000 | 0.008 | |
| apl_score | 0.439 | 0.010 | 0.449 | |
| apl_topGO | 7.226 | 0.272 | 7.560 | |
| as.cacomp | 1.109 | 0.030 | 1.140 | |
| as.list-cacomp-method | 0.020 | 0.001 | 0.022 | |
| ca_3Dplot | 0.384 | 0.035 | 0.420 | |
| ca_biplot | 0.387 | 0.006 | 0.394 | |
| ca_coords | 0.006 | 0.000 | 0.006 | |
| cacomp-class | 0.015 | 0.000 | 0.017 | |
| cacomp | 0.628 | 0.022 | 0.651 | |
| cacomp_names | 0.006 | 0.001 | 0.007 | |
| cacomp_slot | 0.006 | 0.001 | 0.006 | |
| check_cacomp | 0.006 | 0.001 | 0.007 | |
| elbow_method | 0.676 | 0.012 | 0.689 | |
| pick_dims | 1.217 | 0.037 | 1.255 | |
| pipe | 0.000 | 0.000 | 0.001 | |
| plot_enrichment | 7.085 | 0.212 | 7.312 | |
| runAPL | 2.423 | 0.083 | 2.525 | |
| show.cacomp | 0.006 | 0.001 | 0.006 | |
| subset_dims | 0.004 | 0.001 | 0.005 | |
| var_rows | 0.011 | 0.001 | 0.012 | |