| Back to Multiple platform build/check report for BioC 3.20: simplified long | 
  | 
This page was generated on 2025-04-02 19:33 -0400 (Wed, 02 Apr 2025).
| Hostname | OS | Arch (*) | R version | Installed pkgs | 
|---|---|---|---|---|
| nebbiolo2 | Linux (Ubuntu 24.04.1 LTS) | x86_64 | 4.4.3 (2025-02-28) -- "Trophy Case" | 4764 | 
| palomino8 | Windows Server 2022 Datacenter | x64 | 4.4.3 (2025-02-28 ucrt) -- "Trophy Case" | 4495 | 
| merida1 | macOS 12.7.5 Monterey | x86_64 | 4.4.3 (2025-02-28) -- "Trophy Case" | 4522 | 
| kjohnson1 | macOS 13.6.6 Ventura | arm64 | 4.4.3 (2025-02-28) -- "Trophy Case" | 4449 | 
| taishan | Linux (openEuler 24.03 LTS) | aarch64 | 4.4.3 (2025-02-28) -- "Trophy Case" | 4426 | 
| Click on any hostname to see more info about the system (e.g. compilers) (*) as reported by 'uname -p', except on Windows and Mac OS X | ||||
| Package 53/2289 | Hostname | OS / Arch | INSTALL | BUILD | CHECK | BUILD BIN | ||||||||
| ALDEx2 1.38.0  (landing page) Greg Gloor 
  | nebbiolo2 | Linux (Ubuntu 24.04.1 LTS) / x86_64 | OK | OK | OK | |||||||||
| palomino8 | Windows Server 2022 Datacenter / x64 | OK | OK | OK | OK | |||||||||
| merida1 | macOS 12.7.5 Monterey / x86_64 | OK | OK | OK | OK | |||||||||
| kjohnson1 | macOS 13.6.6 Ventura / arm64 | OK | OK | OK | OK | |||||||||
| taishan | Linux (openEuler 24.03 LTS) / aarch64 | OK | ERROR | skipped | ||||||||||
| 
To the developers/maintainers of the ALDEx2 package: - Allow up to 24 hours (and sometimes 48 hours) for your latest push to git@git.bioconductor.org:packages/ALDEx2.git to reflect on this report. See Troubleshooting Build Report for more information. - Use the following Renviron settings to reproduce errors and warnings. - If 'R CMD check' started to fail recently on the Linux builder(s) over a missing dependency, add the missing dependency to 'Suggests:' in your DESCRIPTION file. See Renviron.bioc for more information.  | 
| Package: ALDEx2 | 
| Version: 1.38.0 | 
| Command: /Library/Frameworks/R.framework/Resources/bin/R CMD check --install=check:ALDEx2.install-out.txt --library=/Library/Frameworks/R.framework/Resources/library --no-vignettes --timings ALDEx2_1.38.0.tar.gz | 
| StartedAt: 2025-04-01 10:32:25 -0400 (Tue, 01 Apr 2025) | 
| EndedAt: 2025-04-01 10:36:44 -0400 (Tue, 01 Apr 2025) | 
| EllapsedTime: 259.2 seconds | 
| RetCode: 0 | 
| Status: OK | 
| CheckDir: ALDEx2.Rcheck | 
| Warnings: 0 | 
##############################################################################
##############################################################################
###
### Running command:
###
###   /Library/Frameworks/R.framework/Resources/bin/R CMD check --install=check:ALDEx2.install-out.txt --library=/Library/Frameworks/R.framework/Resources/library --no-vignettes --timings ALDEx2_1.38.0.tar.gz
###
##############################################################################
##############################################################################
* using log directory ‘/Users/biocbuild/bbs-3.20-bioc/meat/ALDEx2.Rcheck’
* using R version 4.4.3 (2025-02-28)
* using platform: aarch64-apple-darwin20
* R was compiled by
    Apple clang version 14.0.0 (clang-1400.0.29.202)
    GNU Fortran (GCC) 12.2.0
* running under: macOS Ventura 13.7.1
* using session charset: UTF-8
* using option ‘--no-vignettes’
* checking for file ‘ALDEx2/DESCRIPTION’ ... OK
* checking extension type ... Package
* this is package ‘ALDEx2’ version ‘1.38.0’
* checking package namespace information ... OK
* checking package dependencies ... OK
* checking if this is a source package ... OK
* checking if there is a namespace ... OK
* checking for hidden files and directories ... OK
* checking for portable file names ... OK
* checking for sufficient/correct file permissions ... OK
* checking whether package ‘ALDEx2’ can be installed ... OK
* checking installed package size ... OK
* checking package directory ... OK
* checking ‘build’ directory ... OK
* checking DESCRIPTION meta-information ... OK
* checking top-level files ... OK
* checking for left-over files ... OK
* checking index information ... OK
* checking package subdirectories ... OK
* checking code files for non-ASCII characters ... OK
* checking R files for syntax errors ... OK
* checking whether the package can be loaded ... OK
* checking whether the package can be loaded with stated dependencies ... OK
* checking whether the package can be unloaded cleanly ... OK
* checking whether the namespace can be loaded with stated dependencies ... OK
* checking whether the namespace can be unloaded cleanly ... OK
* checking dependencies in R code ... OK
* checking S3 generic/method consistency ... OK
* checking replacement functions ... OK
* checking foreign function calls ... OK
* checking R code for possible problems ... OK
* checking Rd files ... OK
* checking Rd metadata ... NOTE
Invalid package aliases in Rd file 'ALDEx2m-package.Rd':
  ‘ALDEx2m-package’
* checking Rd cross-references ... OK
* checking for missing documentation entries ... OK
* checking for code/documentation mismatches ... OK
* checking Rd \usage sections ... OK
* checking Rd contents ... OK
* checking for unstated dependencies in examples ... OK
* checking contents of ‘data’ directory ... OK
* checking data for non-ASCII characters ... OK
* checking data for ASCII and uncompressed saves ... OK
* checking files in ‘vignettes’ ... OK
* checking examples ... OK
* checking for unstated dependencies in ‘tests’ ... OK
* checking tests ...
  Running ‘testthat.R’
 OK
* checking for unstated dependencies in vignettes ... OK
* checking package vignettes ... OK
* checking running R code from vignettes ... SKIPPED
* checking re-building of vignette outputs ... SKIPPED
* checking PDF version of manual ... OK
* DONE
Status: 1 NOTE
See
  ‘/Users/biocbuild/bbs-3.20-bioc/meat/ALDEx2.Rcheck/00check.log’
for details.
ALDEx2.Rcheck/00install.out
############################################################################## ############################################################################## ### ### Running command: ### ### /Library/Frameworks/R.framework/Resources/bin/R CMD INSTALL ALDEx2 ### ############################################################################## ############################################################################## * installing to library ‘/Library/Frameworks/R.framework/Versions/4.4-arm64/Resources/library’ * installing *source* package ‘ALDEx2’ ... ** using staged installation ** R ** data ** inst ** byte-compile and prepare package for lazy loading ** help *** installing help indices ** building package indices ** installing vignettes ** testing if installed package can be loaded from temporary location ** testing if installed package can be loaded from final location ** testing if installed package keeps a record of temporary installation path * DONE (ALDEx2)
ALDEx2.Rcheck/tests/testthat.Rout
R version 4.4.3 (2025-02-28) -- "Trophy Case"
Copyright (C) 2025 The R Foundation for Statistical Computing
Platform: aarch64-apple-darwin20
R is free software and comes with ABSOLUTELY NO WARRANTY.
You are welcome to redistribute it under certain conditions.
Type 'license()' or 'licence()' for distribution details.
R is a collaborative project with many contributors.
Type 'contributors()' for more information and
'citation()' on how to cite R or R packages in publications.
Type 'demo()' for some demos, 'help()' for on-line help, or
'help.start()' for an HTML browser interface to help.
Type 'q()' to quit R.
> library(testthat)
> library(ALDEx2)
Loading required package: zCompositions
Loading required package: MASS
Loading required package: NADA
Loading required package: survival
Attaching package: 'NADA'
The following object is masked from 'package:stats':
    cor
Loading required package: truncnorm
Loading required package: lattice
Loading required package: latticeExtra
> 
> test_check("ALDEx2")
[ FAIL 0 | WARN 5 | SKIP 0 | PASS 34 ]
[ FAIL 0 | WARN 5 | SKIP 0 | PASS 34 ]
> 
> proc.time()
   user  system elapsed 
 70.169   3.299  74.545 
ALDEx2.Rcheck/ALDEx2-Ex.timings
| name | user | system | elapsed | |
| ALDEx2m-package | 0 | 0 | 0 | |
| aldex | 1.676 | 0.599 | 2.285 | |
| aldex.clr-class | 0.080 | 0.004 | 0.084 | |
| aldex.corr | 1.561 | 0.056 | 1.617 | |
| aldex.effect | 0.209 | 0.005 | 0.214 | |
| aldex.expectedDistance | 0.411 | 0.025 | 0.435 | |
| aldex.glm | 3.173 | 0.046 | 3.298 | |
| aldex.glm.effect | 0.434 | 0.020 | 0.462 | |
| aldex.glm.plot | 0.000 | 0.000 | 0.001 | |
| aldex.kw | 1.628 | 0.028 | 1.670 | |
| aldex.makeScaleMatrix | 0.017 | 0.002 | 0.020 | |
| aldex.plot | 0 | 0 | 0 | |
| aldex.plotFeature | 0.128 | 0.008 | 0.136 | |
| aldex.set.mode | 0.071 | 0.004 | 0.075 | |
| aldex.ttest | 0.135 | 0.006 | 0.141 | |
| getConditions-method | 0.069 | 0.005 | 0.074 | |
| getDenom-method | 0.093 | 0.005 | 0.097 | |
| getDirichletInstances-method | 0.071 | 0.005 | 0.075 | |
| getDirichletReplicate-method | 0.072 | 0.005 | 0.077 | |
| getDirichletSample-method | 0.069 | 0.005 | 0.073 | |
| getFeatureNames-method | 0.085 | 0.013 | 0.100 | |
| getFeatures-method | 0.074 | 0.003 | 0.078 | |
| getMonteCarloInstances-method | 0.073 | 0.003 | 0.077 | |
| getMonteCarloReplicate-method | 0.075 | 0.004 | 0.079 | |
| getMonteCarloSample-method | 0.075 | 0.004 | 0.078 | |
| getReads-method | 0.072 | 0.003 | 0.077 | |
| getSampleIDs-method | 0.070 | 0.003 | 0.074 | |
| getScaleSamples-method | 0.069 | 0.004 | 0.073 | |
| numConditions-method | 0.070 | 0.004 | 0.074 | |
| numFeatures-method | 0.070 | 0.004 | 0.074 | |
| numMCInstances-method | 0.082 | 0.006 | 0.087 | |