rcellminerData 1.2.2 Augustin Luna , Vinodh Rajapakse
 | Snapshot Date: 2016-04-20 09:20:20 -0700 (Wed, 20 Apr 2016) |  | URL: https://hedgehog.fhcrc.org/bioc-data/branches/RELEASE_3_2/experiment/pkgs/rcellminerData |  | Last Changed Rev: 3526 / Revision: 3730 |  | Last Changed Date: 2015-12-08 17:21:47 -0800 (Tue, 08 Dec 2015) |  
  | zin1  | Linux (Ubuntu 14.04.2 LTS) / x86_64  | [ OK ] |  OK  |  WARNINGS  |  |   | 
##############################################################################
##############################################################################
###
### Running command:
###
###   /home/biocbuild/bbs-3.2-bioc/R/bin/R CMD INSTALL rcellminerData
###
##############################################################################
##############################################################################
* installing to library ‘/home/biocbuild/bbs-3.2-bioc/R/library’
* installing *source* package ‘rcellminerData’ ...
** data
*** moving datasets to lazyload DB
** inst
** help
*** installing help indices
** building package indices
** installing vignettes
** testing if installed package can be loaded
* DONE (rcellminerData)