ppiData 0.8.0 Bioconductor Package Maintainer
 | Snapshot Date: 2016-04-20 09:20:20 -0700 (Wed, 20 Apr 2016) |  | URL: https://hedgehog.fhcrc.org/bioc-data/branches/RELEASE_3_2/experiment/pkgs/ppiData |  | Last Changed Rev: 3460 / Revision: 3730 |  | Last Changed Date: 2015-10-13 13:14:23 -0700 (Tue, 13 Oct 2015) |  
  | zin1  | Linux (Ubuntu 14.04.2 LTS) / x86_64  | [ OK ] |  OK  |  WARNINGS  |  |   | 
##############################################################################
##############################################################################
###
### Running command:
###
###   /home/biocbuild/bbs-3.2-bioc/R/bin/R CMD INSTALL ppiData
###
##############################################################################
##############################################################################
* installing to library ‘/home/biocbuild/bbs-3.2-bioc/R/library’
* installing *source* package ‘ppiData’ ...
** R
** data
*** moving datasets to lazyload DB
** inst
** preparing package for lazy loading
** help
*** installing help indices
** building package indices
** installing vignettes
** testing if installed package can be loaded
* DONE (ppiData)