| trackViewer 1.6.1 Jianhong Ou
 
 | Snapshot Date: 2016-04-22 16:20:12 -0700 (Fri, 22 Apr 2016) |  | URL: https://hedgehog.fhcrc.org/bioconductor/branches/RELEASE_3_2/madman/Rpacks/trackViewer |  | Last Changed Rev: 109998 / Revision: 116712 |  | Last Changed Date: 2015-10-27 10:14:13 -0700 (Tue, 27 Oct 2015) | 
 | zin1 | Linux (Ubuntu 14.04.2 LTS) / x86_64 | OK | OK | OK |  |  | 
| moscato1 | Windows Server 2008 R2 Standard (64-bit) / x64 | [ OK ] | OK | OK | OK |  | 
| oaxaca | Mac OS X Mavericks (10.9.5) / x86_64 | OK | OK | OK | OK |  | 
##############################################################################
##############################################################################
###
### Running command:
###
###   rm -rf trackViewer.buildbin-libdir && mkdir trackViewer.buildbin-libdir  && C:\cygwin\bin\curl.exe -O http://zin1/BBS/3.2/bioc/src/contrib/trackViewer_1.6.1.tar.gz && D:\biocbld\bbs-3.2-bioc\R\bin\R.exe CMD INSTALL --build --library=trackViewer.buildbin-libdir --merge-multiarch trackViewer_1.6.1.tar.gz && D:\biocbld\bbs-3.2-bioc\R\bin\R.exe CMD INSTALL trackViewer_1.6.1.zip  && rm trackViewer_1.6.1.tar.gz trackViewer_1.6.1.zip
###
##############################################################################
##############################################################################
  % Total    % Received % Xferd  Average Speed   Time    Time     Time  Current
                                 Dload  Upload   Total   Spent    Left  Speed
  0     0    0     0    0     0      0      0 --:--:-- --:--:-- --:--:--     0
100 78293  100 78293    0     0  4591k      0 --:--:-- --:--:-- --:--:-- 6371k
install for i386
* installing *source* package 'trackViewer' ...
** R
** inst
** preparing package for lazy loading
** help
*** installing help indices
** building package indices
** installing vignettes
** testing if installed package can be loaded
install for x64
* installing *source* package 'trackViewer' ...
** testing if installed package can be loaded
* MD5 sums
packaged installation of 'trackViewer' as trackViewer_1.6.1.zip
* DONE (trackViewer)
* installing to library 'D:/biocbld/bbs-3.2-bioc/R/library'
package 'trackViewer' successfully unpacked and MD5 sums checked