| openCyto 1.8.4 Mike Jiang
 
 | Snapshot Date: 2016-04-22 16:20:12 -0700 (Fri, 22 Apr 2016) |  | URL: https://hedgehog.fhcrc.org/bioconductor/branches/RELEASE_3_2/madman/Rpacks/openCyto |  | Last Changed Rev: 111335 / Revision: 116712 |  | Last Changed Date: 2015-12-08 12:10:25 -0800 (Tue, 08 Dec 2015) | 
 | zin1 | Linux (Ubuntu 14.04.2 LTS) / x86_64 | OK | OK | OK |  |  | 
| moscato1 | Windows Server 2008 R2 Standard (64-bit) / x64 | OK | OK | OK | [ OK ] |  | 
| oaxaca | Mac OS X Mavericks (10.9.5) / x86_64 | OK | OK | WARNINGS | OK |  | 
##############################################################################
##############################################################################
###
### Running command:
###
###   cd openCyto.buildbin-libdir/openCyto && zip -r ../../openCyto_1.8.4.zip . & cd ../..
###
##############################################################################
##############################################################################
  adding: CITATION (188 bytes security) (deflated 54%)
  adding: DESCRIPTION (188 bytes security) (deflated 37%)
  adding: doc/ (208 bytes security) (stored 0%)
  adding: doc/HowToWriteCSVTemplate.html (188 bytes security) (deflated 76%)
  adding: doc/HowToWriteCSVTemplate.Rmd (188 bytes security) (deflated 63%)
  adding: doc/index.html (188 bytes security) (deflated 66%)
  adding: doc/openCytoVignette.html (188 bytes security) (deflated 33%)
  adding: doc/openCytoVignette.Rmd (188 bytes security) (deflated 62%)
  adding: extdata/ (208 bytes security) (stored 0%)
  adding: extdata/gating_template/ (208 bytes security) (stored 0%)
  adding: extdata/gating_template/bcell.csv (188 bytes security) (deflated 63%)
  adding: extdata/gating_template/ICS.csv (188 bytes security) (deflated 60%)
  adding: extdata/gating_template/ICS_080.csv (188 bytes security) (deflated 72%)
  adding: extdata/gating_template/ITN_Newell.csv (188 bytes security) (deflated 60%)
  adding: extdata/gating_template/tcell.csv (188 bytes security) (deflated 54%)
  adding: extdata/gating_template/treg.csv (188 bytes security) (deflated 63%)
  adding: help/ (208 bytes security) (stored 0%)
  adding: help/aliases.rds (188 bytes security) (stored 0%)
  adding: help/AnIndex (188 bytes security) (deflated 79%)
  adding: help/openCyto.rdb (188 bytes security) (deflated 2%)
  adding: help/openCyto.rdx (188 bytes security) (stored 0%)
  adding: help/paths.rds (188 bytes security) (stored 0%)
  adding: html/ (208 bytes security) (stored 0%)
  adding: html/00Index.html (188 bytes security) (deflated 80%)
  adding: html/R.css (188 bytes security) (deflated 75%)
  adding: INDEX (188 bytes security) (deflated 75%)
  adding: libs/ (208 bytes security) (stored 0%)
  adding: libs/i386/ (208 bytes security) (stored 0%)
  adding: libs/i386/openCyto.dll (188 bytes security) (deflated 65%)
  adding: libs/x64/ (208 bytes security) (stored 0%)
  adding: libs/x64/openCyto.dll (188 bytes security) (deflated 69%)
  adding: MD5 (188 bytes security) (deflated 46%)
  adding: Meta/ (208 bytes security) (stored 0%)
  adding: Meta/hsearch.rds (188 bytes security) (stored 0%)
  adding: Meta/links.rds (188 bytes security) (stored 0%)
  adding: Meta/nsInfo.rds (188 bytes security) (stored 0%)
  adding: Meta/package.rds (188 bytes security) (stored 0%)
  adding: Meta/Rd.rds (188 bytes security) (stored 0%)
  adding: Meta/vignette.rds (188 bytes security) (stored 0%)
  adding: NAMESPACE (188 bytes security) (deflated 71%)
  adding: NEWS (188 bytes security) (deflated 41%)
  adding: R/ (208 bytes security) (stored 0%)
  adding: R/openCyto (188 bytes security) (deflated 41%)
  adding: R/openCyto.rdb (188 bytes security) (deflated 17%)
  adding: R/openCyto.rdx (188 bytes security) (stored 0%)
  adding: tests/ (208 bytes security) (stored 0%)
  adding: tests/expectResults.rds (188 bytes security) (deflated 0%)
  adding: tests/gating-testSuite.R (188 bytes security) (deflated 76%)
  adding: tests/gatingResults.rds (188 bytes security) (stored 0%)
  adding: tests/test-misc.R (188 bytes security) (deflated 40%)
  adding: tests/test-pluginFramework.R (188 bytes security) (deflated 80%)
  adding: tests/test-template-parsing.R (188 bytes security) (deflated 81%)
  adding: tests/test_gating_functions.R (188 bytes security) (deflated 54%)