| bioDist 1.42.0 Bioconductor Package Maintainer
 
 | Snapshot Date: 2016-04-22 16:20:12 -0700 (Fri, 22 Apr 2016) |  | URL: https://hedgehog.fhcrc.org/bioconductor/branches/RELEASE_3_2/madman/Rpacks/bioDist |  | Last Changed Rev: 109589 / Revision: 116712 |  | Last Changed Date: 2015-10-13 12:36:05 -0700 (Tue, 13 Oct 2015) | 
 | zin1 | Linux (Ubuntu 14.04.2 LTS) / x86_64 | OK | OK | OK |  |  | 
| moscato1 | Windows Server 2008 R2 Standard (64-bit) / x64 | OK | OK | OK | [ OK ] |  | 
| oaxaca | Mac OS X Mavericks (10.9.5) / x86_64 | OK | OK | OK | OK |  | 
##############################################################################
##############################################################################
###
### Running command:
###
###   cd bioDist.buildbin-libdir/bioDist && zip -r ../../bioDist_1.42.0.zip . & cd ../..
###
##############################################################################
##############################################################################
  adding: DESCRIPTION (188 bytes security) (deflated 33%)
  adding: doc/ (208 bytes security) (stored 0%)
  adding: doc/bioDist.pdf (188 bytes security) (deflated 7%)
  adding: doc/bioDist.R (188 bytes security) (deflated 72%)
  adding: doc/bioDist.Rnw (188 bytes security) (deflated 55%)
  adding: doc/index.html (188 bytes security) (deflated 58%)
  adding: help/ (208 bytes security) (stored 0%)
  adding: help/aliases.rds (188 bytes security) (stored 0%)
  adding: help/AnIndex (188 bytes security) (deflated 78%)
  adding: help/bioDist.rdb (188 bytes security) (deflated 1%)
  adding: help/bioDist.rdx (188 bytes security) (stored 0%)
  adding: help/paths.rds (188 bytes security) (stored 0%)
  adding: html/ (208 bytes security) (stored 0%)
  adding: html/00Index.html (188 bytes security) (deflated 75%)
  adding: html/R.css (188 bytes security) (deflated 75%)
  adding: INDEX (188 bytes security) (deflated 63%)
  adding: MD5 (188 bytes security) (deflated 43%)
  adding: Meta/ (208 bytes security) (stored 0%)
  adding: Meta/hsearch.rds (188 bytes security) (stored 0%)
  adding: Meta/links.rds (188 bytes security) (stored 0%)
  adding: Meta/nsInfo.rds (188 bytes security) (stored 0%)
  adding: Meta/package.rds (188 bytes security) (stored 0%)
  adding: Meta/Rd.rds (188 bytes security) (stored 0%)
  adding: Meta/vignette.rds (188 bytes security) (stored 0%)
  adding: NAMESPACE (188 bytes security) (deflated 61%)
  adding: R/ (208 bytes security) (stored 0%)
  adding: R/bioDist (188 bytes security) (deflated 41%)
  adding: R/bioDist.rdb (188 bytes security) (deflated 46%)
  adding: R/bioDist.rdx (188 bytes security) (stored 0%)